| Back to Multiple platform build/check report for BioC 3.10 |
|
This page was generated on 2020-04-15 12:26:23 -0400 (Wed, 15 Apr 2020).
| Package 372/1823 | Hostname | OS / Arch | INSTALL | BUILD | CHECK | BUILD BIN | ||||||
| CountClust 1.14.0 Kushal Dey
| malbec1 | Linux (Ubuntu 18.04.4 LTS) / x86_64 | ERROR | ERROR | skipped | |||||||
| tokay1 | Windows Server 2012 R2 Standard / x64 | ERROR | [ ERROR ] | skipped | skipped | |||||||
| merida1 | OS X 10.11.6 El Capitan / x86_64 | ERROR | ERROR | skipped | skipped |
| Package: CountClust |
| Version: 1.14.0 |
| Command: chmod a+r CountClust -R && C:\Users\biocbuild\bbs-3.10-bioc\R\bin\R.exe CMD build --keep-empty-dirs --no-resave-data CountClust |
| StartedAt: 2020-04-14 22:51:18 -0400 (Tue, 14 Apr 2020) |
| EndedAt: 2020-04-14 22:51:23 -0400 (Tue, 14 Apr 2020) |
| EllapsedTime: 4.5 seconds |
| RetCode: 1 |
| Status: ERROR |
| PackageFile: CountClust_1.14.0.tar.gz |
| PackageFileSize: 6.097 MiB |
##############################################################################
##############################################################################
###
### Running command:
###
### chmod a+r CountClust -R && C:\Users\biocbuild\bbs-3.10-bioc\R\bin\R.exe CMD build --keep-empty-dirs --no-resave-data CountClust
###
##############################################################################
##############################################################################
* checking for file 'CountClust/DESCRIPTION' ... OK
* preparing 'CountClust':
* checking DESCRIPTION meta-information ... OK
* installing the package to build vignettes
-----------------------------------
ERROR: dependency 'maptpx' is not available for package 'CountClust'
* removing 'C:/Users/biocbuild/bbs-3.10-bioc/tmpdir/Rtmpwtht6t/Rinstf341e5f36d3/CountClust'
-----------------------------------
ERROR: package installation failed