| Back to Multiple platform build/check report for BioC 3.10 |
|
This page was generated on 2020-04-15 12:23:57 -0400 (Wed, 15 Apr 2020).
| Package 365/1823 | Hostname | OS / Arch | INSTALL | BUILD | CHECK | BUILD BIN | ||||||
| CoRegNet 1.24.0 Remy Nicolle
| malbec1 | Linux (Ubuntu 18.04.4 LTS) / x86_64 | OK | OK | WARNINGS | |||||||
| tokay1 | Windows Server 2012 R2 Standard / x64 | [ OK ] | OK | WARNINGS | OK | |||||||
| merida1 | OS X 10.11.6 El Capitan / x86_64 | OK | OK | WARNINGS | OK |
| Package: CoRegNet |
| Version: 1.24.0 |
| Command: C:\cygwin\bin\curl.exe -O https://malbec1.bioconductor.org/BBS/3.10/bioc/src/contrib/CoRegNet_1.24.0.tar.gz && rm -rf CoRegNet.buildbin-libdir && mkdir CoRegNet.buildbin-libdir && C:\Users\biocbuild\bbs-3.10-bioc\R\bin\R.exe CMD INSTALL --merge-multiarch --build --library=CoRegNet.buildbin-libdir CoRegNet_1.24.0.tar.gz && C:\Users\biocbuild\bbs-3.10-bioc\R\bin\R.exe CMD INSTALL CoRegNet_1.24.0.zip && rm CoRegNet_1.24.0.tar.gz CoRegNet_1.24.0.zip |
| StartedAt: 2020-04-14 19:18:18 -0400 (Tue, 14 Apr 2020) |
| EndedAt: 2020-04-14 19:18:53 -0400 (Tue, 14 Apr 2020) |
| EllapsedTime: 34.7 seconds |
| RetCode: 0 |
| Status: OK |
##############################################################################
##############################################################################
###
### Running command:
###
### C:\cygwin\bin\curl.exe -O https://malbec1.bioconductor.org/BBS/3.10/bioc/src/contrib/CoRegNet_1.24.0.tar.gz && rm -rf CoRegNet.buildbin-libdir && mkdir CoRegNet.buildbin-libdir && C:\Users\biocbuild\bbs-3.10-bioc\R\bin\R.exe CMD INSTALL --merge-multiarch --build --library=CoRegNet.buildbin-libdir CoRegNet_1.24.0.tar.gz && C:\Users\biocbuild\bbs-3.10-bioc\R\bin\R.exe CMD INSTALL CoRegNet_1.24.0.zip && rm CoRegNet_1.24.0.tar.gz CoRegNet_1.24.0.zip
###
##############################################################################
##############################################################################
% Total % Received % Xferd Average Speed Time Time Time Current
Dload Upload Total Spent Left Speed
0 0 0 0 0 0 0 0 --:--:-- --:--:-- --:--:-- 0
100 4980k 100 4980k 0 0 58.2M 0 --:--:-- --:--:-- --:--:-- 60.7M
install for i386
* installing *source* package 'CoRegNet' ...
** using staged installation
** libs
C:/Rtools/mingw_32/bin/gcc -I"C:/Users/BIOCBU~1/BBS-3~1.10-/R/include" -DNDEBUG -I"C:/extsoft/include" -O3 -Wall -std=gnu99 -mtune=core2 -c comblicorn.c -o comblicorn.o
C:/Rtools/mingw_32/bin/gcc -shared -s -static-libgcc -o CoRegNet.dll tmp.def comblicorn.o -LC:/extsoft/lib/i386 -LC:/extsoft/lib -LC:/Users/BIOCBU~1/BBS-3~1.10-/R/bin/i386 -lR
installing to C:/Users/biocbuild/bbs-3.10-bioc/meat/CoRegNet.buildbin-libdir/00LOCK-CoRegNet/00new/CoRegNet/libs/i386
** R
** data
** inst
** byte-compile and prepare package for lazy loading
** help
*** installing help indices
converting help for package 'CoRegNet'
finding HTML links ... done
CoRegNet-class html
HumanDataExamples html
HumanTF html
addEvidences html
coRegnet-package html
coregnet html
coregulators html
discretizeExpressionData html
display html
hLICORN html
masterRegulator html
refine html
regulatorInfluence html
regulators html
summary html
** building package indices
** installing vignettes
** testing if installed package can be loaded from temporary location
** testing if installed package can be loaded from final location
** testing if installed package keeps a record of temporary installation path
install for x64
* installing *source* package 'CoRegNet' ...
** libs
C:/Rtools/mingw_64/bin/gcc -I"C:/Users/BIOCBU~1/BBS-3~1.10-/R/include" -DNDEBUG -I"C:/extsoft/include" -O2 -Wall -std=gnu99 -mtune=core2 -c comblicorn.c -o comblicorn.o
C:/Rtools/mingw_64/bin/gcc -shared -s -static-libgcc -o CoRegNet.dll tmp.def comblicorn.o -LC:/extsoft/lib/x64 -LC:/extsoft/lib -LC:/Users/BIOCBU~1/BBS-3~1.10-/R/bin/x64 -lR
installing to C:/Users/biocbuild/bbs-3.10-bioc/meat/CoRegNet.buildbin-libdir/CoRegNet/libs/x64
** testing if installed package can be loaded
* MD5 sums
packaged installation of 'CoRegNet' as CoRegNet_1.24.0.zip
* DONE (CoRegNet)
* installing to library 'C:/Users/biocbuild/bbs-3.10-bioc/R/library'
package 'CoRegNet' successfully unpacked and MD5 sums checked