| Back to Multiple platform build/check report for BioC 3.10 |
|
This page was generated on 2020-04-15 12:22:39 -0400 (Wed, 15 Apr 2020).
| Package 301/1823 | Hostname | OS / Arch | INSTALL | BUILD | CHECK | BUILD BIN | ||||||
| Clomial 1.22.0 Habil Zare
| malbec1 | Linux (Ubuntu 18.04.4 LTS) / x86_64 | OK | OK | OK | |||||||
| tokay1 | Windows Server 2012 R2 Standard / x64 | OK | OK | [ OK ] | OK | |||||||
| merida1 | OS X 10.11.6 El Capitan / x86_64 | OK | OK | OK | OK |
| Package: Clomial |
| Version: 1.22.0 |
| Command: C:\Users\biocbuild\bbs-3.10-bioc\R\bin\R.exe CMD check --force-multiarch --install=check:Clomial.install-out.txt --library=C:\Users\biocbuild\bbs-3.10-bioc\R\library --no-vignettes --timings Clomial_1.22.0.tar.gz |
| StartedAt: 2020-04-15 02:06:01 -0400 (Wed, 15 Apr 2020) |
| EndedAt: 2020-04-15 02:12:15 -0400 (Wed, 15 Apr 2020) |
| EllapsedTime: 373.6 seconds |
| RetCode: 0 |
| Status: OK |
| CheckDir: Clomial.Rcheck |
| Warnings: 0 |
##############################################################################
##############################################################################
###
### Running command:
###
### C:\Users\biocbuild\bbs-3.10-bioc\R\bin\R.exe CMD check --force-multiarch --install=check:Clomial.install-out.txt --library=C:\Users\biocbuild\bbs-3.10-bioc\R\library --no-vignettes --timings Clomial_1.22.0.tar.gz
###
##############################################################################
##############################################################################
* using log directory 'C:/Users/biocbuild/bbs-3.10-bioc/meat/Clomial.Rcheck'
* using R version 3.6.3 (2020-02-29)
* using platform: x86_64-w64-mingw32 (64-bit)
* using session charset: ISO8859-1
* using option '--no-vignettes'
* checking for file 'Clomial/DESCRIPTION' ... OK
* checking extension type ... Package
* this is package 'Clomial' version '1.22.0'
* checking package namespace information ... OK
* checking package dependencies ... OK
* checking if this is a source package ... OK
* checking if there is a namespace ... OK
* checking for hidden files and directories ... OK
* checking for portable file names ... OK
* checking whether package 'Clomial' can be installed ... OK
* checking installed package size ... OK
* checking package directory ... OK
* checking 'build' directory ... OK
* checking DESCRIPTION meta-information ... OK
* checking top-level files ... OK
* checking for left-over files ... OK
* checking index information ... OK
* checking package subdirectories ... OK
* checking R files for non-ASCII characters ... OK
* checking R files for syntax errors ... OK
* loading checks for arch 'i386'
** checking whether the package can be loaded ... OK
** checking whether the package can be loaded with stated dependencies ... OK
** checking whether the package can be unloaded cleanly ... OK
** checking whether the namespace can be loaded with stated dependencies ... OK
** checking whether the namespace can be unloaded cleanly ... OK
* loading checks for arch 'x64'
** checking whether the package can be loaded ... OK
** checking whether the package can be loaded with stated dependencies ... OK
** checking whether the package can be unloaded cleanly ... OK
** checking whether the namespace can be loaded with stated dependencies ... OK
** checking whether the namespace can be unloaded cleanly ... OK
* checking dependencies in R code ... OK
* checking S3 generic/method consistency ... OK
* checking replacement functions ... OK
* checking foreign function calls ... OK
* checking R code for possible problems ... NOTE
Clomial: no visible global function definition for 'runif'
Clomial.generate.data: no visible global function definition for
'runif'
Clomial.generate.data: no visible global function definition for
'rbinom'
Clomial.likelihood: no visible global function definition for 'dbinom'
Phi: no visible global function definition for 'dbinom'
choose.best: no visible global function definition for 'tail'
compute.P.reparam : update.Wj: no visible global function definition
for 'optim'
compute.P.reparam : plot.obj: no visible global function definition for
'plot'
compute.q: no visible global function definition for 'dbinom'
Undefined global functions or variables:
dbinom optim plot rbinom runif tail
Consider adding
importFrom("graphics", "plot")
importFrom("stats", "dbinom", "optim", "rbinom", "runif")
importFrom("utils", "tail")
to your NAMESPACE file.
* checking Rd files ... OK
* checking Rd metadata ... OK
* checking Rd cross-references ... OK
* checking for missing documentation entries ... OK
* checking for code/documentation mismatches ... OK
* checking Rd \usage sections ... OK
* checking Rd contents ... OK
* checking for unstated dependencies in examples ... OK
* checking contents of 'data' directory ... OK
* checking data for non-ASCII characters ... OK
* checking data for ASCII and uncompressed saves ... OK
* checking files in 'vignettes' ... OK
* checking examples ...
** running examples for arch 'i386' ... OK
Examples with CPU or elapsed time > 5s
user system elapsed
choose.best 68.86 2.53 71.39
Clomial 22.34 0.78 23.14
Clomial-package 20.78 0.71 21.49
Clomial.iterate 13.50 0.48 13.98
Clomial.likelihood 13.23 0.36 13.59
compute.bic 10.34 0.28 10.62
compute.errors 5.19 0.11 5.30
** running examples for arch 'x64' ... OK
Examples with CPU or elapsed time > 5s
user system elapsed
choose.best 69.75 2.20 71.95
Clomial 26.73 0.74 27.47
Clomial-package 20.95 0.57 21.53
compute.bic 15.02 0.39 15.41
Clomial.likelihood 12.66 0.34 13.00
Clomial.iterate 11.64 0.33 11.97
compute.errors 6.35 0.23 6.59
* checking for unstated dependencies in vignettes ... OK
* checking package vignettes in 'inst/doc' ... OK
* checking running R code from vignettes ... SKIPPED
* checking re-building of vignette outputs ... SKIPPED
* checking PDF version of manual ... OK
* DONE
Status: 1 NOTE
See
'C:/Users/biocbuild/bbs-3.10-bioc/meat/Clomial.Rcheck/00check.log'
for details.
Clomial.Rcheck/00install.out
##############################################################################
##############################################################################
###
### Running command:
###
### C:\cygwin\bin\curl.exe -O https://malbec1.bioconductor.org/BBS/3.10/bioc/src/contrib/Clomial_1.22.0.tar.gz && rm -rf Clomial.buildbin-libdir && mkdir Clomial.buildbin-libdir && C:\Users\biocbuild\bbs-3.10-bioc\R\bin\R.exe CMD INSTALL --merge-multiarch --build --library=Clomial.buildbin-libdir Clomial_1.22.0.tar.gz && C:\Users\biocbuild\bbs-3.10-bioc\R\bin\R.exe CMD INSTALL Clomial_1.22.0.zip && rm Clomial_1.22.0.tar.gz Clomial_1.22.0.zip
###
##############################################################################
##############################################################################
% Total % Received % Xferd Average Speed Time Time Time Current
Dload Upload Total Spent Left Speed
0 0 0 0 0 0 0 0 --:--:-- --:--:-- --:--:-- 0
100 1290k 100 1290k 0 0 22.6M 0 --:--:-- --:--:-- --:--:-- 24.2M
install for i386
* installing *source* package 'Clomial' ...
** using staged installation
** R
** data
** inst
** byte-compile and prepare package for lazy loading
** help
*** installing help indices
converting help for package 'Clomial'
finding HTML links ... done
Clomial-package html
Clomial html
Clomial.generate.data html
Clomial.iterate html
Clomial.likelihood html
Clomial1000 html
breastCancer html
choose.best html
compute.bic html
compute.errors html
** building package indices
** installing vignettes
** testing if installed package can be loaded from temporary location
** testing if installed package can be loaded from final location
** testing if installed package keeps a record of temporary installation path
install for x64
* installing *source* package 'Clomial' ...
** testing if installed package can be loaded
* MD5 sums
packaged installation of 'Clomial' as Clomial_1.22.0.zip
* DONE (Clomial)
* installing to library 'C:/Users/biocbuild/bbs-3.10-bioc/R/library'
package 'Clomial' successfully unpacked and MD5 sums checked
|
Clomial.Rcheck/examples_i386/Clomial-Ex.timings
|
Clomial.Rcheck/examples_x64/Clomial-Ex.timings
|