| Back to Multiple platform build/check report for BioC 3.10 |
|
This page was generated on 2020-04-15 12:22:04 -0400 (Wed, 15 Apr 2020).
| Package 263/1823 | Hostname | OS / Arch | INSTALL | BUILD | CHECK | BUILD BIN | ||||||
| ChemmineOB 1.24.0 Thomas Girke
| malbec1 | Linux (Ubuntu 18.04.4 LTS) / x86_64 | OK | OK | OK | |||||||
| tokay1 | Windows Server 2012 R2 Standard / x64 | OK | OK | OK | [ OK ] | |||||||
| merida1 | OS X 10.11.6 El Capitan / x86_64 | OK | OK | WARNINGS | OK |
| Package: ChemmineOB |
| Version: 1.24.0 |
| Command: rm -rf ChemmineOB.buildbin-libdir && mkdir ChemmineOB.buildbin-libdir && C:\Users\biocbuild\bbs-3.10-bioc\R\bin\R.exe CMD INSTALL --merge-multiarch --build --library=ChemmineOB.buildbin-libdir ChemmineOB_1.24.0.tar.gz |
| StartedAt: 2020-04-15 08:23:07 -0400 (Wed, 15 Apr 2020) |
| EndedAt: 2020-04-15 08:30:40 -0400 (Wed, 15 Apr 2020) |
| EllapsedTime: 453.3 seconds |
| RetCode: 0 |
| Status: OK |
| PackageFile: ChemmineOB_1.24.0.zip |
| PackageFileSize: 7.353 MiB |
##############################################################################
##############################################################################
###
### Running command:
###
### rm -rf ChemmineOB.buildbin-libdir && mkdir ChemmineOB.buildbin-libdir && C:\Users\biocbuild\bbs-3.10-bioc\R\bin\R.exe CMD INSTALL --merge-multiarch --build --library=ChemmineOB.buildbin-libdir ChemmineOB_1.24.0.tar.gz
###
##############################################################################
##############################################################################
install for i386
* installing *source* package 'ChemmineOB' ...
** using staged installation
**********************************************
WARNING: this package has a configure script
It probably needs manual configuration
**********************************************
** libs
C:/Rtools/mingw_32/bin/g++ -std=gnu++11 -I"C:/Users/BIOCBU~1/BBS-3~1.10-/R/include" -DNDEBUG -I"C:/Users/biocbuild/bbs-3.10-bioc/R/library/BH/include" -I"C:/Users/biocbuild/bbs-3.10-bioc/R/library/Rcpp/include" -I"C:/extsoft/include" -Ic:/openbabel/src/i386/include -O2 -Wall -mtune=core2 -c ChemmineOB.cpp -o ChemmineOB.o
ChemmineOB.cpp: In function 'SEXPREC* SWIG_MakePtr(void*, const char*, R_SWIG_Owner)':
ChemmineOB.cpp:953:15: warning: variable 'p' set but not used [-Wunused-but-set-variable]
const char *p = typeName;
^
C:/Rtools/mingw_32/bin/g++ -std=gnu++11 -I"C:/Users/BIOCBU~1/BBS-3~1.10-/R/include" -DNDEBUG -I"C:/Users/biocbuild/bbs-3.10-bioc/R/library/BH/include" -I"C:/Users/biocbuild/bbs-3.10-bioc/R/library/Rcpp/include" -I"C:/extsoft/include" -Ic:/openbabel/src/i386/include -O2 -Wall -mtune=core2 -c canonical.cpp -o canonical.o
C:/Rtools/mingw_32/bin/g++ -std=gnu++11 -shared -s -static-libgcc -o ChemmineOB.dll tmp.def ChemmineOB.o canonical.o -Lc:/openbabel/bin/i386/bin -lopenbabel -LC:/Users/biocbuild/bbs-3.10-bioc/R/library/zlibbioc/libs/i386 -lzlib1bioc -LC:/extsoft/lib/i386 -LC:/extsoft/lib -LC:/Users/BIOCBU~1/BBS-3~1.10-/R/bin/i386 -lR
installing to C:/Users/biocbuild/bbs-3.10-bioc/meat/ChemmineOB.buildbin-libdir/00LOCK-ChemmineOB/00new/ChemmineOB/libs/i386
** R
** inst
** byte-compile and prepare package for lazy loading
in method for 'copyToR' with signature '"_p_std::pair<(unsigned int,unsigned int)>"': no definition for class "_p_std::pair<(unsigned int,unsigned int)>"
in method for 'copyToR' with signature '"_p_OpenBabel::DoubleType"': no definition for class "_p_OpenBabel::DoubleType"
in method for 'copyToR' with signature '"_p_OpenBabel::CharPtrLess"': no definition for class "_p_OpenBabel::CharPtrLess"
in method for 'copyToR' with signature '"_p_OpenBabel::FptIndexHeader"': no definition for class "_p_OpenBabel::FptIndexHeader"
in method for 'copyToR' with signature '"_p_OpenBabel::LineSearchType"': no definition for class "_p_OpenBabel::LineSearchType"
** help
*** installing help indices
converting help for package 'ChemmineOB'
finding HTML links ... done
OB-classes html
canonicalNumbering_OB html
convertFormat html
convertFormatFile html
convertToImage html
exactMass_OB html
fingerprint_OB html
forEachMol html
prop_OB html
smartsSearch_OB html
** building package indices
** installing vignettes
** testing if installed package can be loaded from temporary location
** testing if installed package can be loaded from final location
** testing if installed package keeps a record of temporary installation path
install for x64
* installing *source* package 'ChemmineOB' ...
**********************************************
WARNING: this package has a configure script
It probably needs manual configuration
**********************************************
** libs
C:/Rtools/mingw_64/bin/g++ -std=gnu++11 -I"C:/Users/BIOCBU~1/BBS-3~1.10-/R/include" -DNDEBUG -I"C:/Users/biocbuild/bbs-3.10-bioc/R/library/BH/include" -I"C:/Users/biocbuild/bbs-3.10-bioc/R/library/Rcpp/include" -I"C:/extsoft/include" -Ic:/openbabel/src/x64/include -O2 -Wall -mtune=core2 -c ChemmineOB.cpp -o ChemmineOB.o
ChemmineOB.cpp: In function 'SEXPREC* SWIG_MakePtr(void*, const char*, R_SWIG_Owner)':
ChemmineOB.cpp:953:15: warning: variable 'p' set but not used [-Wunused-but-set-variable]
const char *p = typeName;
^
C:/Rtools/mingw_64/bin/g++ -std=gnu++11 -I"C:/Users/BIOCBU~1/BBS-3~1.10-/R/include" -DNDEBUG -I"C:/Users/biocbuild/bbs-3.10-bioc/R/library/BH/include" -I"C:/Users/biocbuild/bbs-3.10-bioc/R/library/Rcpp/include" -I"C:/extsoft/include" -Ic:/openbabel/src/x64/include -O2 -Wall -mtune=core2 -c canonical.cpp -o canonical.o
C:/Rtools/mingw_64/bin/g++ -std=gnu++11 -shared -s -static-libgcc -o ChemmineOB.dll tmp.def ChemmineOB.o canonical.o -Lc:/openbabel/bin/x64/bin -lopenbabel -LC:/Users/biocbuild/bbs-3.10-bioc/R/library/zlibbioc/libs/x64 -lzlib1bioc -LC:/extsoft/lib/x64 -LC:/extsoft/lib -LC:/Users/BIOCBU~1/BBS-3~1.10-/R/bin/x64 -lR
installing to C:/Users/biocbuild/bbs-3.10-bioc/meat/ChemmineOB.buildbin-libdir/ChemmineOB/libs/x64
** testing if installed package can be loaded
* MD5 sums
packaged installation of 'ChemmineOB' as ChemmineOB_1.24.0.zip
* DONE (ChemmineOB)