| Back to Multiple platform build/check report for BioC 3.10 | 
  | 
This page was generated on 2020-04-15 12:36:01 -0400 (Wed, 15 Apr 2020).
| Package 280/1823 | Hostname | OS / Arch | INSTALL | BUILD | CHECK | BUILD BIN | ||||||
| ChIPsim 1.40.0 Peter Humburg 
  | malbec1 | Linux (Ubuntu 18.04.4 LTS) / x86_64 | OK | OK | OK | |||||||
| tokay1 | Windows Server 2012 R2 Standard / x64 | OK | OK | OK | OK | |||||||
| merida1 | OS X 10.11.6 El Capitan / x86_64 | OK | OK | OK | [ OK ] | 
| Package: ChIPsim | 
| Version: 1.40.0 | 
| Command: rm -rf ChIPsim.buildbin-libdir && mkdir ChIPsim.buildbin-libdir && /Users/biocbuild/BBS/utils/build-universal.sh ChIPsim_1.40.0.tar.gz /Library/Frameworks/R.framework/Versions/Current/Resources/bin/R ChIPsim.buildbin-libdir | 
| StartedAt: 2020-04-15 07:05:26 -0400 (Wed, 15 Apr 2020) | 
| EndedAt: 2020-04-15 07:06:40 -0400 (Wed, 15 Apr 2020) | 
| EllapsedTime: 73.2 seconds | 
| RetCode: 0 | 
| Status: OK | 
| PackageFile: ChIPsim_1.40.0.tgz | 
| PackageFileSize: 603 KiB | 
############################################################################## ############################################################################## ### ### Running command: ### ### rm -rf ChIPsim.buildbin-libdir && mkdir ChIPsim.buildbin-libdir && /Users/biocbuild/BBS/utils/build-universal.sh ChIPsim_1.40.0.tar.gz /Library/Frameworks/R.framework/Versions/Current/Resources/bin/R ChIPsim.buildbin-libdir ### ############################################################################## ############################################################################## >>>>>>> >>>>>>> INSTALLATION WITH 'R CMD INSTALL --preclean --no-multiarch --library=ChIPsim.buildbin-libdir ChIPsim_1.40.0.tar.gz' >>>>>>> * installing *source* package ‘ChIPsim’ ... ** using staged installation ** R ** inst ** byte-compile and prepare package for lazy loading ** help *** installing help indices ** building package indices ** installing vignettes ** testing if installed package can be loaded from temporary location ** testing if installed package can be loaded from final location ** testing if installed package keeps a record of temporary installation path * DONE (ChIPsim)