| Back to Multiple platform build/check report for BioC 3.10 |
|
This page was generated on 2020-04-15 12:05:41 -0400 (Wed, 15 Apr 2020).
| Package 278/1823 | Hostname | OS / Arch | INSTALL | BUILD | CHECK | BUILD BIN | ||||||
| ChIPseqR 1.40.0 Peter Humburg
| malbec1 | Linux (Ubuntu 18.04.4 LTS) / x86_64 | [ OK ] | OK | WARNINGS | |||||||
| tokay1 | Windows Server 2012 R2 Standard / x64 | OK | OK | WARNINGS | OK | |||||||
| merida1 | OS X 10.11.6 El Capitan / x86_64 | OK | OK | WARNINGS | OK |
| Package: ChIPseqR |
| Version: 1.40.0 |
| Command: /home/biocbuild/bbs-3.10-bioc/R/bin/R CMD INSTALL ChIPseqR |
| StartedAt: 2020-04-14 18:36:51 -0400 (Tue, 14 Apr 2020) |
| EndedAt: 2020-04-14 18:37:24 -0400 (Tue, 14 Apr 2020) |
| EllapsedTime: 33.1 seconds |
| RetCode: 0 |
| Status: OK |
##############################################################################
##############################################################################
###
### Running command:
###
### /home/biocbuild/bbs-3.10-bioc/R/bin/R CMD INSTALL ChIPseqR
###
##############################################################################
##############################################################################
* installing to library ‘/home/biocbuild/bbs-3.10-bioc/R/library’
* installing *source* package ‘ChIPseqR’ ...
** using staged installation
** libs
gcc -I"/home/biocbuild/bbs-3.10-bioc/R/include" -DNDEBUG -I/usr/local/include -fpic -g -O2 -Wall -c startScore.c -o startScore.o
startScore.c: In function ‘_ratioStat_pois’:
startScore.c:66:15: warning: unused variable ‘tmp_stat’ [-Wunused-variable]
double stat, tmp_stat;
^~~~~~~~
gcc -shared -L/home/biocbuild/bbs-3.10-bioc/R/lib -L/usr/local/lib -o ChIPseqR.so startScore.o -L/home/biocbuild/bbs-3.10-bioc/R/lib -lR
installing to /home/biocbuild/bbs-3.10-bioc/R/library/00LOCK-ChIPseqR/00new/ChIPseqR/libs
** R
** inst
** byte-compile and prepare package for lazy loading
Warning: replacing previous import ‘BiocGenerics::image’ by ‘graphics::image’ when loading ‘ChIPseqR’
Warning: replacing previous import ‘S4Vectors::head’ by ‘utils::head’ when loading ‘ChIPseqR’
Warning: replacing previous import ‘S4Vectors::tail’ by ‘utils::tail’ when loading ‘ChIPseqR’
No methods found in package ‘IRanges’ for request: ‘score’ when loading ‘ChIPseqR’
** help
*** installing help indices
** building package indices
** installing vignettes
** testing if installed package can be loaded from temporary location
Warning: replacing previous import ‘BiocGenerics::image’ by ‘graphics::image’ when loading ‘ChIPseqR’
Warning: replacing previous import ‘S4Vectors::head’ by ‘utils::head’ when loading ‘ChIPseqR’
Warning: replacing previous import ‘S4Vectors::tail’ by ‘utils::tail’ when loading ‘ChIPseqR’
No methods found in package ‘IRanges’ for request: ‘score’ when loading ‘ChIPseqR’
** checking absolute paths in shared objects and dynamic libraries
** testing if installed package can be loaded from final location
Warning: replacing previous import ‘BiocGenerics::image’ by ‘graphics::image’ when loading ‘ChIPseqR’
Warning: replacing previous import ‘S4Vectors::head’ by ‘utils::head’ when loading ‘ChIPseqR’
Warning: replacing previous import ‘S4Vectors::tail’ by ‘utils::tail’ when loading ‘ChIPseqR’
No methods found in package ‘IRanges’ for request: ‘score’ when loading ‘ChIPseqR’
** testing if installed package keeps a record of temporary installation path
* DONE (ChIPseqR)