| Back to Multiple platform build/check report for BioC 3.10 |
|
This page was generated on 2020-04-15 12:05:36 -0400 (Wed, 15 Apr 2020).
| Package 274/1823 | Hostname | OS / Arch | INSTALL | BUILD | CHECK | BUILD BIN | ||||||
| ChIPpeakAnno 3.20.1 Lihua Julie Zhu
| malbec1 | Linux (Ubuntu 18.04.4 LTS) / x86_64 | OK | OK | [ OK ] | |||||||
| tokay1 | Windows Server 2012 R2 Standard / x64 | OK | OK | OK | OK | |||||||
| merida1 | OS X 10.11.6 El Capitan / x86_64 | OK | OK | OK | OK |
| Package: ChIPpeakAnno |
| Version: 3.20.1 |
| Command: /home/biocbuild/bbs-3.10-bioc/R/bin/R CMD check --install=check:ChIPpeakAnno.install-out.txt --library=/home/biocbuild/bbs-3.10-bioc/R/library --no-vignettes --timings ChIPpeakAnno_3.20.1.tar.gz |
| StartedAt: 2020-04-15 00:39:33 -0400 (Wed, 15 Apr 2020) |
| EndedAt: 2020-04-15 00:47:47 -0400 (Wed, 15 Apr 2020) |
| EllapsedTime: 493.7 seconds |
| RetCode: 0 |
| Status: OK |
| CheckDir: ChIPpeakAnno.Rcheck |
| Warnings: 0 |
##############################################################################
##############################################################################
###
### Running command:
###
### /home/biocbuild/bbs-3.10-bioc/R/bin/R CMD check --install=check:ChIPpeakAnno.install-out.txt --library=/home/biocbuild/bbs-3.10-bioc/R/library --no-vignettes --timings ChIPpeakAnno_3.20.1.tar.gz
###
##############################################################################
##############################################################################
* using log directory ‘/home/biocbuild/bbs-3.10-bioc/meat/ChIPpeakAnno.Rcheck’
* using R version 3.6.3 (2020-02-29)
* using platform: x86_64-pc-linux-gnu (64-bit)
* using session charset: UTF-8
* using option ‘--no-vignettes’
* checking for file ‘ChIPpeakAnno/DESCRIPTION’ ... OK
* checking extension type ... Package
* this is package ‘ChIPpeakAnno’ version ‘3.20.1’
* package encoding: UTF-8
* checking package namespace information ... OK
* checking package dependencies ... NOTE
Depends: includes the non-default packages:
'grid', 'IRanges', 'Biostrings', 'GenomicRanges', 'S4Vectors',
'VennDiagram'
Adding so many packages to the search path is excessive and importing
selectively is preferable.
* checking if this is a source package ... OK
* checking if there is a namespace ... OK
* checking for hidden files and directories ... OK
* checking for portable file names ... OK
* checking for sufficient/correct file permissions ... OK
* checking whether package ‘ChIPpeakAnno’ can be installed ... OK
* checking installed package size ... NOTE
installed size is 19.0Mb
sub-directories of 1Mb or more:
data 12.6Mb
extdata 5.2Mb
* checking package directory ... OK
* checking ‘build’ directory ... OK
* checking DESCRIPTION meta-information ... OK
* checking top-level files ... OK
* checking for left-over files ... OK
* checking index information ... OK
* checking package subdirectories ... OK
* checking R files for non-ASCII characters ... OK
* checking R files for syntax errors ... OK
* checking whether the package can be loaded ... OK
* checking whether the package can be loaded with stated dependencies ... OK
* checking whether the package can be unloaded cleanly ... OK
* checking whether the namespace can be loaded with stated dependencies ... OK
* checking whether the namespace can be unloaded cleanly ... OK
* checking dependencies in R code ... OK
* checking S3 generic/method consistency ... OK
* checking replacement functions ... OK
* checking foreign function calls ... OK
* checking R code for possible problems ... OK
* checking Rd files ... OK
* checking Rd metadata ... OK
* checking Rd cross-references ... OK
* checking for missing documentation entries ... OK
* checking for code/documentation mismatches ... OK
* checking Rd \usage sections ... OK
* checking Rd contents ... OK
* checking for unstated dependencies in examples ... OK
* checking contents of ‘data’ directory ... OK
* checking data for non-ASCII characters ... OK
* checking data for ASCII and uncompressed saves ... OK
* checking files in ‘vignettes’ ... OK
* checking examples ... OK
Examples with CPU or elapsed time > 5s
user system elapsed
findEnhancers 26.24 0.024 26.295
* checking for unstated dependencies in ‘tests’ ... OK
* checking tests ...
Running ‘runTests.R’
OK
* checking for unstated dependencies in vignettes ... OK
* checking package vignettes in ‘inst/doc’ ... OK
* checking running R code from vignettes ... SKIPPED
* checking re-building of vignette outputs ... SKIPPED
* checking PDF version of manual ... OK
* DONE
Status: 2 NOTEs
See
‘/home/biocbuild/bbs-3.10-bioc/meat/ChIPpeakAnno.Rcheck/00check.log’
for details.
ChIPpeakAnno.Rcheck/00install.out
############################################################################## ############################################################################## ### ### Running command: ### ### /home/biocbuild/bbs-3.10-bioc/R/bin/R CMD INSTALL ChIPpeakAnno ### ############################################################################## ############################################################################## * installing to library ‘/home/biocbuild/bbs-3.10-bioc/R/library’ * installing *source* package ‘ChIPpeakAnno’ ... ** using staged installation ** R ** data ** inst ** byte-compile and prepare package for lazy loading ** help *** installing help indices ** building package indices ** installing vignettes ** testing if installed package can be loaded from temporary location ** testing if installed package can be loaded from final location ** testing if installed package keeps a record of temporary installation path * DONE (ChIPpeakAnno)
ChIPpeakAnno.Rcheck/tests/runTests.Rout
R version 3.6.3 (2020-02-29) -- "Holding the Windsock"
Copyright (C) 2020 The R Foundation for Statistical Computing
Platform: x86_64-pc-linux-gnu (64-bit)
R is free software and comes with ABSOLUTELY NO WARRANTY.
You are welcome to redistribute it under certain conditions.
Type 'license()' or 'licence()' for distribution details.
R is a collaborative project with many contributors.
Type 'contributors()' for more information and
'citation()' on how to cite R or R packages in publications.
Type 'demo()' for some demos, 'help()' for on-line help, or
'help.start()' for an HTML browser interface to help.
Type 'q()' to quit R.
> require("ChIPpeakAnno") || stop("unable to load Package:ChIPpeakAnno")
Loading required package: ChIPpeakAnno
Loading required package: grid
Loading required package: IRanges
Loading required package: BiocGenerics
Loading required package: parallel
Attaching package: 'BiocGenerics'
The following objects are masked from 'package:parallel':
clusterApply, clusterApplyLB, clusterCall, clusterEvalQ,
clusterExport, clusterMap, parApply, parCapply, parLapply,
parLapplyLB, parRapply, parSapply, parSapplyLB
The following objects are masked from 'package:stats':
IQR, mad, sd, var, xtabs
The following objects are masked from 'package:base':
Filter, Find, Map, Position, Reduce, anyDuplicated, append,
as.data.frame, basename, cbind, colnames, dirname, do.call,
duplicated, eval, evalq, get, grep, grepl, intersect, is.unsorted,
lapply, mapply, match, mget, order, paste, pmax, pmax.int, pmin,
pmin.int, rank, rbind, rownames, sapply, setdiff, sort, table,
tapply, union, unique, unsplit, which, which.max, which.min
Loading required package: S4Vectors
Loading required package: stats4
Attaching package: 'S4Vectors'
The following object is masked from 'package:base':
expand.grid
Loading required package: Biostrings
Loading required package: XVector
Attaching package: 'Biostrings'
The following object is masked from 'package:base':
strsplit
Loading required package: GenomicRanges
Loading required package: GenomeInfoDb
Loading required package: VennDiagram
Loading required package: futile.logger
[1] TRUE
> require("BSgenome.Drerio.UCSC.danRer7") || stop("unable to load Package:BSgenome.Drerio.UCSC.danRer7")
Loading required package: BSgenome.Drerio.UCSC.danRer7
Loading required package: BSgenome
Loading required package: rtracklayer
[1] TRUE
> require("org.Hs.eg.db") || stop("unable to load Package:org.Hs.eg.db")
Loading required package: org.Hs.eg.db
Loading required package: AnnotationDbi
Loading required package: Biobase
Welcome to Bioconductor
Vignettes contain introductory material; view with
'browseVignettes()'. To cite Bioconductor, see
'citation("Biobase")', and for packages 'citation("pkgname")'.
[1] TRUE
> require("org.Ce.eg.db") || stop("unable to load Package:org.Ce.eg.db")
Loading required package: org.Ce.eg.db
[1] TRUE
> require("BSgenome.Celegans.UCSC.ce10") || stop("unable to load Package:BSgenome.Celegans.UCSC.ce10")
Loading required package: BSgenome.Celegans.UCSC.ce10
[1] TRUE
> require("EnsDb.Hsapiens.v79") || stop("unable to load Package:EnsDb.Hsapiens.v79")
Loading required package: EnsDb.Hsapiens.v79
Loading required package: ensembldb
Loading required package: GenomicFeatures
Loading required package: AnnotationFilter
Attaching package: 'ensembldb'
The following object is masked from 'package:stats':
filter
[1] TRUE
> require("TxDb.Hsapiens.UCSC.hg38.knownGene") || stop("unable to load TxDb.Hsapiens.UCSC.hg38.knownGene")
Loading required package: TxDb.Hsapiens.UCSC.hg38.knownGene
[1] TRUE
> require("biomaRt") || stop("unable to load biomaRt")
Loading required package: biomaRt
[1] TRUE
> require("testthat") || stop("unable to load testthat")
Loading required package: testthat
Attaching package: 'testthat'
The following object is masked from 'package:AnnotationFilter':
not
[1] TRUE
> test_check("ChIPpeakAnno")
══ testthat results ═══════════════════════════════════════════════════════════
[ OK: 186 | SKIPPED: 5 | WARNINGS: 1 | FAILED: 0 ]
>
> proc.time()
user system elapsed
91.608 1.092 93.737
ChIPpeakAnno.Rcheck/ChIPpeakAnno-Ex.timings
| name | user | system | elapsed | |
| BED2RangedData | 0.040 | 0.000 | 0.041 | |
| ChIPpeakAnno-package | 0 | 0 | 0 | |
| ExonPlusUtr.human.GRCh37 | 4.092 | 0.072 | 4.167 | |
| GFF2RangedData | 0.020 | 0.004 | 0.022 | |
| HOT.spots | 0.204 | 0.000 | 0.205 | |
| IDRfilter | 0.000 | 0.000 | 0.002 | |
| Peaks.Ste12.Replicate1 | 0.048 | 0.000 | 0.047 | |
| Peaks.Ste12.Replicate2 | 0.012 | 0.000 | 0.012 | |
| Peaks.Ste12.Replicate3 | 0.012 | 0.000 | 0.012 | |
| TSS.human.GRCh37 | 0.152 | 0.000 | 0.152 | |
| TSS.human.GRCh38 | 0.616 | 0.020 | 0.636 | |
| TSS.human.NCBI36 | 0.176 | 0.012 | 0.190 | |
| TSS.mouse.GRCm38 | 0.276 | 0.000 | 0.279 | |
| TSS.mouse.NCBIM37 | 0.128 | 0.000 | 0.130 | |
| TSS.rat.RGSC3.4 | 0.096 | 0.000 | 0.094 | |
| TSS.rat.Rnor_5.0 | 0.072 | 0.012 | 0.087 | |
| TSS.zebrafish.Zv8 | 0.216 | 0.004 | 0.222 | |
| TSS.zebrafish.Zv9 | 0.164 | 0.008 | 0.170 | |
| addAncestors | 2.480 | 0.040 | 2.522 | |
| addGeneIDs | 2.032 | 0.132 | 2.192 | |
| addMetadata | 1.736 | 0.028 | 1.769 | |
| annoGR | 0.000 | 0.000 | 0.001 | |
| annoPeaks | 2.444 | 0.196 | 3.441 | |
| annotatePeakInBatch | 3.200 | 0.064 | 3.267 | |
| annotatedPeak | 0.140 | 0.000 | 0.141 | |
| assignChromosomeRegion | 0.000 | 0.000 | 0.002 | |
| bdp | 0.000 | 0.000 | 0.001 | |
| binOverFeature | 1.100 | 0.016 | 1.118 | |
| binOverGene | 0.000 | 0.000 | 0.002 | |
| binOverRegions | 0.004 | 0.000 | 0.001 | |
| condenseMatrixByColnames | 0.020 | 0.000 | 0.022 | |
| convert2EntrezID | 0.364 | 0.000 | 0.367 | |
| countPatternInSeqs | 0.152 | 0.000 | 0.154 | |
| cumulativePercentage | 0.000 | 0.000 | 0.001 | |
| egOrgMap | 0.000 | 0.000 | 0.001 | |
| enrichedGO | 0.004 | 0.000 | 0.003 | |
| estFragmentLength | 0 | 0 | 0 | |
| estLibSize | 0.000 | 0.000 | 0.001 | |
| featureAlignedDistribution | 0.332 | 0.000 | 0.333 | |
| featureAlignedExtentSignal | 0.004 | 0.000 | 0.003 | |
| featureAlignedHeatmap | 0.78 | 0.00 | 0.78 | |
| featureAlignedSignal | 0.276 | 0.028 | 0.307 | |
| findEnhancers | 26.240 | 0.024 | 26.295 | |
| findOverlappingPeaks | 0.000 | 0.000 | 0.001 | |
| findOverlapsOfPeaks | 0.560 | 0.004 | 0.598 | |
| getAllPeakSequence | 0.744 | 0.012 | 1.379 | |
| getAnnotation | 0.000 | 0.000 | 0.001 | |
| getEnrichedGO | 0.020 | 0.000 | 0.018 | |
| getEnrichedPATH | 0 | 0 | 0 | |
| getGeneSeq | 0.000 | 0.000 | 0.003 | |
| getUniqueGOidCount | 0.004 | 0.000 | 0.001 | |
| getVennCounts | 0.004 | 0.000 | 0.002 | |
| hyperGtest | 0.000 | 0.000 | 0.001 | |
| makeVennDiagram | 0.000 | 0.004 | 0.006 | |
| mergePlusMinusPeaks | 0.004 | 0.000 | 0.001 | |
| myPeakList | 0.028 | 0.000 | 0.029 | |
| oligoFrequency | 0.008 | 0.004 | 0.011 | |
| oligoSummary | 0 | 0 | 0 | |
| peakPermTest | 0.000 | 0.000 | 0.002 | |
| peaksNearBDP | 0.000 | 0.000 | 0.001 | |
| pie1 | 0.008 | 0.004 | 0.012 | |
| plotBinOverRegions | 0.004 | 0.000 | 0.001 | |
| preparePool | 0.000 | 0.000 | 0.001 | |
| reCenterPeaks | 0.040 | 0.000 | 0.041 | |
| summarizeOverlapsByBins | 3.148 | 0.868 | 3.780 | |
| summarizePatternInPeaks | 0.784 | 0.032 | 0.816 | |
| tileCount | 0.276 | 0.160 | 0.399 | |
| tileGRanges | 0.188 | 0.072 | 0.037 | |
| toGRanges | 0.160 | 0.004 | 0.166 | |
| translatePattern | 0 | 0 | 0 | |
| wgEncodeTfbsV3 | 0.228 | 0.000 | 0.229 | |
| write2FASTA | 0.012 | 0.004 | 0.014 | |
| xget | 0.112 | 0.004 | 0.115 | |