| Back to Multiple platform build/check report for BioC 3.10 |
|
This page was generated on 2020-04-15 12:29:50 -0400 (Wed, 15 Apr 2020).
| Package 279/1823 | Hostname | OS / Arch | INSTALL | BUILD | CHECK | BUILD BIN | ||||||
| ChIPSeqSpike 1.6.0 Nicolas Descostes
| malbec1 | Linux (Ubuntu 18.04.4 LTS) / x86_64 | OK | OK | OK | |||||||
| tokay1 | Windows Server 2012 R2 Standard / x64 | [ OK ] | OK | OK | OK | |||||||
| merida1 | OS X 10.11.6 El Capitan / x86_64 | OK | OK | OK | OK |
| Package: ChIPSeqSpike |
| Version: 1.6.0 |
| Command: C:\cygwin\bin\curl.exe -O https://malbec1.bioconductor.org/BBS/3.10/bioc/src/contrib/ChIPSeqSpike_1.6.0.tar.gz && rm -rf ChIPSeqSpike.buildbin-libdir && mkdir ChIPSeqSpike.buildbin-libdir && C:\Users\biocbuild\bbs-3.10-bioc\R\bin\R.exe CMD INSTALL --merge-multiarch --build --library=ChIPSeqSpike.buildbin-libdir ChIPSeqSpike_1.6.0.tar.gz && C:\Users\biocbuild\bbs-3.10-bioc\R\bin\R.exe CMD INSTALL ChIPSeqSpike_1.6.0.zip && rm ChIPSeqSpike_1.6.0.tar.gz ChIPSeqSpike_1.6.0.zip |
| StartedAt: 2020-04-14 19:57:08 -0400 (Tue, 14 Apr 2020) |
| EndedAt: 2020-04-14 19:58:40 -0400 (Tue, 14 Apr 2020) |
| EllapsedTime: 91.8 seconds |
| RetCode: 0 |
| Status: OK |
##############################################################################
##############################################################################
###
### Running command:
###
### C:\cygwin\bin\curl.exe -O https://malbec1.bioconductor.org/BBS/3.10/bioc/src/contrib/ChIPSeqSpike_1.6.0.tar.gz && rm -rf ChIPSeqSpike.buildbin-libdir && mkdir ChIPSeqSpike.buildbin-libdir && C:\Users\biocbuild\bbs-3.10-bioc\R\bin\R.exe CMD INSTALL --merge-multiarch --build --library=ChIPSeqSpike.buildbin-libdir ChIPSeqSpike_1.6.0.tar.gz && C:\Users\biocbuild\bbs-3.10-bioc\R\bin\R.exe CMD INSTALL ChIPSeqSpike_1.6.0.zip && rm ChIPSeqSpike_1.6.0.tar.gz ChIPSeqSpike_1.6.0.zip
###
##############################################################################
##############################################################################
% Total % Received % Xferd Average Speed Time Time Time Current
Dload Upload Total Spent Left Speed
0 0 0 0 0 0 0 0 --:--:-- --:--:-- --:--:-- 0
44 4080k 44 1808k 0 0 1770k 0 0:00:02 0:00:01 0:00:01 1777k
69 4080k 69 2816k 0 0 1691k 0 0:00:02 0:00:01 0:00:01 1694k
100 4080k 100 4080k 0 0 1955k 0 0:00:02 0:00:02 --:--:-- 1958k
install for i386
* installing *source* package 'ChIPSeqSpike' ...
** using staged installation
** R
** data
** inst
** byte-compile and prepare package for lazy loading
** help
*** installing help indices
converting help for package 'ChIPSeqSpike'
finding HTML links ... done
ChIPSeqSpikeCore html
ChIPSeqSpikeDataset-class html
ChIPSeqSpikeDatasetBoost-class html
ChIPSeqSpikeDatasetList-class html
ChIPSeqSpikeDatasetListBoost-class html
Experiment-class html
ExperimentLoaded-class html
averageBindingValues html
bigWigFile html
boxplotSpike html
count html
datasetList html
estimateScalingFactors html
exoCount html
exogenousScalingFactor html
experimentList html
exportBigWigs html
extractBinding html
getAverageBindingValues html
getBam html
getBigWigFile html
getCount html
getDatasetList html
getExoCount html
getExogenousBam html
getExogenousScalingFactor html
getExpName html
getExperimentList html
getExperimentListBigWigs html
getLoadedData html
getMatBindingValues html
getRatio html
getScalingFactor html
inputSubtraction html
matBindingValues html
plotCor html
plotHeatmaps html
plotProfile html
plotTransform html
ratio html
result_data html
scaling html
scalingFactor html
spikeDataset html
spikePipe html
spikeSummary html
** building package indices
** installing vignettes
'ChIPSeqSpike.Rmd' using 'UTF-8'
** testing if installed package can be loaded from temporary location
** testing if installed package can be loaded from final location
** testing if installed package keeps a record of temporary installation path
install for x64
* installing *source* package 'ChIPSeqSpike' ...
** testing if installed package can be loaded
* MD5 sums
packaged installation of 'ChIPSeqSpike' as ChIPSeqSpike_1.6.0.zip
* DONE (ChIPSeqSpike)
* installing to library 'C:/Users/biocbuild/bbs-3.10-bioc/R/library'
package 'ChIPSeqSpike' successfully unpacked and MD5 sums checked