| Back to Multiple platform build/check report for BioC 3.10 |
|
This page was generated on 2020-04-15 12:27:07 -0400 (Wed, 15 Apr 2020).
| Package 223/1823 | Hostname | OS / Arch | INSTALL | BUILD | CHECK | BUILD BIN | ||||||
| CancerSubtypes 1.12.1 Taosheng Xu
| malbec1 | Linux (Ubuntu 18.04.4 LTS) / x86_64 | OK | OK | OK | |||||||
| tokay1 | Windows Server 2012 R2 Standard / x64 | [ OK ] | OK | OK | OK | |||||||
| merida1 | OS X 10.11.6 El Capitan / x86_64 | OK | OK | OK | OK |
| Package: CancerSubtypes |
| Version: 1.12.1 |
| Command: C:\cygwin\bin\curl.exe -O https://malbec1.bioconductor.org/BBS/3.10/bioc/src/contrib/CancerSubtypes_1.12.1.tar.gz && rm -rf CancerSubtypes.buildbin-libdir && mkdir CancerSubtypes.buildbin-libdir && C:\Users\biocbuild\bbs-3.10-bioc\R\bin\R.exe CMD INSTALL --merge-multiarch --build --library=CancerSubtypes.buildbin-libdir CancerSubtypes_1.12.1.tar.gz && C:\Users\biocbuild\bbs-3.10-bioc\R\bin\R.exe CMD INSTALL CancerSubtypes_1.12.1.zip && rm CancerSubtypes_1.12.1.tar.gz CancerSubtypes_1.12.1.zip |
| StartedAt: 2020-04-14 20:30:53 -0400 (Tue, 14 Apr 2020) |
| EndedAt: 2020-04-14 20:31:20 -0400 (Tue, 14 Apr 2020) |
| EllapsedTime: 27.2 seconds |
| RetCode: 0 |
| Status: OK |
##############################################################################
##############################################################################
###
### Running command:
###
### C:\cygwin\bin\curl.exe -O https://malbec1.bioconductor.org/BBS/3.10/bioc/src/contrib/CancerSubtypes_1.12.1.tar.gz && rm -rf CancerSubtypes.buildbin-libdir && mkdir CancerSubtypes.buildbin-libdir && C:\Users\biocbuild\bbs-3.10-bioc\R\bin\R.exe CMD INSTALL --merge-multiarch --build --library=CancerSubtypes.buildbin-libdir CancerSubtypes_1.12.1.tar.gz && C:\Users\biocbuild\bbs-3.10-bioc\R\bin\R.exe CMD INSTALL CancerSubtypes_1.12.1.zip && rm CancerSubtypes_1.12.1.tar.gz CancerSubtypes_1.12.1.zip
###
##############################################################################
##############################################################################
% Total % Received % Xferd Average Speed Time Time Time Current
Dload Upload Total Spent Left Speed
0 0 0 0 0 0 0 0 --:--:-- --:--:-- --:--:-- 0
100 1878k 100 1878k 0 0 23.4M 0 --:--:-- --:--:-- --:--:-- 24.7M
install for i386
* installing *source* package 'CancerSubtypes' ...
** using staged installation
** R
** data
** inst
** byte-compile and prepare package for lazy loading
** help
*** installing help indices
converting help for package 'CancerSubtypes'
finding HTML links ... done
DiffExp.limma html
ExecuteCC html
ExecuteCNMF html
finding level-2 HTML links ... done
ExecuteSNF.CC html
ExecuteSNF html
ExecuteWSNF html
ExecuteiCluster html
FSbyCox html
FSbyMAD html
FSbyPCA html
FSbyVar html
GeneExp html
Ranking html
data.checkDistribution html
data.imputation html
data.normalization html
drawHeatmap html
miRNAExp html
saveFigure html
sigclustTest html
silhouette_SimilarityMatrix html
spectralAlg html
status html
survAnalysis html
time html
** building package indices
** installing vignettes
** testing if installed package can be loaded from temporary location
** testing if installed package can be loaded from final location
** testing if installed package keeps a record of temporary installation path
install for x64
* installing *source* package 'CancerSubtypes' ...
** testing if installed package can be loaded
* MD5 sums
packaged installation of 'CancerSubtypes' as CancerSubtypes_1.12.1.zip
* DONE (CancerSubtypes)
* installing to library 'C:/Users/biocbuild/bbs-3.10-bioc/R/library'
package 'CancerSubtypes' successfully unpacked and MD5 sums checked