| Back to Multiple platform build/check report for BioC 3.10 |
|
This page was generated on 2020-04-15 12:21:54 -0400 (Wed, 15 Apr 2020).
| Package 388/1823 | Hostname | OS / Arch | INSTALL | BUILD | CHECK | BUILD BIN | ||||||
| CSSP 1.24.0 Chandler Zuo
| malbec1 | Linux (Ubuntu 18.04.4 LTS) / x86_64 | OK | OK | OK | |||||||
| tokay1 | Windows Server 2012 R2 Standard / x64 | OK | OK | OK | [ OK ] | |||||||
| merida1 | OS X 10.11.6 El Capitan / x86_64 | OK | OK | OK | OK |
| Package: CSSP |
| Version: 1.24.0 |
| Command: rm -rf CSSP.buildbin-libdir && mkdir CSSP.buildbin-libdir && C:\Users\biocbuild\bbs-3.10-bioc\R\bin\R.exe CMD INSTALL --merge-multiarch --build --library=CSSP.buildbin-libdir CSSP_1.24.0.tar.gz |
| StartedAt: 2020-04-15 08:31:04 -0400 (Wed, 15 Apr 2020) |
| EndedAt: 2020-04-15 08:31:35 -0400 (Wed, 15 Apr 2020) |
| EllapsedTime: 30.8 seconds |
| RetCode: 0 |
| Status: OK |
| PackageFile: CSSP_1.24.0.zip |
| PackageFileSize: 832.9 KiB |
##############################################################################
##############################################################################
###
### Running command:
###
### rm -rf CSSP.buildbin-libdir && mkdir CSSP.buildbin-libdir && C:\Users\biocbuild\bbs-3.10-bioc\R\bin\R.exe CMD INSTALL --merge-multiarch --build --library=CSSP.buildbin-libdir CSSP_1.24.0.tar.gz
###
##############################################################################
##############################################################################
install for i386
* installing *source* package 'CSSP' ...
** using staged installation
** libs
C:/Rtools/mingw_32/bin/gcc -I"C:/Users/BIOCBU~1/BBS-3~1.10-/R/include" -DNDEBUG -I"C:/extsoft/include" -O3 -Wall -std=gnu99 -mtune=core2 -c bincount.c -o bincount.o
C:/Rtools/mingw_32/bin/gcc -I"C:/Users/BIOCBU~1/BBS-3~1.10-/R/include" -DNDEBUG -I"C:/extsoft/include" -O3 -Wall -std=gnu99 -mtune=core2 -c binpower.c -o binpower.o
C:/Rtools/mingw_32/bin/gcc -I"C:/Users/BIOCBU~1/BBS-3~1.10-/R/include" -DNDEBUG -I"C:/extsoft/include" -O3 -Wall -std=gnu99 -mtune=core2 -c gridLogMean.c -o gridLogMean.o
C:/Rtools/mingw_32/bin/gcc -I"C:/Users/BIOCBU~1/BBS-3~1.10-/R/include" -DNDEBUG -I"C:/extsoft/include" -O3 -Wall -std=gnu99 -mtune=core2 -c gridMGC.c -o gridMGC.o
C:/Rtools/mingw_32/bin/gcc -I"C:/Users/BIOCBU~1/BBS-3~1.10-/R/include" -DNDEBUG -I"C:/extsoft/include" -O3 -Wall -std=gnu99 -mtune=core2 -c gridMean.c -o gridMean.o
gridMean.c: In function 'gridMGCmean_c':
gridMean.c:10:63: warning: unused variable 'counter' [-Wunused-variable]
R_len_t ng=REAL(ngrid)[0],k,i,j,l,ind[4],n=length(map),newG,counter;
^
gridMean.c: In function 'gridMmean_c':
gridMean.c:177:63: warning: unused variable 'counter' [-Wunused-variable]
R_len_t ng=REAL(ngrid)[0],k,i,j,l,ind[2],n=length(map),newG,counter;
^
C:/Rtools/mingw_32/bin/gcc -I"C:/Users/BIOCBU~1/BBS-3~1.10-/R/include" -DNDEBUG -I"C:/extsoft/include" -O3 -Wall -std=gnu99 -mtune=core2 -c gridMode.c -o gridMode.o
C:/Rtools/mingw_32/bin/gcc -I"C:/Users/BIOCBU~1/BBS-3~1.10-/R/include" -DNDEBUG -I"C:/extsoft/include" -O3 -Wall -std=gnu99 -mtune=core2 -c gridNonpa.c -o gridNonpa.o
C:/Rtools/mingw_32/bin/gcc -I"C:/Users/BIOCBU~1/BBS-3~1.10-/R/include" -DNDEBUG -I"C:/extsoft/include" -O3 -Wall -std=gnu99 -mtune=core2 -c gridSample.c -o gridSample.o
C:/Rtools/mingw_32/bin/gcc -I"C:/Users/BIOCBU~1/BBS-3~1.10-/R/include" -DNDEBUG -I"C:/extsoft/include" -O3 -Wall -std=gnu99 -mtune=core2 -c tag2bin.c -o tag2bin.o
C:/Rtools/mingw_32/bin/gcc -shared -s -static-libgcc -o CSSP.dll tmp.def bincount.o binpower.o gridLogMean.o gridMGC.o gridMean.o gridMode.o gridNonpa.o gridSample.o tag2bin.o -LC:/extsoft/lib/i386 -LC:/extsoft/lib -LC:/Users/BIOCBU~1/BBS-3~1.10-/R/bin/i386 -lR
installing to C:/Users/biocbuild/bbs-3.10-bioc/meat/CSSP.buildbin-libdir/00LOCK-CSSP/00new/CSSP/libs/i386
** R
** data
** inst
** byte-compile and prepare package for lazy loading
** help
*** installing help indices
converting help for package 'CSSP'
finding HTML links ... done
BinData-class html
CSSPFit-class html
bin.data html
bindata.chr1 html
bindcount html
bindcount.chr html
bindpos html
callpeak-methods html
createBinData html
cssp.fit-methods html
cssp.power-methods html
cssp.sim-methods html
fit.freq-methods html
pBBT-methods html
peakcount html
peakcount.chr html
peakpos html
qBBT-methods html
readBinFile html
sampleFit html
tag2bin html
tag2bin.chr html
tagdat_chip html
tagdat_input html
** building package indices
** installing vignettes
** testing if installed package can be loaded from temporary location
** testing if installed package can be loaded from final location
** testing if installed package keeps a record of temporary installation path
install for x64
* installing *source* package 'CSSP' ...
** libs
C:/Rtools/mingw_64/bin/gcc -I"C:/Users/BIOCBU~1/BBS-3~1.10-/R/include" -DNDEBUG -I"C:/extsoft/include" -O2 -Wall -std=gnu99 -mtune=core2 -c bincount.c -o bincount.o
C:/Rtools/mingw_64/bin/gcc -I"C:/Users/BIOCBU~1/BBS-3~1.10-/R/include" -DNDEBUG -I"C:/extsoft/include" -O2 -Wall -std=gnu99 -mtune=core2 -c binpower.c -o binpower.o
C:/Rtools/mingw_64/bin/gcc -I"C:/Users/BIOCBU~1/BBS-3~1.10-/R/include" -DNDEBUG -I"C:/extsoft/include" -O2 -Wall -std=gnu99 -mtune=core2 -c gridLogMean.c -o gridLogMean.o
C:/Rtools/mingw_64/bin/gcc -I"C:/Users/BIOCBU~1/BBS-3~1.10-/R/include" -DNDEBUG -I"C:/extsoft/include" -O2 -Wall -std=gnu99 -mtune=core2 -c gridMGC.c -o gridMGC.o
C:/Rtools/mingw_64/bin/gcc -I"C:/Users/BIOCBU~1/BBS-3~1.10-/R/include" -DNDEBUG -I"C:/extsoft/include" -O2 -Wall -std=gnu99 -mtune=core2 -c gridMean.c -o gridMean.o
gridMean.c: In function 'gridMGCmean_c':
gridMean.c:10:63: warning: unused variable 'counter' [-Wunused-variable]
R_len_t ng=REAL(ngrid)[0],k,i,j,l,ind[4],n=length(map),newG,counter;
^
gridMean.c: In function 'gridMmean_c':
gridMean.c:177:63: warning: unused variable 'counter' [-Wunused-variable]
R_len_t ng=REAL(ngrid)[0],k,i,j,l,ind[2],n=length(map),newG,counter;
^
C:/Rtools/mingw_64/bin/gcc -I"C:/Users/BIOCBU~1/BBS-3~1.10-/R/include" -DNDEBUG -I"C:/extsoft/include" -O2 -Wall -std=gnu99 -mtune=core2 -c gridMode.c -o gridMode.o
C:/Rtools/mingw_64/bin/gcc -I"C:/Users/BIOCBU~1/BBS-3~1.10-/R/include" -DNDEBUG -I"C:/extsoft/include" -O2 -Wall -std=gnu99 -mtune=core2 -c gridNonpa.c -o gridNonpa.o
C:/Rtools/mingw_64/bin/gcc -I"C:/Users/BIOCBU~1/BBS-3~1.10-/R/include" -DNDEBUG -I"C:/extsoft/include" -O2 -Wall -std=gnu99 -mtune=core2 -c gridSample.c -o gridSample.o
C:/Rtools/mingw_64/bin/gcc -I"C:/Users/BIOCBU~1/BBS-3~1.10-/R/include" -DNDEBUG -I"C:/extsoft/include" -O2 -Wall -std=gnu99 -mtune=core2 -c tag2bin.c -o tag2bin.o
C:/Rtools/mingw_64/bin/gcc -shared -s -static-libgcc -o CSSP.dll tmp.def bincount.o binpower.o gridLogMean.o gridMGC.o gridMean.o gridMode.o gridNonpa.o gridSample.o tag2bin.o -LC:/extsoft/lib/x64 -LC:/extsoft/lib -LC:/Users/BIOCBU~1/BBS-3~1.10-/R/bin/x64 -lR
installing to C:/Users/biocbuild/bbs-3.10-bioc/meat/CSSP.buildbin-libdir/CSSP/libs/x64
** testing if installed package can be loaded
* MD5 sums
packaged installation of 'CSSP' as CSSP_1.24.0.zip
* DONE (CSSP)