| Back to Multiple platform build/check report for BioC 3.10 |
|
This page was generated on 2020-04-15 12:39:29 -0400 (Wed, 15 Apr 2020).
| Package 380/1823 | Hostname | OS / Arch | INSTALL | BUILD | CHECK | BUILD BIN | ||||||
| CRISPRseek 1.26.0 Lihua Julie Zhu
| malbec1 | Linux (Ubuntu 18.04.4 LTS) / x86_64 | OK | OK | OK | |||||||
| tokay1 | Windows Server 2012 R2 Standard / x64 | OK | OK | OK | OK | |||||||
| merida1 | OS X 10.11.6 El Capitan / x86_64 | OK | OK | OK | [ OK ] |
| Package: CRISPRseek |
| Version: 1.26.0 |
| Command: rm -rf CRISPRseek.buildbin-libdir && mkdir CRISPRseek.buildbin-libdir && /Users/biocbuild/BBS/utils/build-universal.sh CRISPRseek_1.26.0.tar.gz /Library/Frameworks/R.framework/Versions/Current/Resources/bin/R CRISPRseek.buildbin-libdir |
| StartedAt: 2020-04-15 07:12:59 -0400 (Wed, 15 Apr 2020) |
| EndedAt: 2020-04-15 07:13:50 -0400 (Wed, 15 Apr 2020) |
| EllapsedTime: 50.6 seconds |
| RetCode: 0 |
| Status: OK |
| PackageFile: CRISPRseek_1.26.0.tgz |
| PackageFileSize: 700.6 KiB |
############################################################################## ############################################################################## ### ### Running command: ### ### rm -rf CRISPRseek.buildbin-libdir && mkdir CRISPRseek.buildbin-libdir && /Users/biocbuild/BBS/utils/build-universal.sh CRISPRseek_1.26.0.tar.gz /Library/Frameworks/R.framework/Versions/Current/Resources/bin/R CRISPRseek.buildbin-libdir ### ############################################################################## ############################################################################## >>>>>>> >>>>>>> INSTALLATION WITH 'R CMD INSTALL --preclean --no-multiarch --library=CRISPRseek.buildbin-libdir CRISPRseek_1.26.0.tar.gz' >>>>>>> * installing *source* package ‘CRISPRseek’ ... ** using staged installation ** R ** inst ** byte-compile and prepare package for lazy loading ** help *** installing help indices ** building package indices ** installing vignettes ** testing if installed package can be loaded from temporary location ** testing if installed package can be loaded from final location ** testing if installed package keeps a record of temporary installation path * DONE (CRISPRseek)