| Back to Multiple platform build/check report for BioC 3.10 |
|
This page was generated on 2020-04-15 12:18:02 -0400 (Wed, 15 Apr 2020).
| Package 368/1823 | Hostname | OS / Arch | INSTALL | BUILD | CHECK | BUILD BIN | ||||||
| CORREP 1.52.0 Dongxiao Zhu
| malbec1 | Linux (Ubuntu 18.04.4 LTS) / x86_64 | OK | OK | OK | |||||||
| tokay1 | Windows Server 2012 R2 Standard / x64 | [ OK ] | OK | OK | OK | |||||||
| merida1 | OS X 10.11.6 El Capitan / x86_64 | OK | OK | OK | OK |
| Package: CORREP |
| Version: 1.52.0 |
| Command: C:\cygwin\bin\curl.exe -O https://malbec1.bioconductor.org/BBS/3.10/bioc/src/contrib/CORREP_1.52.0.tar.gz && rm -rf CORREP.buildbin-libdir && mkdir CORREP.buildbin-libdir && C:\Users\biocbuild\bbs-3.10-bioc\R\bin\R.exe CMD INSTALL --merge-multiarch --build --library=CORREP.buildbin-libdir CORREP_1.52.0.tar.gz && C:\Users\biocbuild\bbs-3.10-bioc\R\bin\R.exe CMD INSTALL CORREP_1.52.0.zip && rm CORREP_1.52.0.tar.gz CORREP_1.52.0.zip |
| StartedAt: 2020-04-14 18:42:28 -0400 (Tue, 14 Apr 2020) |
| EndedAt: 2020-04-14 18:42:50 -0400 (Tue, 14 Apr 2020) |
| EllapsedTime: 21.3 seconds |
| RetCode: 0 |
| Status: OK |
##############################################################################
##############################################################################
###
### Running command:
###
### C:\cygwin\bin\curl.exe -O https://malbec1.bioconductor.org/BBS/3.10/bioc/src/contrib/CORREP_1.52.0.tar.gz && rm -rf CORREP.buildbin-libdir && mkdir CORREP.buildbin-libdir && C:\Users\biocbuild\bbs-3.10-bioc\R\bin\R.exe CMD INSTALL --merge-multiarch --build --library=CORREP.buildbin-libdir CORREP_1.52.0.tar.gz && C:\Users\biocbuild\bbs-3.10-bioc\R\bin\R.exe CMD INSTALL CORREP_1.52.0.zip && rm CORREP_1.52.0.tar.gz CORREP_1.52.0.zip
###
##############################################################################
##############################################################################
% Total % Received % Xferd Average Speed Time Time Time Current
Dload Upload Total Spent Left Speed
0 0 0 0 0 0 0 0 --:--:-- --:--:-- --:--:-- 0
100 49398 100 49398 0 0 402k 0 --:--:-- --:--:-- --:--:-- 415k
install for i386
* installing *source* package 'CORREP' ...
** using staged installation
** R
** data
** byte-compile and prepare package for lazy loading
** help
*** installing help indices
converting help for package 'CORREP'
finding HTML links ... done
CORREP-package html
cor.LRtest html
cor.LRtest.std html
cor.balance html
cor.bootci html
cor.unbalance html
gal_all html
permutest html
true.member html
** building package indices
** installing vignettes
** testing if installed package can be loaded from temporary location
** testing if installed package can be loaded from final location
** testing if installed package keeps a record of temporary installation path
install for x64
* installing *source* package 'CORREP' ...
** testing if installed package can be loaded
* MD5 sums
packaged installation of 'CORREP' as CORREP_1.52.0.zip
* DONE (CORREP)
* installing to library 'C:/Users/biocbuild/bbs-3.10-bioc/R/library'
package 'CORREP' successfully unpacked and MD5 sums checked