| Back to Multiple platform build/check report for BioC 3.10 |
|
This page was generated on 2020-04-15 12:22:28 -0400 (Wed, 15 Apr 2020).
| Package 340/1823 | Hostname | OS / Arch | INSTALL | BUILD | CHECK | BUILD BIN | ||||||
| COHCAP 1.32.0 Charles Warden
| malbec1 | Linux (Ubuntu 18.04.4 LTS) / x86_64 | OK | OK | OK | |||||||
| tokay1 | Windows Server 2012 R2 Standard / x64 | OK | OK | OK | [ OK ] | |||||||
| merida1 | OS X 10.11.6 El Capitan / x86_64 | OK | OK | OK | OK |
| Package: COHCAP |
| Version: 1.32.0 |
| Command: rm -rf COHCAP.buildbin-libdir && mkdir COHCAP.buildbin-libdir && C:\Users\biocbuild\bbs-3.10-bioc\R\bin\R.exe CMD INSTALL --merge-multiarch --build --library=COHCAP.buildbin-libdir COHCAP_1.32.0.tar.gz |
| StartedAt: 2020-04-15 08:28:01 -0400 (Wed, 15 Apr 2020) |
| EndedAt: 2020-04-15 08:29:12 -0400 (Wed, 15 Apr 2020) |
| EllapsedTime: 71.3 seconds |
| RetCode: 0 |
| Status: OK |
| PackageFile: COHCAP_1.32.0.zip |
| PackageFileSize: 942.7 KiB |
##############################################################################
##############################################################################
###
### Running command:
###
### rm -rf COHCAP.buildbin-libdir && mkdir COHCAP.buildbin-libdir && C:\Users\biocbuild\bbs-3.10-bioc\R\bin\R.exe CMD INSTALL --merge-multiarch --build --library=COHCAP.buildbin-libdir COHCAP_1.32.0.tar.gz
###
##############################################################################
##############################################################################
install for i386
* installing *source* package 'COHCAP' ...
** using staged installation
** libs
C:/Rtools/mingw_32/bin/g++ -std=gnu++11 -I"C:/Users/BIOCBU~1/BBS-3~1.10-/R/include" -DNDEBUG -I"C:/Users/biocbuild/bbs-3.10-bioc/R/library/Rcpp/include" -I"C:/Users/biocbuild/bbs-3.10-bioc/R/library/BH/include" -I"C:/extsoft/include" -O2 -Wall -mtune=core2 -c RcppExports.cpp -o RcppExports.o
C:/Rtools/mingw_32/bin/g++ -std=gnu++11 -I"C:/Users/BIOCBU~1/BBS-3~1.10-/R/include" -DNDEBUG -I"C:/Users/biocbuild/bbs-3.10-bioc/R/library/Rcpp/include" -I"C:/Users/biocbuild/bbs-3.10-bioc/R/library/BH/include" -I"C:/extsoft/include" -O2 -Wall -mtune=core2 -c Rcpp_BH_ANOVA.cpp -o Rcpp_BH_ANOVA.o
C:/Rtools/mingw_32/bin/g++ -std=gnu++11 -I"C:/Users/BIOCBU~1/BBS-3~1.10-/R/include" -DNDEBUG -I"C:/Users/biocbuild/bbs-3.10-bioc/R/library/Rcpp/include" -I"C:/Users/biocbuild/bbs-3.10-bioc/R/library/BH/include" -I"C:/extsoft/include" -O2 -Wall -mtune=core2 -c Rcpp_BH_ttest.cpp -o Rcpp_BH_ttest.o
C:/Rtools/mingw_32/bin/g++ -std=gnu++11 -shared -s -static-libgcc -o COHCAP.dll tmp.def RcppExports.o Rcpp_BH_ANOVA.o Rcpp_BH_ttest.o -LC:/extsoft/lib/i386 -LC:/extsoft/lib -LC:/Users/BIOCBU~1/BBS-3~1.10-/R/bin/i386 -lR
installing to C:/Users/biocbuild/bbs-3.10-bioc/meat/COHCAP.buildbin-libdir/00LOCK-COHCAP/00new/COHCAP/libs/i386
** R
** inst
** byte-compile and prepare package for lazy loading
** help
*** installing help indices
converting help for package 'COHCAP'
finding HTML links ... done
COHCAP.BSSeq.preprocess html
COHCAP.BSSeq_V2.methyl.table html
COHCAP.annotate html
COHCAP.avg.by.island html
COHCAP.avg.by.site html
COHCAP.denovo html
COHCAP.integrate.avg.by.island html
COHCAP.integrate.avg.by.site html
COHCAP.qc html
COHCAP.reformatFinalReport html
COHCAP.site html
** building package indices
** installing vignettes
** testing if installed package can be loaded from temporary location
** testing if installed package can be loaded from final location
** testing if installed package keeps a record of temporary installation path
install for x64
* installing *source* package 'COHCAP' ...
** libs
C:/Rtools/mingw_64/bin/g++ -std=gnu++11 -I"C:/Users/BIOCBU~1/BBS-3~1.10-/R/include" -DNDEBUG -I"C:/Users/biocbuild/bbs-3.10-bioc/R/library/Rcpp/include" -I"C:/Users/biocbuild/bbs-3.10-bioc/R/library/BH/include" -I"C:/extsoft/include" -O2 -Wall -mtune=core2 -c RcppExports.cpp -o RcppExports.o
C:/Rtools/mingw_64/bin/g++ -std=gnu++11 -I"C:/Users/BIOCBU~1/BBS-3~1.10-/R/include" -DNDEBUG -I"C:/Users/biocbuild/bbs-3.10-bioc/R/library/Rcpp/include" -I"C:/Users/biocbuild/bbs-3.10-bioc/R/library/BH/include" -I"C:/extsoft/include" -O2 -Wall -mtune=core2 -c Rcpp_BH_ANOVA.cpp -o Rcpp_BH_ANOVA.o
C:/Rtools/mingw_64/bin/g++ -std=gnu++11 -I"C:/Users/BIOCBU~1/BBS-3~1.10-/R/include" -DNDEBUG -I"C:/Users/biocbuild/bbs-3.10-bioc/R/library/Rcpp/include" -I"C:/Users/biocbuild/bbs-3.10-bioc/R/library/BH/include" -I"C:/extsoft/include" -O2 -Wall -mtune=core2 -c Rcpp_BH_ttest.cpp -o Rcpp_BH_ttest.o
C:/Rtools/mingw_64/bin/g++ -std=gnu++11 -shared -s -static-libgcc -o COHCAP.dll tmp.def RcppExports.o Rcpp_BH_ANOVA.o Rcpp_BH_ttest.o -LC:/extsoft/lib/x64 -LC:/extsoft/lib -LC:/Users/BIOCBU~1/BBS-3~1.10-/R/bin/x64 -lR
installing to C:/Users/biocbuild/bbs-3.10-bioc/meat/COHCAP.buildbin-libdir/COHCAP/libs/x64
** testing if installed package can be loaded
* MD5 sums
packaged installation of 'COHCAP' as COHCAP_1.32.0.zip
* DONE (COHCAP)