| Back to Multiple platform build/check report for BioC 3.10 |
|
This page was generated on 2020-04-15 12:31:23 -0400 (Wed, 15 Apr 2020).
| Package 333/1823 | Hostname | OS / Arch | INSTALL | BUILD | CHECK | BUILD BIN | ||||||
| COCOA 2.0.0 John Lawson
| malbec1 | Linux (Ubuntu 18.04.4 LTS) / x86_64 | OK | OK | OK | |||||||
| tokay1 | Windows Server 2012 R2 Standard / x64 | OK | OK | OK | [ OK ] | |||||||
| merida1 | OS X 10.11.6 El Capitan / x86_64 | OK | OK | OK | OK |
| Package: COCOA |
| Version: 2.0.0 |
| Command: rm -rf COCOA.buildbin-libdir && mkdir COCOA.buildbin-libdir && C:\Users\biocbuild\bbs-3.10-bioc\R\bin\R.exe CMD INSTALL --merge-multiarch --build --library=COCOA.buildbin-libdir COCOA_2.0.0.tar.gz |
| StartedAt: 2020-04-15 08:27:37 -0400 (Wed, 15 Apr 2020) |
| EndedAt: 2020-04-15 08:28:40 -0400 (Wed, 15 Apr 2020) |
| EllapsedTime: 62.8 seconds |
| RetCode: 0 |
| Status: OK |
| PackageFile: COCOA_2.0.0.zip |
| PackageFileSize: 2.638 MiB |
##############################################################################
##############################################################################
###
### Running command:
###
### rm -rf COCOA.buildbin-libdir && mkdir COCOA.buildbin-libdir && C:\Users\biocbuild\bbs-3.10-bioc\R\bin\R.exe CMD INSTALL --merge-multiarch --build --library=COCOA.buildbin-libdir COCOA_2.0.0.tar.gz
###
##############################################################################
##############################################################################
install for i386
* installing *source* package 'COCOA' ...
** using staged installation
** R
** data
** inst
** byte-compile and prepare package for lazy loading
** help
*** installing help indices
converting help for package 'COCOA'
finding HTML links ... done
COCOA html
aggregateSignal html
aggregateSignalGRList html
atf3_chr1 html
brcaATACCoord1 html
brcaATACData1 html
brcaMCoord1 html
brcaMetadata html
brcaMethylData1 html
brcaPCScores html
brcaPCScores657 html
convertToFromNullDist html
esr1_chr1 html
gata3_chr1 html
getGammaPVal html
getMetaRegionProfile html
getPermStat html
getTopRegions html
nrf1_chr1 html
regionQuantileByTargetVar html
rsRankingIndex html
rsScoreHeatmap html
rsScores html
runCOCOA html
runCOCOAPerm html
signalAlongAxis html
** building package indices
** installing vignettes
** testing if installed package can be loaded from temporary location
** testing if installed package can be loaded from final location
** testing if installed package keeps a record of temporary installation path
install for x64
* installing *source* package 'COCOA' ...
** testing if installed package can be loaded
* MD5 sums
packaged installation of 'COCOA' as COCOA_2.0.0.zip
* DONE (COCOA)