| Back to Multiple platform build/check report for BioC 3.10 |
|
This page was generated on 2020-04-15 12:25:07 -0400 (Wed, 15 Apr 2020).
| Package 327/1823 | Hostname | OS / Arch | INSTALL | BUILD | CHECK | BUILD BIN | ||||||
| CNVPanelizer 1.18.0 Thomas Wolf
| malbec1 | Linux (Ubuntu 18.04.4 LTS) / x86_64 | OK | OK | OK | |||||||
| tokay1 | Windows Server 2012 R2 Standard / x64 | [ OK ] | OK | OK | OK | |||||||
| merida1 | OS X 10.11.6 El Capitan / x86_64 | OK | OK | OK | OK |
| Package: CNVPanelizer |
| Version: 1.18.0 |
| Command: C:\cygwin\bin\curl.exe -O https://malbec1.bioconductor.org/BBS/3.10/bioc/src/contrib/CNVPanelizer_1.18.0.tar.gz && rm -rf CNVPanelizer.buildbin-libdir && mkdir CNVPanelizer.buildbin-libdir && C:\Users\biocbuild\bbs-3.10-bioc\R\bin\R.exe CMD INSTALL --merge-multiarch --build --library=CNVPanelizer.buildbin-libdir CNVPanelizer_1.18.0.tar.gz && C:\Users\biocbuild\bbs-3.10-bioc\R\bin\R.exe CMD INSTALL CNVPanelizer_1.18.0.zip && rm CNVPanelizer_1.18.0.tar.gz CNVPanelizer_1.18.0.zip |
| StartedAt: 2020-04-14 19:35:58 -0400 (Tue, 14 Apr 2020) |
| EndedAt: 2020-04-14 19:36:43 -0400 (Tue, 14 Apr 2020) |
| EllapsedTime: 44.5 seconds |
| RetCode: 0 |
| Status: OK |
##############################################################################
##############################################################################
###
### Running command:
###
### C:\cygwin\bin\curl.exe -O https://malbec1.bioconductor.org/BBS/3.10/bioc/src/contrib/CNVPanelizer_1.18.0.tar.gz && rm -rf CNVPanelizer.buildbin-libdir && mkdir CNVPanelizer.buildbin-libdir && C:\Users\biocbuild\bbs-3.10-bioc\R\bin\R.exe CMD INSTALL --merge-multiarch --build --library=CNVPanelizer.buildbin-libdir CNVPanelizer_1.18.0.tar.gz && C:\Users\biocbuild\bbs-3.10-bioc\R\bin\R.exe CMD INSTALL CNVPanelizer_1.18.0.zip && rm CNVPanelizer_1.18.0.tar.gz CNVPanelizer_1.18.0.zip
###
##############################################################################
##############################################################################
% Total % Received % Xferd Average Speed Time Time Time Current
Dload Upload Total Spent Left Speed
0 0 0 0 0 0 0 0 --:--:-- --:--:-- --:--:-- 0
100 84254 100 84254 0 0 2041k 0 --:--:-- --:--:-- --:--:-- 2285k
install for i386
* installing *source* package 'CNVPanelizer' ...
** using staged installation
** R
** data
** inst
** byte-compile and prepare package for lazy loading
** help
*** installing help indices
converting help for package 'CNVPanelizer'
finding HTML links ... done
Background html
BedToGenomicRanges html
BootList html
CNVPanelizer-package html
CNVPanelizerFromReadCounts html
CNVPanelizerFromReadCountsHelper html
CollectColumnFromAllReportTables html
CombinedNormalizedCounts html
IndexMultipleBams html
NormalizedCounts html
PlotBootstrapDistributions html
ReadCountsFromBam html
ReadXLSXToList html
ReportTables html
RunCNVPanelizerShiny html
SelectReferenceSetByInterquartileRange
html
SelectReferenceSetByKmeans html
SelectReferenceSetByPercentil html
SelectReferenceSetFromReadCounts html
StatusHeatmap html
WriteListToXLSX html
referenceReadCounts html
sampleReadCounts html
** building package indices
** installing vignettes
** testing if installed package can be loaded from temporary location
** testing if installed package can be loaded from final location
** testing if installed package keeps a record of temporary installation path
install for x64
* installing *source* package 'CNVPanelizer' ...
** testing if installed package can be loaded
* MD5 sums
packaged installation of 'CNVPanelizer' as CNVPanelizer_1.18.0.zip
* DONE (CNVPanelizer)
* installing to library 'C:/Users/biocbuild/bbs-3.10-bioc/R/library'
package 'CNVPanelizer' successfully unpacked and MD5 sums checked