| Back to Multiple platform build/check report for BioC 3.10 |
|
This page was generated on 2020-04-15 12:26:40 -0400 (Wed, 15 Apr 2020).
| Package 290/1823 | Hostname | OS / Arch | INSTALL | BUILD | CHECK | BUILD BIN | ||||||
| CHRONOS 1.14.0 Panos Balomenos
| malbec1 | Linux (Ubuntu 18.04.4 LTS) / x86_64 | OK | OK | OK | |||||||
| tokay1 | Windows Server 2012 R2 Standard / x64 | OK | OK | OK | [ OK ] | |||||||
| merida1 | OS X 10.11.6 El Capitan / x86_64 | OK | OK | OK | OK |
| Package: CHRONOS |
| Version: 1.14.0 |
| Command: rm -rf CHRONOS.buildbin-libdir && mkdir CHRONOS.buildbin-libdir && C:\Users\biocbuild\bbs-3.10-bioc\R\bin\R.exe CMD INSTALL --merge-multiarch --build --library=CHRONOS.buildbin-libdir CHRONOS_1.14.0.tar.gz |
| StartedAt: 2020-04-15 08:25:00 -0400 (Wed, 15 Apr 2020) |
| EndedAt: 2020-04-15 08:25:51 -0400 (Wed, 15 Apr 2020) |
| EllapsedTime: 51.5 seconds |
| RetCode: 0 |
| Status: OK |
| PackageFile: CHRONOS_1.14.0.zip |
| PackageFileSize: 1.322 MiB |
##############################################################################
##############################################################################
###
### Running command:
###
### rm -rf CHRONOS.buildbin-libdir && mkdir CHRONOS.buildbin-libdir && C:\Users\biocbuild\bbs-3.10-bioc\R\bin\R.exe CMD INSTALL --merge-multiarch --build --library=CHRONOS.buildbin-libdir CHRONOS_1.14.0.tar.gz
###
##############################################################################
##############################################################################
install for i386
* installing *source* package 'CHRONOS' ...
** using staged installation
** R
** inst
** byte-compile and prepare package for lazy loading
** help
*** installing help indices
converting help for package 'CHRONOS'
finding HTML links ... done
CHRONOSrun html
convertMiRNANomenclature html
convertNomenclature html
createPathwayGraphs html
downloadKEGGPathwayList html
downloadMiRecords html
downloadPathways html
extractLinearSubpathways html
extractNonLinearSubpathways html
getEdgeTypes html
importExpressions html
pathwayMeasures html
scoreSubpathways html
subpathwayKEGGmap html
subpathwayMiRNAs html
visualizeResults html
** building package indices
** installing vignettes
** testing if installed package can be loaded from temporary location
** testing if installed package can be loaded from final location
** testing if installed package keeps a record of temporary installation path
install for x64
* installing *source* package 'CHRONOS' ...
** testing if installed package can be loaded
* MD5 sums
packaged installation of 'CHRONOS' as CHRONOS_1.14.0.zip
* DONE (CHRONOS)