| Back to Multiple platform build/check report for BioC 3.10 |
|
This page was generated on 2020-04-15 12:32:01 -0400 (Wed, 15 Apr 2020).
| Package 265/1823 | Hostname | OS / Arch | INSTALL | BUILD | CHECK | BUILD BIN | ||||||
| CHETAH 1.2.0 Jurrian de Kanter
| malbec1 | Linux (Ubuntu 18.04.4 LTS) / x86_64 | OK | OK | OK | |||||||
| tokay1 | Windows Server 2012 R2 Standard / x64 | OK | OK | OK | [ OK ] | |||||||
| merida1 | OS X 10.11.6 El Capitan / x86_64 | OK | OK | OK | OK |
| Package: CHETAH |
| Version: 1.2.0 |
| Command: rm -rf CHETAH.buildbin-libdir && mkdir CHETAH.buildbin-libdir && C:\Users\biocbuild\bbs-3.10-bioc\R\bin\R.exe CMD INSTALL --merge-multiarch --build --library=CHETAH.buildbin-libdir CHETAH_1.2.0.tar.gz |
| StartedAt: 2020-04-15 08:23:13 -0400 (Wed, 15 Apr 2020) |
| EndedAt: 2020-04-15 08:24:04 -0400 (Wed, 15 Apr 2020) |
| EllapsedTime: 50.6 seconds |
| RetCode: 0 |
| Status: OK |
| PackageFile: CHETAH_1.2.0.zip |
| PackageFileSize: 10.71 MiB |
##############################################################################
##############################################################################
###
### Running command:
###
### rm -rf CHETAH.buildbin-libdir && mkdir CHETAH.buildbin-libdir && C:\Users\biocbuild\bbs-3.10-bioc\R\bin\R.exe CMD INSTALL --merge-multiarch --build --library=CHETAH.buildbin-libdir CHETAH_1.2.0.tar.gz
###
##############################################################################
##############################################################################
install for i386
* installing *source* package 'CHETAH' ...
** using staged installation
** R
** data
*** moving datasets to lazyload DB
** inst
** byte-compile and prepare package for lazy loading
** help
*** installing help indices
converting help for package 'CHETAH'
finding HTML links ... done
CHETAHclassifier html
CHETAHshiny html
Classify html
ClassifyReference html
CorrelateReference html
PlotCHETAH html
PlotTSNE html
PlotTree html
RenameBelowNode html
headneck_ref html
input_mel html
** building package indices
** installing vignettes
** testing if installed package can be loaded from temporary location
** testing if installed package can be loaded from final location
** testing if installed package keeps a record of temporary installation path
install for x64
* installing *source* package 'CHETAH' ...
** testing if installed package can be loaded
* MD5 sums
packaged installation of 'CHETAH' as CHETAH_1.2.0.zip
* DONE (CHETAH)