| Back to Multiple platform build/check report for BioC 3.10 |
|
This page was generated on 2020-04-15 12:45:47 -0400 (Wed, 15 Apr 2020).
| Package 251/1823 | Hostname | OS / Arch | INSTALL | BUILD | CHECK | BUILD BIN | ||||||
| CEMiTool 1.10.2 Helder Nakaya
| malbec1 | Linux (Ubuntu 18.04.4 LTS) / x86_64 | OK | OK | OK | |||||||
| tokay1 | Windows Server 2012 R2 Standard / x64 | OK | OK | OK | OK | |||||||
| merida1 | OS X 10.11.6 El Capitan / x86_64 | OK | OK | [ OK ] | OK |
| Package: CEMiTool |
| Version: 1.10.2 |
| Command: /Library/Frameworks/R.framework/Versions/Current/Resources/bin/R CMD check --install=check:CEMiTool.install-out.txt --library=/Library/Frameworks/R.framework/Versions/Current/Resources/library --no-vignettes --timings CEMiTool_1.10.2.tar.gz |
| StartedAt: 2020-04-15 01:03:54 -0400 (Wed, 15 Apr 2020) |
| EndedAt: 2020-04-15 01:08:49 -0400 (Wed, 15 Apr 2020) |
| EllapsedTime: 294.7 seconds |
| RetCode: 0 |
| Status: OK |
| CheckDir: CEMiTool.Rcheck |
| Warnings: 0 |
##############################################################################
##############################################################################
###
### Running command:
###
### /Library/Frameworks/R.framework/Versions/Current/Resources/bin/R CMD check --install=check:CEMiTool.install-out.txt --library=/Library/Frameworks/R.framework/Versions/Current/Resources/library --no-vignettes --timings CEMiTool_1.10.2.tar.gz
###
##############################################################################
##############################################################################
* using log directory ‘/Users/biocbuild/bbs-3.10-bioc/meat/CEMiTool.Rcheck’
* using R version 3.6.3 (2020-02-29)
* using platform: x86_64-apple-darwin15.6.0 (64-bit)
* using session charset: UTF-8
* using option ‘--no-vignettes’
* checking for file ‘CEMiTool/DESCRIPTION’ ... OK
* this is package ‘CEMiTool’ version ‘1.10.2’
* package encoding: UTF-8
* checking package namespace information ... OK
* checking package dependencies ... OK
* checking if this is a source package ... OK
* checking if there is a namespace ... OK
* checking for hidden files and directories ... OK
* checking for portable file names ... OK
* checking for sufficient/correct file permissions ... OK
* checking whether package ‘CEMiTool’ can be installed ... OK
* checking installed package size ... NOTE
installed size is 6.5Mb
sub-directories of 1Mb or more:
data 3.1Mb
extdata 2.8Mb
* checking package directory ... OK
* checking ‘build’ directory ... OK
* checking DESCRIPTION meta-information ... OK
* checking top-level files ... OK
* checking for left-over files ... OK
* checking index information ... OK
* checking package subdirectories ... OK
* checking R files for non-ASCII characters ... OK
* checking R files for syntax errors ... OK
* checking whether the package can be loaded ... OK
* checking whether the package can be loaded with stated dependencies ... OK
* checking whether the package can be unloaded cleanly ... OK
* checking whether the namespace can be loaded with stated dependencies ... OK
* checking whether the namespace can be unloaded cleanly ... OK
* checking dependencies in R code ... OK
* checking S3 generic/method consistency ... OK
* checking replacement functions ... OK
* checking foreign function calls ... OK
* checking R code for possible problems ... NOTE
flip_vector: no visible global function definition for ‘setNames’
select_genes: no visible global function definition for ‘var’
get_hubs,CEMiTool : <anonymous>: no visible global function definition
for ‘head’
get_merged_mods,CEMiTool: no visible global function definition for
‘hclust’
get_merged_mods,CEMiTool: no visible global function definition for
‘as.dist’
get_mods,CEMiTool: no visible global function definition for ‘hclust’
get_mods,CEMiTool: no visible global function definition for ‘as.dist’
get_phi,CEMiTool: no visible global function definition for ‘tail’
get_phi,CEMiTool: no visible global function definition for ‘head’
mod_gene_num,CEMiTool: no visible binding for global variable ‘modules’
mod_gene_num,CEMiTool: no visible binding for global variable
‘num_genes’
mod_summary,CEMiTool: no visible global function definition for ‘:=’
plot_gsea,CEMiTool: no visible global function definition for ‘hclust’
plot_gsea,CEMiTool: no visible global function definition for ‘dist’
plot_mean_var,CEMiTool: no visible binding for global variable ‘var’
plot_mean_var,CEMiTool: no visible binding for global variable ‘Mean’
plot_mean_var,CEMiTool: no visible binding for global variable
‘Variance’
plot_mean_var,CEMiTool: no visible binding for global variable
‘..eq.label..’
plot_mean_var,CEMiTool: no visible binding for global variable
‘..rr.label..’
plot_ora,CEMiTool : <anonymous>: no visible global function definition
for ‘head’
plot_qq,CEMiTool: no visible binding for global variable ‘data’
plot_sample_tree,CEMiTool: no visible global function definition for
‘hclust’
plot_sample_tree,CEMiTool: no visible global function definition for
‘dist’
plot_sample_tree,CEMiTool: no visible global function definition for
‘dev.off’
save_plots,CEMiTool : <anonymous>: no visible global function
definition for ‘dev.off’
save_plots,CEMiTool: no visible global function definition for
‘dev.off’
Undefined global functions or variables:
..eq.label.. ..rr.label.. := Mean Variance as.dist data dev.off dist
hclust head modules num_genes setNames tail var
Consider adding
importFrom("grDevices", "dev.off")
importFrom("stats", "as.dist", "dist", "hclust", "setNames", "var")
importFrom("utils", "data", "head", "tail")
to your NAMESPACE file.
* checking Rd files ... OK
* checking Rd metadata ... OK
* checking Rd cross-references ... OK
* checking for missing documentation entries ... OK
* checking for code/documentation mismatches ... OK
* checking Rd \usage sections ... OK
* checking Rd contents ... OK
* checking for unstated dependencies in examples ... OK
* checking contents of ‘data’ directory ... OK
* checking data for non-ASCII characters ... OK
* checking data for ASCII and uncompressed saves ... OK
* checking files in ‘vignettes’ ... OK
* checking examples ... OK
Examples with CPU or elapsed time > 5s
user system elapsed
cemitool 13.678 0.362 14.252
plot_interactions 9.826 0.160 10.059
gsea_data 6.750 1.583 4.805
plot_gsea 5.785 2.045 3.927
mod_gsea 5.446 0.977 4.323
* checking for unstated dependencies in ‘tests’ ... OK
* checking tests ...
Running ‘testthat.R’
OK
* checking for unstated dependencies in vignettes ... OK
* checking package vignettes in ‘inst/doc’ ... OK
* checking running R code from vignettes ... SKIPPED
* checking re-building of vignette outputs ... SKIPPED
* checking PDF version of manual ... OK
* DONE
Status: 2 NOTEs
See
‘/Users/biocbuild/bbs-3.10-bioc/meat/CEMiTool.Rcheck/00check.log’
for details.
CEMiTool.Rcheck/00install.out
############################################################################## ############################################################################## ### ### Running command: ### ### /Library/Frameworks/R.framework/Versions/Current/Resources/bin/R CMD INSTALL CEMiTool ### ############################################################################## ############################################################################## * installing to library ‘/Library/Frameworks/R.framework/Versions/3.6/Resources/library’ * installing *source* package ‘CEMiTool’ ... ** using staged installation ** R ** data *** moving datasets to lazyload DB ** exec ** inst ** byte-compile and prepare package for lazy loading ** help *** installing help indices ** building package indices ** installing vignettes ** testing if installed package can be loaded from temporary location ** testing if installed package can be loaded from final location ** testing if installed package keeps a record of temporary installation path * DONE (CEMiTool)
CEMiTool.Rcheck/tests/testthat.Rout
R version 3.6.3 (2020-02-29) -- "Holding the Windsock"
Copyright (C) 2020 The R Foundation for Statistical Computing
Platform: x86_64-apple-darwin15.6.0 (64-bit)
R is free software and comes with ABSOLUTELY NO WARRANTY.
You are welcome to redistribute it under certain conditions.
Type 'license()' or 'licence()' for distribution details.
R is a collaborative project with many contributors.
Type 'contributors()' for more information and
'citation()' on how to cite R or R packages in publications.
Type 'demo()' for some demos, 'help()' for on-line help, or
'help.start()' for an HTML browser interface to help.
Type 'q()' to quit R.
> library(testthat)
> library(CEMiTool)
> test_check('CEMiTool')
══ testthat results ═══════════════════════════════════════════════════════════
[ OK: 105 | SKIPPED: 0 | WARNINGS: 11 | FAILED: 0 ]
>
> proc.time()
user system elapsed
45.417 13.224 40.328
CEMiTool.Rcheck/CEMiTool-Ex.timings
| name | user | system | elapsed | |
| CEMiTool-class | 0.022 | 0.006 | 0.028 | |
| adj_data | 0.473 | 0.027 | 0.502 | |
| cem | 0.023 | 0.006 | 0.028 | |
| cemitool | 13.678 | 0.362 | 14.252 | |
| expr0 | 0.001 | 0.001 | 0.002 | |
| expr_data | 0.165 | 0.012 | 0.176 | |
| filter_expr | 0.313 | 0.013 | 0.328 | |
| find_modules | 2.000 | 0.037 | 2.058 | |
| fit_data | 2.120 | 0.046 | 2.197 | |
| generate_report | 0.000 | 0.001 | 0.000 | |
| get_adj | 0.211 | 0.014 | 0.229 | |
| get_beta_data | 0.726 | 0.012 | 0.749 | |
| get_cemitool_r2_beta | 2.053 | 0.042 | 2.118 | |
| get_connectivity | 2.129 | 0.033 | 2.187 | |
| get_hubs | 0.017 | 0.005 | 0.022 | |
| get_merged_mods | 1.114 | 0.021 | 1.147 | |
| get_mods | 0.893 | 0.018 | 0.914 | |
| get_phi | 2.171 | 0.038 | 2.298 | |
| gsea_data | 6.750 | 1.583 | 4.805 | |
| interactions_data | 1.191 | 0.489 | 0.534 | |
| mod_colors | 0.023 | 0.005 | 0.028 | |
| mod_gene_num | 0.082 | 0.009 | 0.091 | |
| mod_gsea | 5.446 | 0.977 | 4.323 | |
| mod_names | 0.075 | 0.089 | 0.024 | |
| mod_ora | 4.171 | 0.756 | 4.169 | |
| mod_summary | 0.354 | 0.061 | 0.336 | |
| module_genes | 0.105 | 0.084 | 0.044 | |
| new_cem | 0.065 | 0.050 | 0.026 | |
| nmodules | 0.102 | 0.114 | 0.054 | |
| ora_data | 4.132 | 0.261 | 4.208 | |
| plot_beta_r2 | 0.226 | 0.008 | 0.236 | |
| plot_gsea | 5.785 | 2.045 | 3.927 | |
| plot_hist | 0.771 | 0.013 | 0.790 | |
| plot_interactions | 9.826 | 0.160 | 10.059 | |
| plot_mean_k | 0.247 | 0.006 | 0.255 | |
| plot_mean_var | 0.478 | 0.021 | 0.503 | |
| plot_ora | 4.285 | 0.148 | 4.480 | |
| plot_profile | 2.467 | 0.027 | 2.518 | |
| plot_qq | 0.530 | 0.012 | 0.544 | |
| plot_sample_tree | 0.758 | 0.008 | 0.770 | |
| read_gmt | 0.845 | 0.013 | 0.860 | |
| sample_annot | 0.003 | 0.002 | 0.004 | |
| sample_annotation | 0.020 | 0.003 | 0.022 | |
| save_plots | 0.030 | 0.004 | 0.034 | |
| select_genes | 0.254 | 0.017 | 0.274 | |
| show_plot | 0.175 | 0.002 | 0.177 | |
| write_files | 2.889 | 1.519 | 1.023 | |