| Back to Multiple platform build/check report for BioC 3.10 |
|
This page was generated on 2020-04-15 12:24:54 -0400 (Wed, 15 Apr 2020).
| Package 224/1823 | Hostname | OS / Arch | INSTALL | BUILD | CHECK | BUILD BIN | ||||||
| CAnD 1.18.0 Caitlin McHugh
| malbec1 | Linux (Ubuntu 18.04.4 LTS) / x86_64 | OK | OK | OK | |||||||
| tokay1 | Windows Server 2012 R2 Standard / x64 | OK | OK | OK | [ OK ] | |||||||
| merida1 | OS X 10.11.6 El Capitan / x86_64 | OK | OK | OK | OK |
| Package: CAnD |
| Version: 1.18.0 |
| Command: rm -rf CAnD.buildbin-libdir && mkdir CAnD.buildbin-libdir && C:\Users\biocbuild\bbs-3.10-bioc\R\bin\R.exe CMD INSTALL --merge-multiarch --build --library=CAnD.buildbin-libdir CAnD_1.18.0.tar.gz |
| StartedAt: 2020-04-15 08:20:37 -0400 (Wed, 15 Apr 2020) |
| EndedAt: 2020-04-15 08:20:55 -0400 (Wed, 15 Apr 2020) |
| EllapsedTime: 18.2 seconds |
| RetCode: 0 |
| Status: OK |
| PackageFile: CAnD_1.18.0.zip |
| PackageFileSize: 394.7 KiB |
##############################################################################
##############################################################################
###
### Running command:
###
### rm -rf CAnD.buildbin-libdir && mkdir CAnD.buildbin-libdir && C:\Users\biocbuild\bbs-3.10-bioc\R\bin\R.exe CMD INSTALL --merge-multiarch --build --library=CAnD.buildbin-libdir CAnD_1.18.0.tar.gz
###
##############################################################################
##############################################################################
install for i386
* installing *source* package 'CAnD' ...
** using staged installation
** R
** data
** inst
** byte-compile and prepare package for lazy loading
** help
*** installing help indices
converting help for package 'CAnD'
finding HTML links ... done
BonfCorr-method html
CAnD html
CAnDResult-class html
ancestries html
barPlotAncest html
calc_combP html
getDiffMatrices html
overallStatistic-method html
overallpValue-method html
pValues-method html
plotPvals html
test-method html
** building package indices
** installing vignettes
** testing if installed package can be loaded from temporary location
** testing if installed package can be loaded from final location
** testing if installed package keeps a record of temporary installation path
install for x64
* installing *source* package 'CAnD' ...
** testing if installed package can be loaded
* MD5 sums
packaged installation of 'CAnD' as CAnD_1.18.0.zip
* DONE (CAnD)