| Back to Multiple platform build/check report for BioC 3.10 |
|
This page was generated on 2020-04-15 12:28:18 -0400 (Wed, 15 Apr 2020).
| Package 228/1823 | Hostname | OS / Arch | INSTALL | BUILD | CHECK | BUILD BIN | ||||||
| CATALYST 1.10.3 Helena L. Crowell
| malbec1 | Linux (Ubuntu 18.04.4 LTS) / x86_64 | OK | OK | OK | |||||||
| tokay1 | Windows Server 2012 R2 Standard / x64 | OK | OK | OK | [ OK ] | |||||||
| merida1 | OS X 10.11.6 El Capitan / x86_64 | OK | OK | OK | OK |
| Package: CATALYST |
| Version: 1.10.3 |
| Command: rm -rf CATALYST.buildbin-libdir && mkdir CATALYST.buildbin-libdir && C:\Users\biocbuild\bbs-3.10-bioc\R\bin\R.exe CMD INSTALL --merge-multiarch --build --library=CATALYST.buildbin-libdir CATALYST_1.10.3.tar.gz |
| StartedAt: 2020-04-15 08:20:52 -0400 (Wed, 15 Apr 2020) |
| EndedAt: 2020-04-15 08:22:03 -0400 (Wed, 15 Apr 2020) |
| EllapsedTime: 71.1 seconds |
| RetCode: 0 |
| Status: OK |
| PackageFile: CATALYST_1.10.3.zip |
| PackageFileSize: 5.891 MiB |
##############################################################################
##############################################################################
###
### Running command:
###
### rm -rf CATALYST.buildbin-libdir && mkdir CATALYST.buildbin-libdir && C:\Users\biocbuild\bbs-3.10-bioc\R\bin\R.exe CMD INSTALL --merge-multiarch --build --library=CATALYST.buildbin-libdir CATALYST_1.10.3.tar.gz
###
##############################################################################
##############################################################################
install for i386
* installing *source* package 'CATALYST' ...
** using staged installation
** R
** data
*** moving datasets to lazyload DB
** inst
** byte-compile and prepare package for lazy loading
** help
*** installing help indices
converting help for package 'CATALYST'
finding HTML links ... done
SCE-utils html
finding level-2 HTML links ... done
adaptSpillmat html
applyCutoffs html
assignPrelim html
cluster html
compCytof html
computeSpillmat html
concatFCS html
data html
dbFrame-class html
dbFrame-methods html
estCutoffs html
extractClusters html
filterSCE html
guessPanel html
launchGUI html
mergeClusters html
normCytof html
outFCS html
outFrames html
plotAbundances html
plotClusterExprs html
plotClusterHeatmap html
plotCodes html
plotCounts html
plotDR html
plotDiffHeatmap html
plotEvents html
plotExprHeatmap html
plotExprs html
plotMDS html
plotMahal html
plotMedExprs html
plotNRS html
plotSpillmat html
plotYields html
prepData html
runDR html
** building package indices
** installing vignettes
** testing if installed package can be loaded from temporary location
** testing if installed package can be loaded from final location
** testing if installed package keeps a record of temporary installation path
install for x64
* installing *source* package 'CATALYST' ...
** testing if installed package can be loaded
* MD5 sums
packaged installation of 'CATALYST' as CATALYST_1.10.3.zip
* DONE (CATALYST)