| Back to Multiple platform build/check report for BioC 3.10 |
|
This page was generated on 2020-04-15 12:17:59 -0400 (Wed, 15 Apr 2020).
| Package 215/1823 | Hostname | OS / Arch | INSTALL | BUILD | CHECK | BUILD BIN | ||||||
| CALIB 1.52.0 Hui Zhao
| malbec1 | Linux (Ubuntu 18.04.4 LTS) / x86_64 | OK | OK | WARNINGS | |||||||
| tokay1 | Windows Server 2012 R2 Standard / x64 | [ OK ] | OK | OK | OK | |||||||
| merida1 | OS X 10.11.6 El Capitan / x86_64 | OK | OK | WARNINGS | OK |
| Package: CALIB |
| Version: 1.52.0 |
| Command: C:\cygwin\bin\curl.exe -O https://malbec1.bioconductor.org/BBS/3.10/bioc/src/contrib/CALIB_1.52.0.tar.gz && rm -rf CALIB.buildbin-libdir && mkdir CALIB.buildbin-libdir && C:\Users\biocbuild\bbs-3.10-bioc\R\bin\R.exe CMD INSTALL --merge-multiarch --build --library=CALIB.buildbin-libdir CALIB_1.52.0.tar.gz && C:\Users\biocbuild\bbs-3.10-bioc\R\bin\R.exe CMD INSTALL CALIB_1.52.0.zip && rm CALIB_1.52.0.tar.gz CALIB_1.52.0.zip |
| StartedAt: 2020-04-14 18:35:36 -0400 (Tue, 14 Apr 2020) |
| EndedAt: 2020-04-14 18:37:07 -0400 (Tue, 14 Apr 2020) |
| EllapsedTime: 90.5 seconds |
| RetCode: 0 |
| Status: OK |
##############################################################################
##############################################################################
###
### Running command:
###
### C:\cygwin\bin\curl.exe -O https://malbec1.bioconductor.org/BBS/3.10/bioc/src/contrib/CALIB_1.52.0.tar.gz && rm -rf CALIB.buildbin-libdir && mkdir CALIB.buildbin-libdir && C:\Users\biocbuild\bbs-3.10-bioc\R\bin\R.exe CMD INSTALL --merge-multiarch --build --library=CALIB.buildbin-libdir CALIB_1.52.0.tar.gz && C:\Users\biocbuild\bbs-3.10-bioc\R\bin\R.exe CMD INSTALL CALIB_1.52.0.zip && rm CALIB_1.52.0.tar.gz CALIB_1.52.0.zip
###
##############################################################################
##############################################################################
% Total % Received % Xferd Average Speed Time Time Time Current
Dload Upload Total Spent Left Speed
0 0 0 0 0 0 0 0 --:--:-- --:--:-- --:--:-- 0
100 1773k 100 1773k 0 0 34.9M 0 --:--:-- --:--:-- --:--:-- 37.6M
install for i386
* installing *source* package 'CALIB' ...
** using staged installation
** libs
C:/Rtools/mingw_32/bin/g++ -std=gnu++11 -I"C:/Users/BIOCBU~1/BBS-3~1.10-/R/include" -DNDEBUG -I"C:/extsoft/include" -O2 -Wall -mtune=core2 -c Design.cpp -o Design.o
C:/Rtools/mingw_32/bin/g++ -std=gnu++11 -I"C:/Users/BIOCBU~1/BBS-3~1.10-/R/include" -DNDEBUG -I"C:/extsoft/include" -O2 -Wall -mtune=core2 -c Estimation.cpp -o Estimation.o
Estimation.cpp: In function 'SEXPREC* estimation(SEXP, SEXP, SEXP, SEXP, SEXP, SEXP, SEXP, SEXP)':
Estimation.cpp:147:78: warning: deprecated conversion from string constant to 'char*' [-Wwrite-strings]
char *name[8] = {"MuS","Ka","P1","P2","SigmaA","SigmaM","SigmaS","SpotError"};
^
Estimation.cpp:147:78: warning: deprecated conversion from string constant to 'char*' [-Wwrite-strings]
Estimation.cpp:147:78: warning: deprecated conversion from string constant to 'char*' [-Wwrite-strings]
Estimation.cpp:147:78: warning: deprecated conversion from string constant to 'char*' [-Wwrite-strings]
Estimation.cpp:147:78: warning: deprecated conversion from string constant to 'char*' [-Wwrite-strings]
Estimation.cpp:147:78: warning: deprecated conversion from string constant to 'char*' [-Wwrite-strings]
Estimation.cpp:147:78: warning: deprecated conversion from string constant to 'char*' [-Wwrite-strings]
Estimation.cpp:147:78: warning: deprecated conversion from string constant to 'char*' [-Wwrite-strings]
C:/Rtools/mingw_32/bin/g++ -std=gnu++11 -I"C:/Users/BIOCBU~1/BBS-3~1.10-/R/include" -DNDEBUG -I"C:/extsoft/include" -O2 -Wall -mtune=core2 -c NormalizedData.cpp -o NormalizedData.o
C:/Rtools/mingw_32/bin/g++ -std=gnu++11 -I"C:/Users/BIOCBU~1/BBS-3~1.10-/R/include" -DNDEBUG -I"C:/extsoft/include" -O2 -Wall -mtune=core2 -c ParameterofOneArray.cpp -o ParameterofOneArray.o
C:/Rtools/mingw_32/bin/g++ -std=gnu++11 -I"C:/Users/BIOCBU~1/BBS-3~1.10-/R/include" -DNDEBUG -I"C:/extsoft/include" -O2 -Wall -mtune=core2 -c RawDataofOneArray.cpp -o RawDataofOneArray.o
C:/Rtools/mingw_32/bin/g++ -std=gnu++11 -I"C:/Users/BIOCBU~1/BBS-3~1.10-/R/include" -DNDEBUG -I"C:/extsoft/include" -O2 -Wall -mtune=core2 -c SpikeofOneArray.cpp -o SpikeofOneArray.o
C:/Rtools/mingw_32/bin/g++ -std=gnu++11 -shared -s -static-libgcc -o CALIB.dll tmp.def Design.o Estimation.o NormalizedData.o ParameterofOneArray.o RawDataofOneArray.o SpikeofOneArray.o -LC:/extsoft/lib/i386 -LC:/extsoft/lib -LC:/Users/BIOCBU~1/BBS-3~1.10-/R/bin/i386 -lR
installing to C:/Users/biocbuild/bbs-3.10-bioc/meat/CALIB.buildbin-libdir/00LOCK-CALIB/00new/CALIB/libs/i386
** R
** data
** inst
** byte-compile and prepare package for lazy loading
** help
*** installing help indices
converting help for package 'CALIB'
finding HTML links ... done
ParameterList-class html
RG html
RGList_CALIB-class html
SpikeList-class html
adjustP2 html
calibReadMe html
cbind html
dim html
dimnames html
estimateParameter html
getColClasses html
merge html
normalizeData html
normdata html
parameter html
plotNormalizedData html
plotSpikeCI html
plotSpikeHI html
plotSpikeRG html
plotSpikeSpotError html
read.rg html
read.spike html
spike html
subsetting html
** building package indices
** installing vignettes
** testing if installed package can be loaded from temporary location
** testing if installed package can be loaded from final location
** testing if installed package keeps a record of temporary installation path
install for x64
* installing *source* package 'CALIB' ...
** libs
C:/Rtools/mingw_64/bin/g++ -std=gnu++11 -I"C:/Users/BIOCBU~1/BBS-3~1.10-/R/include" -DNDEBUG -I"C:/extsoft/include" -O2 -Wall -mtune=core2 -c Design.cpp -o Design.o
C:/Rtools/mingw_64/bin/g++ -std=gnu++11 -I"C:/Users/BIOCBU~1/BBS-3~1.10-/R/include" -DNDEBUG -I"C:/extsoft/include" -O2 -Wall -mtune=core2 -c Estimation.cpp -o Estimation.o
Estimation.cpp: In function 'SEXPREC* estimation(SEXP, SEXP, SEXP, SEXP, SEXP, SEXP, SEXP, SEXP)':
Estimation.cpp:147:78: warning: deprecated conversion from string constant to 'char*' [-Wwrite-strings]
char *name[8] = {"MuS","Ka","P1","P2","SigmaA","SigmaM","SigmaS","SpotError"};
^
Estimation.cpp:147:78: warning: deprecated conversion from string constant to 'char*' [-Wwrite-strings]
Estimation.cpp:147:78: warning: deprecated conversion from string constant to 'char*' [-Wwrite-strings]
Estimation.cpp:147:78: warning: deprecated conversion from string constant to 'char*' [-Wwrite-strings]
Estimation.cpp:147:78: warning: deprecated conversion from string constant to 'char*' [-Wwrite-strings]
Estimation.cpp:147:78: warning: deprecated conversion from string constant to 'char*' [-Wwrite-strings]
Estimation.cpp:147:78: warning: deprecated conversion from string constant to 'char*' [-Wwrite-strings]
Estimation.cpp:147:78: warning: deprecated conversion from string constant to 'char*' [-Wwrite-strings]
C:/Rtools/mingw_64/bin/g++ -std=gnu++11 -I"C:/Users/BIOCBU~1/BBS-3~1.10-/R/include" -DNDEBUG -I"C:/extsoft/include" -O2 -Wall -mtune=core2 -c NormalizedData.cpp -o NormalizedData.o
C:/Rtools/mingw_64/bin/g++ -std=gnu++11 -I"C:/Users/BIOCBU~1/BBS-3~1.10-/R/include" -DNDEBUG -I"C:/extsoft/include" -O2 -Wall -mtune=core2 -c ParameterofOneArray.cpp -o ParameterofOneArray.o
C:/Rtools/mingw_64/bin/g++ -std=gnu++11 -I"C:/Users/BIOCBU~1/BBS-3~1.10-/R/include" -DNDEBUG -I"C:/extsoft/include" -O2 -Wall -mtune=core2 -c RawDataofOneArray.cpp -o RawDataofOneArray.o
C:/Rtools/mingw_64/bin/g++ -std=gnu++11 -I"C:/Users/BIOCBU~1/BBS-3~1.10-/R/include" -DNDEBUG -I"C:/extsoft/include" -O2 -Wall -mtune=core2 -c SpikeofOneArray.cpp -o SpikeofOneArray.o
C:/Rtools/mingw_64/bin/g++ -std=gnu++11 -shared -s -static-libgcc -o CALIB.dll tmp.def Design.o Estimation.o NormalizedData.o ParameterofOneArray.o RawDataofOneArray.o SpikeofOneArray.o -LC:/extsoft/lib/x64 -LC:/extsoft/lib -LC:/Users/BIOCBU~1/BBS-3~1.10-/R/bin/x64 -lR
installing to C:/Users/biocbuild/bbs-3.10-bioc/meat/CALIB.buildbin-libdir/CALIB/libs/x64
** testing if installed package can be loaded
* MD5 sums
packaged installation of 'CALIB' as CALIB_1.52.0.zip
* DONE (CALIB)
* installing to library 'C:/Users/biocbuild/bbs-3.10-bioc/R/library'
package 'CALIB' successfully unpacked and MD5 sums checked