| Back to Multiple platform build/check report for BioC 3.10 |
|
This page was generated on 2020-04-15 12:27:15 -0400 (Wed, 15 Apr 2020).
| Package 164/1823 | Hostname | OS / Arch | INSTALL | BUILD | CHECK | BUILD BIN | ||||||
| BiocWorkflowTools 1.12.1 Mike Smith
| malbec1 | Linux (Ubuntu 18.04.4 LTS) / x86_64 | OK | OK | OK | |||||||
| tokay1 | Windows Server 2012 R2 Standard / x64 | [ OK ] | OK | OK | OK | |||||||
| merida1 | OS X 10.11.6 El Capitan / x86_64 | OK | OK | OK | OK |
| Package: BiocWorkflowTools |
| Version: 1.12.1 |
| Command: C:\cygwin\bin\curl.exe -O https://malbec1.bioconductor.org/BBS/3.10/bioc/src/contrib/BiocWorkflowTools_1.12.1.tar.gz && rm -rf BiocWorkflowTools.buildbin-libdir && mkdir BiocWorkflowTools.buildbin-libdir && C:\Users\biocbuild\bbs-3.10-bioc\R\bin\R.exe CMD INSTALL --merge-multiarch --build --library=BiocWorkflowTools.buildbin-libdir BiocWorkflowTools_1.12.1.tar.gz && C:\Users\biocbuild\bbs-3.10-bioc\R\bin\R.exe CMD INSTALL BiocWorkflowTools_1.12.1.zip && rm BiocWorkflowTools_1.12.1.tar.gz BiocWorkflowTools_1.12.1.zip |
| StartedAt: 2020-04-14 19:26:25 -0400 (Tue, 14 Apr 2020) |
| EndedAt: 2020-04-14 19:28:00 -0400 (Tue, 14 Apr 2020) |
| EllapsedTime: 95.5 seconds |
| RetCode: 0 |
| Status: OK |
##############################################################################
##############################################################################
###
### Running command:
###
### C:\cygwin\bin\curl.exe -O https://malbec1.bioconductor.org/BBS/3.10/bioc/src/contrib/BiocWorkflowTools_1.12.1.tar.gz && rm -rf BiocWorkflowTools.buildbin-libdir && mkdir BiocWorkflowTools.buildbin-libdir && C:\Users\biocbuild\bbs-3.10-bioc\R\bin\R.exe CMD INSTALL --merge-multiarch --build --library=BiocWorkflowTools.buildbin-libdir BiocWorkflowTools_1.12.1.tar.gz && C:\Users\biocbuild\bbs-3.10-bioc\R\bin\R.exe CMD INSTALL BiocWorkflowTools_1.12.1.zip && rm BiocWorkflowTools_1.12.1.tar.gz BiocWorkflowTools_1.12.1.zip
###
##############################################################################
##############################################################################
% Total % Received % Xferd Average Speed Time Time Time Current
Dload Upload Total Spent Left Speed
0 0 0 0 0 0 0 0 --:--:-- --:--:-- --:--:-- 0
100 461k 100 461k 0 0 12.1M 0 --:--:-- --:--:-- --:--:-- 13.6M
install for i386
* installing *source* package 'BiocWorkflowTools' ...
** using staged installation
** R
** inst
** byte-compile and prepare package for lazy loading
** help
*** installing help indices
converting help for package 'BiocWorkflowTools'
finding HTML links ... done
createBiocWorkflow html
finding level-2 HTML links ... done
f1000_article html
markdownToLatex html
uploadToOverleaf html
** building package indices
** installing vignettes
** testing if installed package can be loaded from temporary location
** testing if installed package can be loaded from final location
** testing if installed package keeps a record of temporary installation path
install for x64
* installing *source* package 'BiocWorkflowTools' ...
** testing if installed package can be loaded
* MD5 sums
packaged installation of 'BiocWorkflowTools' as BiocWorkflowTools_1.12.1.zip
* DONE (BiocWorkflowTools)
* installing to library 'C:/Users/biocbuild/bbs-3.10-bioc/R/library'
package 'BiocWorkflowTools' successfully unpacked and MD5 sums checked