| Back to Multiple platform build/check report for BioC 3.10 |
|
This page was generated on 2020-04-15 12:31:50 -0400 (Wed, 15 Apr 2020).
| Package 168/1823 | Hostname | OS / Arch | INSTALL | BUILD | CHECK | BUILD BIN | ||||||
| BioMM 1.2.0 Junfang Chen
| malbec1 | Linux (Ubuntu 18.04.4 LTS) / x86_64 | OK | OK | OK | |||||||
| tokay1 | Windows Server 2012 R2 Standard / x64 | [ OK ] | OK | OK | OK | |||||||
| merida1 | OS X 10.11.6 El Capitan / x86_64 | OK | OK | OK | OK |
| Package: BioMM |
| Version: 1.2.0 |
| Command: C:\cygwin\bin\curl.exe -O https://malbec1.bioconductor.org/BBS/3.10/bioc/src/contrib/BioMM_1.2.0.tar.gz && rm -rf BioMM.buildbin-libdir && mkdir BioMM.buildbin-libdir && C:\Users\biocbuild\bbs-3.10-bioc\R\bin\R.exe CMD INSTALL --merge-multiarch --build --library=BioMM.buildbin-libdir BioMM_1.2.0.tar.gz && C:\Users\biocbuild\bbs-3.10-bioc\R\bin\R.exe CMD INSTALL BioMM_1.2.0.zip && rm BioMM_1.2.0.tar.gz BioMM_1.2.0.zip |
| StartedAt: 2020-04-14 20:23:23 -0400 (Tue, 14 Apr 2020) |
| EndedAt: 2020-04-14 20:24:16 -0400 (Tue, 14 Apr 2020) |
| EllapsedTime: 53.0 seconds |
| RetCode: 0 |
| Status: OK |
##############################################################################
##############################################################################
###
### Running command:
###
### C:\cygwin\bin\curl.exe -O https://malbec1.bioconductor.org/BBS/3.10/bioc/src/contrib/BioMM_1.2.0.tar.gz && rm -rf BioMM.buildbin-libdir && mkdir BioMM.buildbin-libdir && C:\Users\biocbuild\bbs-3.10-bioc\R\bin\R.exe CMD INSTALL --merge-multiarch --build --library=BioMM.buildbin-libdir BioMM_1.2.0.tar.gz && C:\Users\biocbuild\bbs-3.10-bioc\R\bin\R.exe CMD INSTALL BioMM_1.2.0.zip && rm BioMM_1.2.0.tar.gz BioMM_1.2.0.zip
###
##############################################################################
##############################################################################
% Total % Received % Xferd Average Speed Time Time Time Current
Dload Upload Total Spent Left Speed
0 0 0 0 0 0 0 0 --:--:-- --:--:-- --:--:-- 0
9 4064k 9 384k 0 0 1766k 0 0:00:02 --:--:-- 0:00:02 1794k
100 4064k 100 4064k 0 0 11.9M 0 --:--:-- --:--:-- --:--:-- 12.1M
install for i386
* installing *source* package 'BioMM' ...
** using staged installation
** R
** inst
** byte-compile and prepare package for lazy loading
** help
*** installing help indices
converting help for package 'BioMM'
finding HTML links ... done
BioMM html
BioMMstage2pred html
baseGLMnet html
baseModel html
baseRandForest html
baseSVM html
cirPlot4pathway html
classifiACC html
getDataByFilter html
getMetrics html
omics2pathlist html
plotRankedFeature html
plotVarExplained html
predByBS html
predByCV html
predByFS html
reconBySupervised html
reconByUnsupervised html
** building package indices
** installing vignettes
** testing if installed package can be loaded from temporary location
** testing if installed package can be loaded from final location
** testing if installed package keeps a record of temporary installation path
install for x64
* installing *source* package 'BioMM' ...
** testing if installed package can be loaded
* MD5 sums
packaged installation of 'BioMM' as BioMM_1.2.0.zip
* DONE (BioMM)
* installing to library 'C:/Users/biocbuild/bbs-3.10-bioc/R/library'
package 'BioMM' successfully unpacked and MD5 sums checked