| Back to Multiple platform build/check report for BioC 3.10 |
|
This page was generated on 2020-04-15 12:21:37 -0400 (Wed, 15 Apr 2020).
| Package 185/1823 | Hostname | OS / Arch | INSTALL | BUILD | CHECK | BUILD BIN | ||||||
| BiSeq 1.26.0 Katja Hebestreit
| malbec1 | Linux (Ubuntu 18.04.4 LTS) / x86_64 | OK | OK | OK | |||||||
| tokay1 | Windows Server 2012 R2 Standard / x64 | [ OK ] | OK | OK | OK | |||||||
| merida1 | OS X 10.11.6 El Capitan / x86_64 | OK | OK | OK | OK |
| Package: BiSeq |
| Version: 1.26.0 |
| Command: C:\Users\biocbuild\bbs-3.10-bioc\R\bin\R.exe --arch x64 CMD INSTALL --no-multiarch BiSeq |
| StartedAt: 2020-04-14 20:36:39 -0400 (Tue, 14 Apr 2020) |
| EndedAt: 2020-04-14 20:37:32 -0400 (Tue, 14 Apr 2020) |
| EllapsedTime: 53.6 seconds |
| RetCode: 0 |
| Status: OK |
##############################################################################
##############################################################################
###
### Running command:
###
### C:\Users\biocbuild\bbs-3.10-bioc\R\bin\R.exe --arch x64 CMD INSTALL --no-multiarch BiSeq
###
##############################################################################
##############################################################################
* installing to library 'C:/Users/biocbuild/bbs-3.10-bioc/R/library'
* installing *source* package 'BiSeq' ...
** using staged installation
** R
** data
** inst
** byte-compile and prepare package for lazy loading
** help
*** installing help indices
converting help for package 'BiSeq'
finding HTML links ... done
BSraw-class html
finding level-2 HTML links ... done
BSrel-class html
DMRs html
annotateGRanges html
betaRegression html
betaResults html
betaResultsNull html
binomLikelihoodSmooth html
clusterSites html
clusterSitesToGR html
compareTwoSamples html
covBoxplots html
covStatistics html
estLocCor html
filterByCov html
filterBySharedRegions html
findDMRs html
globalTest html
limitCov html
logisticRegression html
makeVariogram html
plotBindingSites html
plotMeth html
plotMethMap html
plotSmoothMeth html
predictMeth html
predictedMeth html
promoters html
rawToRel html
readBismark html
rrbs html
smoothVariogram html
summarizeRegions html
testClusters html
trimClusters html
vario html
writeBED html
** building package indices
** installing vignettes
** testing if installed package can be loaded from temporary location
** testing if installed package can be loaded from final location
** testing if installed package keeps a record of temporary installation path
* DONE (BiSeq)
Making 'packages.html' ... done