| Back to Multiple platform build/check report for BioC 3.10 |
|
This page was generated on 2020-04-15 12:18:53 -0400 (Wed, 15 Apr 2020).
| Package 209/1823 | Hostname | OS / Arch | INSTALL | BUILD | CHECK | BUILD BIN | ||||||
| BUS 1.42.0 Yuanhua Liu
| malbec1 | Linux (Ubuntu 18.04.4 LTS) / x86_64 | OK | OK | OK | |||||||
| tokay1 | Windows Server 2012 R2 Standard / x64 | OK | OK | [ OK ] | OK | |||||||
| merida1 | OS X 10.11.6 El Capitan / x86_64 | OK | OK | OK | OK |
| Package: BUS |
| Version: 1.42.0 |
| Command: C:\Users\biocbuild\bbs-3.10-bioc\R\bin\R.exe CMD check --force-multiarch --install=check:BUS.install-out.txt --library=C:\Users\biocbuild\bbs-3.10-bioc\R\library --no-vignettes --timings BUS_1.42.0.tar.gz |
| StartedAt: 2020-04-15 01:44:58 -0400 (Wed, 15 Apr 2020) |
| EndedAt: 2020-04-15 01:45:44 -0400 (Wed, 15 Apr 2020) |
| EllapsedTime: 45.9 seconds |
| RetCode: 0 |
| Status: OK |
| CheckDir: BUS.Rcheck |
| Warnings: 0 |
##############################################################################
##############################################################################
###
### Running command:
###
### C:\Users\biocbuild\bbs-3.10-bioc\R\bin\R.exe CMD check --force-multiarch --install=check:BUS.install-out.txt --library=C:\Users\biocbuild\bbs-3.10-bioc\R\library --no-vignettes --timings BUS_1.42.0.tar.gz
###
##############################################################################
##############################################################################
* using log directory 'C:/Users/biocbuild/bbs-3.10-bioc/meat/BUS.Rcheck'
* using R version 3.6.3 (2020-02-29)
* using platform: x86_64-w64-mingw32 (64-bit)
* using session charset: ISO8859-1
* using option '--no-vignettes'
* checking for file 'BUS/DESCRIPTION' ... OK
* checking extension type ... Package
* this is package 'BUS' version '1.42.0'
* checking package namespace information ... OK
* checking package dependencies ... OK
* checking if this is a source package ... OK
* checking if there is a namespace ... OK
* checking for hidden files and directories ... OK
* checking for portable file names ... OK
* checking whether package 'BUS' can be installed ... OK
* checking installed package size ... OK
* checking package directory ... OK
* checking 'build' directory ... OK
* checking DESCRIPTION meta-information ... OK
* checking top-level files ... OK
* checking for left-over files ... OK
* checking index information ... OK
* checking package subdirectories ... OK
* checking R files for non-ASCII characters ... OK
* checking R files for syntax errors ... OK
* loading checks for arch 'i386'
** checking whether the package can be loaded ... OK
** checking whether the package can be loaded with stated dependencies ... OK
** checking whether the package can be unloaded cleanly ... OK
** checking whether the namespace can be loaded with stated dependencies ... OK
** checking whether the namespace can be unloaded cleanly ... OK
* loading checks for arch 'x64'
** checking whether the package can be loaded ... OK
** checking whether the package can be loaded with stated dependencies ... OK
** checking whether the package can be unloaded cleanly ... OK
** checking whether the namespace can be loaded with stated dependencies ... OK
** checking whether the namespace can be unloaded cleanly ... OK
* checking dependencies in R code ... NOTE
Package in Depends field not imported from: 'minet'
These packages need to be imported from (in the NAMESPACE file)
for when this namespace is loaded but not attached.
* checking S3 generic/method consistency ... OK
* checking replacement functions ... OK
* checking foreign function calls ... NOTE
Call with DUP:
.Call("MINempirical", mat, nat, N, n1, n2, DUP = FALSE)
DUP is no longer supported and will be ignored.
* checking R code for possible problems ... NOTE
gene.pvalue : fi: warning in matrix(1:nrow(EXP), nc = 1): partial
argument match of 'nc' to 'ncol'
gene.pvalue: warning in matrix(1:nrow(EXP), nc = 1): partial argument
match of 'nc' to 'ncol'
gene.pvalue : fi: warning in matrix(1:ncol(real), nc = 1): partial
argument match of 'nc' to 'ncol'
gene.pvalue: warning in matrix(1:nrow(real), nc = 1): partial argument
match of 'nc' to 'ncol'
gene.pvalue : fi1: warning in matrix(1:ncol(real), nc = 1): partial
argument match of 'nc' to 'ncol'
gene.trait.pvalue: warning in matrix(0, nr = nrow(EXP), nc =
nrow(trait)): partial argument match of 'nr' to 'nrow'
gene.trait.pvalue: warning in matrix(0, nr = nrow(EXP), nc =
nrow(trait)): partial argument match of 'nc' to 'ncol'
gene.trait.pvalue : fi: warning in matrix(1:nrow(trait), nc = 1):
partial argument match of 'nc' to 'ncol'
gene.trait.pvalue: warning in matrix(1:nrow(EXP), nc = 1): partial
argument match of 'nc' to 'ncol'
gene.trait.pvalue : fi: warning in matrix(1:ncol(real), nc = 1):
partial argument match of 'nc' to 'ncol'
gene.trait.pvalue: warning in matrix(1:nrow(real), nc = 1): partial
argument match of 'nc' to 'ncol'
gene.trait.pvalue : fj: warning in matrix(1:nrow(real), nc = 1):
partial argument match of 'nc' to 'ncol'
gene.trait.pvalue: warning in matrix(1:ncol(real), nc = 1): partial
argument match of 'nc' to 'ncol'
gene.pvalue: multiple local function definitions for 'fi' with
different formal arguments
gene.similarity : s.similarity: no visible global function definition
for 'build.mim'
gene.similarity : s.similarity: no visible global function definition
for 'mrnet'
gene.similarity : s.similarity: no visible global function definition
for 'aracne'
gene.similarity : s.similarity: no visible global function definition
for 'clr'
gene.trait.pvalue: multiple local function definitions for 'fi' with
different formal arguments
Undefined global functions or variables:
aracne build.mim clr mrnet
* checking Rd files ... OK
* checking Rd metadata ... OK
* checking Rd cross-references ... OK
* checking for missing documentation entries ... OK
* checking for code/documentation mismatches ... OK
* checking Rd \usage sections ... OK
* checking Rd contents ... OK
* checking for unstated dependencies in examples ... OK
* checking contents of 'data' directory ... OK
* checking data for non-ASCII characters ... OK
* checking data for ASCII and uncompressed saves ... OK
* checking line endings in C/C++/Fortran sources/headers ... OK
* checking compiled code ... NOTE
Note: information on .o files for i386 is not available
Note: information on .o files for x64 is not available
File 'C:/Users/biocbuild/bbs-3.10-bioc/R/library/BUS/libs/i386/BUS.dll':
Found 'abort', possibly from 'abort' (C), 'runtime' (Fortran)
Found 'exit', possibly from 'exit' (C), 'stop' (Fortran)
Found 'printf', possibly from 'printf' (C)
File 'C:/Users/biocbuild/bbs-3.10-bioc/R/library/BUS/libs/x64/BUS.dll':
Found 'abort', possibly from 'abort' (C), 'runtime' (Fortran)
Found 'exit', possibly from 'exit' (C), 'stop' (Fortran)
Found 'printf', possibly from 'printf' (C)
Compiled code should not call entry points which might terminate R nor
write to stdout/stderr instead of to the console, nor use Fortran I/O
nor system RNGs. The detected symbols are linked into the code but
might come from libraries and not actually be called.
See 'Writing portable packages' in the 'Writing R Extensions' manual.
* checking files in 'vignettes' ... OK
* checking examples ...
** running examples for arch 'i386' ... OK
** running examples for arch 'x64' ... OK
* checking for unstated dependencies in vignettes ... OK
* checking package vignettes in 'inst/doc' ... OK
* checking running R code from vignettes ... SKIPPED
* checking re-building of vignette outputs ... SKIPPED
* checking PDF version of manual ... OK
* DONE
Status: 4 NOTEs
See
'C:/Users/biocbuild/bbs-3.10-bioc/meat/BUS.Rcheck/00check.log'
for details.
BUS.Rcheck/00install.out
##############################################################################
##############################################################################
###
### Running command:
###
### C:\cygwin\bin\curl.exe -O https://malbec1.bioconductor.org/BBS/3.10/bioc/src/contrib/BUS_1.42.0.tar.gz && rm -rf BUS.buildbin-libdir && mkdir BUS.buildbin-libdir && C:\Users\biocbuild\bbs-3.10-bioc\R\bin\R.exe CMD INSTALL --merge-multiarch --build --library=BUS.buildbin-libdir BUS_1.42.0.tar.gz && C:\Users\biocbuild\bbs-3.10-bioc\R\bin\R.exe CMD INSTALL BUS_1.42.0.zip && rm BUS_1.42.0.tar.gz BUS_1.42.0.zip
###
##############################################################################
##############################################################################
% Total % Received % Xferd Average Speed Time Time Time Current
Dload Upload Total Spent Left Speed
0 0 0 0 0 0 0 0 --:--:-- --:--:-- --:--:-- 0
100 1683k 100 1683k 0 0 30.8M 0 --:--:-- --:--:-- --:--:-- 32.8M
install for i386
* installing *source* package 'BUS' ...
** using staged installation
** libs
C:/Rtools/mingw_32/bin/g++ -std=gnu++11 -I"C:/Users/BIOCBU~1/BBS-3~1.10-/R/include" -DNDEBUG -I"C:/extsoft/include" -O2 -Wall -mtune=core2 -c BUS.cpp -o BUS.o
C:/Rtools/mingw_32/bin/g++ -std=gnu++11 -shared -s -static-libgcc -o BUS.dll tmp.def BUS.o -LC:/extsoft/lib/i386 -LC:/extsoft/lib -LC:/Users/BIOCBU~1/BBS-3~1.10-/R/bin/i386 -lR
installing to C:/Users/biocbuild/bbs-3.10-bioc/meat/BUS.buildbin-libdir/00LOCK-BUS/00new/BUS/libs/i386
** R
** data
** inst
** byte-compile and prepare package for lazy loading
** help
*** installing help indices
converting help for package 'BUS'
finding HTML links ... done
BUS-package html
BUS html
copasi html
gene.pvalue html
gene.similarity html
gene.trait.pvalue html
gene.trait.similarity html
pred.network html
tumors.mRNA html
tumors.miRNA html
** building package indices
** installing vignettes
** testing if installed package can be loaded from temporary location
** testing if installed package can be loaded from final location
** testing if installed package keeps a record of temporary installation path
install for x64
* installing *source* package 'BUS' ...
** libs
C:/Rtools/mingw_64/bin/g++ -std=gnu++11 -I"C:/Users/BIOCBU~1/BBS-3~1.10-/R/include" -DNDEBUG -I"C:/extsoft/include" -O2 -Wall -mtune=core2 -c BUS.cpp -o BUS.o
C:/Rtools/mingw_64/bin/g++ -std=gnu++11 -shared -s -static-libgcc -o BUS.dll tmp.def BUS.o -LC:/extsoft/lib/x64 -LC:/extsoft/lib -LC:/Users/BIOCBU~1/BBS-3~1.10-/R/bin/x64 -lR
installing to C:/Users/biocbuild/bbs-3.10-bioc/meat/BUS.buildbin-libdir/BUS/libs/x64
** testing if installed package can be loaded
* MD5 sums
packaged installation of 'BUS' as BUS_1.42.0.zip
* DONE (BUS)
* installing to library 'C:/Users/biocbuild/bbs-3.10-bioc/R/library'
package 'BUS' successfully unpacked and MD5 sums checked
|
BUS.Rcheck/examples_i386/BUS-Ex.timings
|
BUS.Rcheck/examples_x64/BUS-Ex.timings
|