| Back to Multiple platform build/check report for BioC 3.10 |
|
This page was generated on 2020-04-15 12:32:16 -0400 (Wed, 15 Apr 2020).
| Package 109/1823 | Hostname | OS / Arch | INSTALL | BUILD | CHECK | BUILD BIN | ||||||
| BANDITS 1.2.3 Simone Tiberi
| malbec1 | Linux (Ubuntu 18.04.4 LTS) / x86_64 | OK | OK | OK | |||||||
| tokay1 | Windows Server 2012 R2 Standard / x64 | OK | OK | OK | [ OK ] | |||||||
| merida1 | OS X 10.11.6 El Capitan / x86_64 | OK | OK | OK | OK |
| Package: BANDITS |
| Version: 1.2.3 |
| Command: rm -rf BANDITS.buildbin-libdir && mkdir BANDITS.buildbin-libdir && C:\Users\biocbuild\bbs-3.10-bioc\R\bin\R.exe CMD INSTALL --merge-multiarch --build --library=BANDITS.buildbin-libdir BANDITS_1.2.3.tar.gz |
| StartedAt: 2020-04-15 08:13:53 -0400 (Wed, 15 Apr 2020) |
| EndedAt: 2020-04-15 08:17:52 -0400 (Wed, 15 Apr 2020) |
| EllapsedTime: 239.1 seconds |
| RetCode: 0 |
| Status: OK |
| PackageFile: BANDITS_1.2.3.zip |
| PackageFileSize: 1.925 MiB |
##############################################################################
##############################################################################
###
### Running command:
###
### rm -rf BANDITS.buildbin-libdir && mkdir BANDITS.buildbin-libdir && C:\Users\biocbuild\bbs-3.10-bioc\R\bin\R.exe CMD INSTALL --merge-multiarch --build --library=BANDITS.buildbin-libdir BANDITS_1.2.3.tar.gz
###
##############################################################################
##############################################################################
install for i386
* installing *source* package 'BANDITS' ...
** using staged installation
** libs
C:/Rtools/mingw_32/bin/g++ -std=gnu++11 -I"C:/Users/BIOCBU~1/BBS-3~1.10-/R/include" -DNDEBUG -I"C:/Users/biocbuild/bbs-3.10-bioc/R/library/Rcpp/include" -I"C:/Users/biocbuild/bbs-3.10-bioc/R/library/RcppArmadillo/include" -I"C:/extsoft/include" -O2 -Wall -mtune=core2 -c RcppExports.cpp -o RcppExports.o
C:/Rtools/mingw_32/bin/g++ -std=gnu++11 -I"C:/Users/BIOCBU~1/BBS-3~1.10-/R/include" -DNDEBUG -I"C:/Users/biocbuild/bbs-3.10-bioc/R/library/Rcpp/include" -I"C:/Users/biocbuild/bbs-3.10-bioc/R/library/RcppArmadillo/include" -I"C:/extsoft/include" -O2 -Wall -mtune=core2 -c Rcpp_Together.cpp -o Rcpp_Together.o
C:/Rtools/mingw_32/bin/g++ -std=gnu++11 -I"C:/Users/BIOCBU~1/BBS-3~1.10-/R/include" -DNDEBUG -I"C:/Users/biocbuild/bbs-3.10-bioc/R/library/Rcpp/include" -I"C:/Users/biocbuild/bbs-3.10-bioc/R/library/RcppArmadillo/include" -I"C:/extsoft/include" -O2 -Wall -mtune=core2 -c Rcpp_Together_MultiGroup.cpp -o Rcpp_Together_MultiGroup.o
C:/Rtools/mingw_32/bin/g++ -std=gnu++11 -I"C:/Users/BIOCBU~1/BBS-3~1.10-/R/include" -DNDEBUG -I"C:/Users/biocbuild/bbs-3.10-bioc/R/library/Rcpp/include" -I"C:/Users/biocbuild/bbs-3.10-bioc/R/library/RcppArmadillo/include" -I"C:/extsoft/include" -O2 -Wall -mtune=core2 -c Rcpp_Unique.cpp -o Rcpp_Unique.o
C:/Rtools/mingw_32/bin/g++ -std=gnu++11 -I"C:/Users/BIOCBU~1/BBS-3~1.10-/R/include" -DNDEBUG -I"C:/Users/biocbuild/bbs-3.10-bioc/R/library/Rcpp/include" -I"C:/Users/biocbuild/bbs-3.10-bioc/R/library/RcppArmadillo/include" -I"C:/extsoft/include" -O2 -Wall -mtune=core2 -c Rcpp_Unique_MultiGroup.cpp -o Rcpp_Unique_MultiGroup.o
C:/Rtools/mingw_32/bin/g++ -shared -s -static-libgcc -o BANDITS.dll tmp.def RcppExports.o Rcpp_Together.o Rcpp_Together_MultiGroup.o Rcpp_Unique.o Rcpp_Unique_MultiGroup.o -LC:/Users/BIOCBU~1/BBS-3~1.10-/R/bin/i386 -lRlapack -LC:/Users/BIOCBU~1/BBS-3~1.10-/R/bin/i386 -lRblas -lgfortran -lm -lquadmath -LC:/extsoft/lib/i386 -LC:/extsoft/lib -LC:/Users/BIOCBU~1/BBS-3~1.10-/R/bin/i386 -lR
installing to C:/Users/biocbuild/bbs-3.10-bioc/meat/BANDITS.buildbin-libdir/00LOCK-BANDITS/00new/BANDITS/libs/i386
** R
** data
** inst
** byte-compile and prepare package for lazy loading
** help
*** installing help indices
converting help for package 'BANDITS'
finding HTML links ... done
BANDITS-package html
BANDITS_data-class html
BANDITS_test-class html
create_data html
eff_len_compute html
filter_genes html
filter_transcripts html
gene_tr_id html
input_data html
plot_precision html
precision html
prior_precision html
results html
test_DTU html
** building package indices
** installing vignettes
** testing if installed package can be loaded from temporary location
** testing if installed package can be loaded from final location
** testing if installed package keeps a record of temporary installation path
install for x64
* installing *source* package 'BANDITS' ...
** libs
C:/Rtools/mingw_64/bin/g++ -std=gnu++11 -I"C:/Users/BIOCBU~1/BBS-3~1.10-/R/include" -DNDEBUG -I"C:/Users/biocbuild/bbs-3.10-bioc/R/library/Rcpp/include" -I"C:/Users/biocbuild/bbs-3.10-bioc/R/library/RcppArmadillo/include" -I"C:/extsoft/include" -O2 -Wall -mtune=core2 -c RcppExports.cpp -o RcppExports.o
C:/Rtools/mingw_64/bin/g++ -std=gnu++11 -I"C:/Users/BIOCBU~1/BBS-3~1.10-/R/include" -DNDEBUG -I"C:/Users/biocbuild/bbs-3.10-bioc/R/library/Rcpp/include" -I"C:/Users/biocbuild/bbs-3.10-bioc/R/library/RcppArmadillo/include" -I"C:/extsoft/include" -O2 -Wall -mtune=core2 -c Rcpp_Together.cpp -o Rcpp_Together.o
C:/Rtools/mingw_64/bin/g++ -std=gnu++11 -I"C:/Users/BIOCBU~1/BBS-3~1.10-/R/include" -DNDEBUG -I"C:/Users/biocbuild/bbs-3.10-bioc/R/library/Rcpp/include" -I"C:/Users/biocbuild/bbs-3.10-bioc/R/library/RcppArmadillo/include" -I"C:/extsoft/include" -O2 -Wall -mtune=core2 -c Rcpp_Together_MultiGroup.cpp -o Rcpp_Together_MultiGroup.o
C:/Rtools/mingw_64/bin/g++ -std=gnu++11 -I"C:/Users/BIOCBU~1/BBS-3~1.10-/R/include" -DNDEBUG -I"C:/Users/biocbuild/bbs-3.10-bioc/R/library/Rcpp/include" -I"C:/Users/biocbuild/bbs-3.10-bioc/R/library/RcppArmadillo/include" -I"C:/extsoft/include" -O2 -Wall -mtune=core2 -c Rcpp_Unique.cpp -o Rcpp_Unique.o
C:/Rtools/mingw_64/bin/g++ -std=gnu++11 -I"C:/Users/BIOCBU~1/BBS-3~1.10-/R/include" -DNDEBUG -I"C:/Users/biocbuild/bbs-3.10-bioc/R/library/Rcpp/include" -I"C:/Users/biocbuild/bbs-3.10-bioc/R/library/RcppArmadillo/include" -I"C:/extsoft/include" -O2 -Wall -mtune=core2 -c Rcpp_Unique_MultiGroup.cpp -o Rcpp_Unique_MultiGroup.o
C:/Rtools/mingw_64/bin/g++ -shared -s -static-libgcc -o BANDITS.dll tmp.def RcppExports.o Rcpp_Together.o Rcpp_Together_MultiGroup.o Rcpp_Unique.o Rcpp_Unique_MultiGroup.o -LC:/Users/BIOCBU~1/BBS-3~1.10-/R/bin/x64 -lRlapack -LC:/Users/BIOCBU~1/BBS-3~1.10-/R/bin/x64 -lRblas -lgfortran -lm -lquadmath -LC:/extsoft/lib/x64 -LC:/extsoft/lib -LC:/Users/BIOCBU~1/BBS-3~1.10-/R/bin/x64 -lR
installing to C:/Users/biocbuild/bbs-3.10-bioc/meat/BANDITS.buildbin-libdir/BANDITS/libs/x64
** testing if installed package can be loaded
* MD5 sums
packaged installation of 'BANDITS' as BANDITS_1.2.3.zip
* DONE (BANDITS)