| Back to Multiple platform build/check report for BioC 3.10 |
|
This page was generated on 2020-04-15 12:22:07 -0400 (Wed, 15 Apr 2020).
| Package 104/1823 | Hostname | OS / Arch | INSTALL | BUILD | CHECK | BUILD BIN | ||||||
| BADER 1.24.0 Andreas Neudecker
| malbec1 | Linux (Ubuntu 18.04.4 LTS) / x86_64 | OK | OK | OK | |||||||
| tokay1 | Windows Server 2012 R2 Standard / x64 | OK | OK | OK | [ OK ] | |||||||
| merida1 | OS X 10.11.6 El Capitan / x86_64 | OK | OK | OK | OK |
| Package: BADER |
| Version: 1.24.0 |
| Command: rm -rf BADER.buildbin-libdir && mkdir BADER.buildbin-libdir && C:\Users\biocbuild\bbs-3.10-bioc\R\bin\R.exe CMD INSTALL --merge-multiarch --build --library=BADER.buildbin-libdir BADER_1.24.0.tar.gz |
| StartedAt: 2020-04-15 08:13:33 -0400 (Wed, 15 Apr 2020) |
| EndedAt: 2020-04-15 08:14:05 -0400 (Wed, 15 Apr 2020) |
| EllapsedTime: 32.4 seconds |
| RetCode: 0 |
| Status: OK |
| PackageFile: BADER_1.24.0.zip |
| PackageFileSize: 558.8 KiB |
##############################################################################
##############################################################################
###
### Running command:
###
### rm -rf BADER.buildbin-libdir && mkdir BADER.buildbin-libdir && C:\Users\biocbuild\bbs-3.10-bioc\R\bin\R.exe CMD INSTALL --merge-multiarch --build --library=BADER.buildbin-libdir BADER_1.24.0.tar.gz
###
##############################################################################
##############################################################################
install for i386
* installing *source* package 'BADER' ...
** using staged installation
** libs
C:/Rtools/mingw_32/bin/g++ -std=gnu++11 -I"C:/Users/BIOCBU~1/BBS-3~1.10-/R/include" -DNDEBUG -I"C:/extsoft/include" -O2 -Wall -mtune=core2 -c meth.cpp -o meth.o
C:/Rtools/mingw_32/bin/g++ -std=gnu++11 -shared -s -static-libgcc -o BADER.dll tmp.def meth.o -LC:/extsoft/lib/i386 -LC:/extsoft/lib -LC:/Users/BIOCBU~1/BBS-3~1.10-/R/bin/i386 -lR
installing to C:/Users/biocbuild/bbs-3.10-bioc/meat/BADER.buildbin-libdir/00LOCK-BADER/00new/BADER/libs/i386
** R
** inst
** byte-compile and prepare package for lazy loading
** help
*** installing help indices
converting help for package 'BADER'
finding HTML links ... done
BADER html
** building package indices
** installing vignettes
** testing if installed package can be loaded from temporary location
** testing if installed package can be loaded from final location
** testing if installed package keeps a record of temporary installation path
install for x64
* installing *source* package 'BADER' ...
** libs
C:/Rtools/mingw_64/bin/g++ -std=gnu++11 -I"C:/Users/BIOCBU~1/BBS-3~1.10-/R/include" -DNDEBUG -I"C:/extsoft/include" -O2 -Wall -mtune=core2 -c meth.cpp -o meth.o
C:/Rtools/mingw_64/bin/g++ -std=gnu++11 -shared -s -static-libgcc -o BADER.dll tmp.def meth.o -LC:/extsoft/lib/x64 -LC:/extsoft/lib -LC:/Users/BIOCBU~1/BBS-3~1.10-/R/bin/x64 -lR
installing to C:/Users/biocbuild/bbs-3.10-bioc/meat/BADER.buildbin-libdir/BADER/libs/x64
** testing if installed package can be loaded
* MD5 sums
packaged installation of 'BADER' as BADER_1.24.0.zip
* DONE (BADER)