| Back to Multiple platform build/check report for BioC 3.10 |
|
This page was generated on 2020-04-15 12:18:34 -0400 (Wed, 15 Apr 2020).
| Package 82/1823 | Hostname | OS / Arch | INSTALL | BUILD | CHECK | BUILD BIN | ||||||
| ArrayTools 1.46.0 Arthur Li
| malbec1 | Linux (Ubuntu 18.04.4 LTS) / x86_64 | OK | OK | OK | |||||||
| tokay1 | Windows Server 2012 R2 Standard / x64 | OK | OK | OK | [ OK ] | |||||||
| merida1 | OS X 10.11.6 El Capitan / x86_64 | OK | OK | OK | OK |
| Package: ArrayTools |
| Version: 1.46.0 |
| Command: rm -rf ArrayTools.buildbin-libdir && mkdir ArrayTools.buildbin-libdir && C:\Users\biocbuild\bbs-3.10-bioc\R\bin\R.exe CMD INSTALL --merge-multiarch --build --library=ArrayTools.buildbin-libdir ArrayTools_1.46.0.tar.gz |
| StartedAt: 2020-04-15 08:11:59 -0400 (Wed, 15 Apr 2020) |
| EndedAt: 2020-04-15 08:12:58 -0400 (Wed, 15 Apr 2020) |
| EllapsedTime: 59.8 seconds |
| RetCode: 0 |
| Status: OK |
| PackageFile: ArrayTools_1.46.0.zip |
| PackageFileSize: 663.9 KiB |
##############################################################################
##############################################################################
###
### Running command:
###
### rm -rf ArrayTools.buildbin-libdir && mkdir ArrayTools.buildbin-libdir && C:\Users\biocbuild\bbs-3.10-bioc\R\bin\R.exe CMD INSTALL --merge-multiarch --build --library=ArrayTools.buildbin-libdir ArrayTools_1.46.0.tar.gz
###
##############################################################################
##############################################################################
install for i386
* installing *source* package 'ArrayTools' ...
** using staged installation
** R
** data
** inst
** byte-compile and prepare package for lazy loading
** help
*** installing help indices
converting help for package 'ArrayTools'
finding HTML links ... done
Output2HTML html
QC html
Sort html
adjustment html
contrastMatrix-class html
createExpressionSet html
createGSEAFiles html
createIndex html
createIngenuityFile html
designMatrix-class html
eSetExample html
exprsExample html
geneFilter html
getAdjP html
getAnnotation html
getCompare1 html
getCompare2 html
getContrast html
getCovariates html
getDesign html
getF html
getFC html
getFCCutoff html
getFilterMethod html
getID html
getIndex html
getIntIndex html
getInteraction html
getLength html
getLevel html
getNormalizationMethod html
getP html
getPCutoff html
getTarget html
hugene10stCONTROL html
interactionResult-class html
mogene10stCONTROL html
output.cls html
output.gct html
output.ing html
pDataExample html
postInteraction html
preProcess3prime html
preProcessGeneST html
qa3prime html
qaGeneST html
regress html
regressResult-class html
regressionMethod html
selectSigGene html
selectSigGeneInt html
** building package indices
** installing vignettes
** testing if installed package can be loaded from temporary location
** testing if installed package can be loaded from final location
** testing if installed package keeps a record of temporary installation path
install for x64
* installing *source* package 'ArrayTools' ...
** testing if installed package can be loaded
* MD5 sums
packaged installation of 'ArrayTools' as ArrayTools_1.46.0.zip
* DONE (ArrayTools)