| Back to Multiple platform build/check report for BioC 3.10 |
|
This page was generated on 2020-04-15 12:18:36 -0400 (Wed, 15 Apr 2020).
| Package 77/1823 | Hostname | OS / Arch | INSTALL | BUILD | CHECK | BUILD BIN | ||||||
| ArrayExpress 1.46.0 Suhaib Mohammed
| malbec1 | Linux (Ubuntu 18.04.4 LTS) / x86_64 | OK | OK | OK | |||||||
| tokay1 | Windows Server 2012 R2 Standard / x64 | OK | OK | OK | [ OK ] | |||||||
| merida1 | OS X 10.11.6 El Capitan / x86_64 | OK | OK | OK | OK |
| Package: ArrayExpress |
| Version: 1.46.0 |
| Command: rm -rf ArrayExpress.buildbin-libdir && mkdir ArrayExpress.buildbin-libdir && C:\Users\biocbuild\bbs-3.10-bioc\R\bin\R.exe CMD INSTALL --merge-multiarch --build --library=ArrayExpress.buildbin-libdir ArrayExpress_1.46.0.tar.gz |
| StartedAt: 2020-04-15 08:11:29 -0400 (Wed, 15 Apr 2020) |
| EndedAt: 2020-04-15 08:12:13 -0400 (Wed, 15 Apr 2020) |
| EllapsedTime: 44.1 seconds |
| RetCode: 0 |
| Status: OK |
| PackageFile: ArrayExpress_1.46.0.zip |
| PackageFileSize: 257.8 KiB |
##############################################################################
##############################################################################
###
### Running command:
###
### rm -rf ArrayExpress.buildbin-libdir && mkdir ArrayExpress.buildbin-libdir && C:\Users\biocbuild\bbs-3.10-bioc\R\bin\R.exe CMD INSTALL --merge-multiarch --build --library=ArrayExpress.buildbin-libdir ArrayExpress_1.46.0.tar.gz
###
##############################################################################
##############################################################################
install for i386
* installing *source* package 'ArrayExpress' ...
** using staged installation
** R
** inst
** byte-compile and prepare package for lazy loading
No methods found in package 'RSQLite' for request: 'dbListFields' when loading 'oligo'
** help
*** installing help indices
converting help for package 'ArrayExpress'
finding HTML links ... done
ArrayExpress html
ae2bioc html
extract.zip html
getAE html
getcolproc html
getcolraw html
procset html
queryAE html
** building package indices
** installing vignettes
** testing if installed package can be loaded from temporary location
No methods found in package 'RSQLite' for request: 'dbListFields' when loading 'oligo'
** testing if installed package can be loaded from final location
No methods found in package 'RSQLite' for request: 'dbListFields' when loading 'oligo'
** testing if installed package keeps a record of temporary installation path
install for x64
* installing *source* package 'ArrayExpress' ...
** testing if installed package can be loaded
No methods found in package 'RSQLite' for request: 'dbListFields' when loading 'oligo'
* MD5 sums
packaged installation of 'ArrayExpress' as ArrayExpress_1.46.0.zip
* DONE (ArrayExpress)