| Back to Multiple platform build/check report for BioC 3.10 |
|
This page was generated on 2020-04-15 12:27:10 -0400 (Wed, 15 Apr 2020).
| Package 54/1823 | Hostname | OS / Arch | INSTALL | BUILD | CHECK | BUILD BIN | ||||||
| Anaquin 2.10.0 Ted Wong
| malbec1 | Linux (Ubuntu 18.04.4 LTS) / x86_64 | OK | OK | OK | |||||||
| tokay1 | Windows Server 2012 R2 Standard / x64 | OK | OK | OK | [ OK ] | |||||||
| merida1 | OS X 10.11.6 El Capitan / x86_64 | OK | OK | OK | OK |
| Package: Anaquin |
| Version: 2.10.0 |
| Command: rm -rf Anaquin.buildbin-libdir && mkdir Anaquin.buildbin-libdir && C:\Users\biocbuild\bbs-3.10-bioc\R\bin\R.exe CMD INSTALL --merge-multiarch --build --library=Anaquin.buildbin-libdir Anaquin_2.10.0.tar.gz |
| StartedAt: 2020-04-15 08:09:58 -0400 (Wed, 15 Apr 2020) |
| EndedAt: 2020-04-15 08:10:26 -0400 (Wed, 15 Apr 2020) |
| EllapsedTime: 28.2 seconds |
| RetCode: 0 |
| Status: OK |
| PackageFile: Anaquin_2.10.0.zip |
| PackageFileSize: 462.8 KiB |
##############################################################################
##############################################################################
###
### Running command:
###
### rm -rf Anaquin.buildbin-libdir && mkdir Anaquin.buildbin-libdir && C:\Users\biocbuild\bbs-3.10-bioc\R\bin\R.exe CMD INSTALL --merge-multiarch --build --library=Anaquin.buildbin-libdir Anaquin_2.10.0.tar.gz
###
##############################################################################
##############################################################################
install for i386
* installing *source* package 'Anaquin' ...
** using staged installation
** R
** data
*** moving datasets to lazyload DB
** inst
** byte-compile and prepare package for lazy loading
** help
*** installing help indices
converting help for package 'Anaquin'
finding HTML links ... done
RnaQuinGeneMixture html
RnaQuinIsoformMixture html
UserGuideData_5.4.5.1 html
UserGuideData_5.4.6.3 html
UserGuideData_5.6.3 html
plotConjoint html
plotLOD html
plotLinear html
plotLogistic html
plotROC html
** building package indices
** installing vignettes
** testing if installed package can be loaded from temporary location
** testing if installed package can be loaded from final location
** testing if installed package keeps a record of temporary installation path
install for x64
* installing *source* package 'Anaquin' ...
** testing if installed package can be loaded
* MD5 sums
packaged installation of 'Anaquin' as Anaquin_2.10.0.zip
* DONE (Anaquin)