| Back to Multiple platform build/check report for BioC 3.10 |
|
This page was generated on 2020-04-15 12:32:56 -0400 (Wed, 15 Apr 2020).
| Package 44/1823 | Hostname | OS / Arch | INSTALL | BUILD | CHECK | BUILD BIN | ||||||
| AlphaBeta 1.0.0 Yadollah Shahryary Dizaji
| malbec1 | Linux (Ubuntu 18.04.4 LTS) / x86_64 | OK | OK | OK | |||||||
| tokay1 | Windows Server 2012 R2 Standard / x64 | OK | OK | OK | [ OK ] | |||||||
| merida1 | OS X 10.11.6 El Capitan / x86_64 | OK | OK | OK | OK |
| Package: AlphaBeta |
| Version: 1.0.0 |
| Command: rm -rf AlphaBeta.buildbin-libdir && mkdir AlphaBeta.buildbin-libdir && C:\Users\biocbuild\bbs-3.10-bioc\R\bin\R.exe CMD INSTALL --merge-multiarch --build --library=AlphaBeta.buildbin-libdir AlphaBeta_1.0.0.tar.gz |
| StartedAt: 2020-04-15 08:09:14 -0400 (Wed, 15 Apr 2020) |
| EndedAt: 2020-04-15 08:09:33 -0400 (Wed, 15 Apr 2020) |
| EllapsedTime: 19.9 seconds |
| RetCode: 0 |
| Status: OK |
| PackageFile: AlphaBeta_1.0.0.zip |
| PackageFileSize: 637.5 KiB |
##############################################################################
##############################################################################
###
### Running command:
###
### rm -rf AlphaBeta.buildbin-libdir && mkdir AlphaBeta.buildbin-libdir && C:\Users\biocbuild\bbs-3.10-bioc\R\bin\R.exe CMD INSTALL --merge-multiarch --build --library=AlphaBeta.buildbin-libdir AlphaBeta_1.0.0.tar.gz
###
##############################################################################
##############################################################################
install for i386
* installing *source* package 'AlphaBeta' ...
** using staged installation
** R
** inst
** byte-compile and prepare package for lazy loading
** help
*** installing help indices
converting help for package 'AlphaBeta'
finding HTML links ... done
ABneutral html
ABneutralSOMA html
ABnull html
ABselectMM html
ABselectMMSOMA html
ABselectUU html
ABselectUUSOMA html
BOOTmodel html
FtestRSS html
convertDMATRIX html
dMatrix html
makePHYLO html
rc.meth.lvl html
** building package indices
** installing vignettes
** testing if installed package can be loaded from temporary location
** testing if installed package can be loaded from final location
** testing if installed package keeps a record of temporary installation path
install for x64
* installing *source* package 'AlphaBeta' ...
** testing if installed package can be loaded
* MD5 sums
packaged installation of 'AlphaBeta' as AlphaBeta_1.0.0.zip
* DONE (AlphaBeta)