| Back to Multiple platform build/check report for BioC 3.10 |
|
This page was generated on 2020-04-15 12:22:03 -0400 (Wed, 15 Apr 2020).
| Package 93/1823 | Hostname | OS / Arch | INSTALL | BUILD | CHECK | BUILD BIN | ||||||
| ASSET 2.4.0 Samsiddhi Bhattacharjee
| malbec1 | Linux (Ubuntu 18.04.4 LTS) / x86_64 | OK | OK | WARNINGS | |||||||
| tokay1 | Windows Server 2012 R2 Standard / x64 | OK | OK | WARNINGS | [ OK ] | |||||||
| merida1 | OS X 10.11.6 El Capitan / x86_64 | OK | OK | WARNINGS | OK |
| Package: ASSET |
| Version: 2.4.0 |
| Command: rm -rf ASSET.buildbin-libdir && mkdir ASSET.buildbin-libdir && C:\Users\biocbuild\bbs-3.10-bioc\R\bin\R.exe CMD INSTALL --merge-multiarch --build --library=ASSET.buildbin-libdir ASSET_2.4.0.tar.gz |
| StartedAt: 2020-04-15 08:12:55 -0400 (Wed, 15 Apr 2020) |
| EndedAt: 2020-04-15 08:13:33 -0400 (Wed, 15 Apr 2020) |
| EllapsedTime: 38.3 seconds |
| RetCode: 0 |
| Status: OK |
| PackageFile: ASSET_2.4.0.zip |
| PackageFileSize: 386.9 KiB |
##############################################################################
##############################################################################
###
### Running command:
###
### rm -rf ASSET.buildbin-libdir && mkdir ASSET.buildbin-libdir && C:\Users\biocbuild\bbs-3.10-bioc\R\bin\R.exe CMD INSTALL --merge-multiarch --build --library=ASSET.buildbin-libdir ASSET_2.4.0.tar.gz
###
##############################################################################
##############################################################################
install for i386
* installing *source* package 'ASSET' ...
** using staged installation
** R
** data
** inst
** byte-compile and prepare package for lazy loading
** help
*** installing help indices
converting help for package 'ASSET'
finding HTML links ... done
ASSET html
ex_trait html
ex_types html
h.forestPlot html
h.summary html
h.traits html
finding level-2 HTML links ... done
Rd warning: C:/Users/biocbuild/bbs-3.10-bioc/tmpdir/RtmpGWRvbO/R.INSTALL1d144201d5b/ASSET/man/h.traits.Rd:41: missing link 'p.tube'
h.types html
Rd warning: C:/Users/biocbuild/bbs-3.10-bioc/tmpdir/RtmpGWRvbO/R.INSTALL1d144201d5b/ASSET/man/h.types.Rd:38: missing link 'p.tube'
p.dlm html
z.max html
** building package indices
** installing vignettes
** testing if installed package can be loaded from temporary location
** testing if installed package can be loaded from final location
** testing if installed package keeps a record of temporary installation path
install for x64
* installing *source* package 'ASSET' ...
** testing if installed package can be loaded
* MD5 sums
packaged installation of 'ASSET' as ASSET_2.4.0.zip
* DONE (ASSET)