| Back to Multiple platform build/check report for BioC 3.10 |
|
This page was generated on 2020-04-15 12:30:11 -0400 (Wed, 15 Apr 2020).
| Package 89/1823 | Hostname | OS / Arch | INSTALL | BUILD | CHECK | BUILD BIN | ||||||
| ASICS 2.2.0 Gaƫlle Lefort
| malbec1 | Linux (Ubuntu 18.04.4 LTS) / x86_64 | OK | OK | OK | |||||||
| tokay1 | Windows Server 2012 R2 Standard / x64 | ERROR | OK | ERROR | [ ERROR ] | |||||||
| merida1 | OS X 10.11.6 El Capitan / x86_64 | OK | OK | WARNINGS | OK |
| Package: ASICS |
| Version: 2.2.0 |
| Command: rm -rf ASICS.buildbin-libdir && mkdir ASICS.buildbin-libdir && C:\Users\biocbuild\bbs-3.10-bioc\R\bin\R.exe CMD INSTALL --merge-multiarch --build --library=ASICS.buildbin-libdir ASICS_2.2.0.tar.gz |
| StartedAt: 2020-04-15 08:12:36 -0400 (Wed, 15 Apr 2020) |
| EndedAt: 2020-04-15 08:13:26 -0400 (Wed, 15 Apr 2020) |
| EllapsedTime: 50.2 seconds |
| RetCode: 1 |
| Status: ERROR |
| PackageFile: None |
| PackageFileSize: NA |
############################################################################## ############################################################################## ### ### Running command: ### ### rm -rf ASICS.buildbin-libdir && mkdir ASICS.buildbin-libdir && C:\Users\biocbuild\bbs-3.10-bioc\R\bin\R.exe CMD INSTALL --merge-multiarch --build --library=ASICS.buildbin-libdir ASICS_2.2.0.tar.gz ### ############################################################################## ############################################################################## install for i386 * installing *source* package 'ASICS' ... ** using staged installation ** R ** data *** moving datasets to lazyload DB ** inst ** byte-compile and prepare package for lazy loading Error in library.dynam(dynlib, pkg, lib) : DLL 'rgl' not found: maybe not installed for this architecture? Error: .onLoad failed in loadNamespace() for 'rgl', details: call: NULL error: Loading rgl's DLL failed. Execution halted ERROR: lazy loading failed for package 'ASICS' * removing 'C:/Users/biocbuild/bbs-3.10-bioc/meat/ASICS.buildbin-libdir/ASICS'