| Back to Multiple platform build/check report for BioC 3.10 |
|
This page was generated on 2020-04-15 12:32:56 -0400 (Wed, 15 Apr 2020).
| Package 72/1823 | Hostname | OS / Arch | INSTALL | BUILD | CHECK | BUILD BIN | ||||||
| APAlyzer 1.0.0 Ruijia Wang
| malbec1 | Linux (Ubuntu 18.04.4 LTS) / x86_64 | OK | OK | OK | |||||||
| tokay1 | Windows Server 2012 R2 Standard / x64 | OK | OK | OK | [ OK ] | |||||||
| merida1 | OS X 10.11.6 El Capitan / x86_64 | OK | OK | OK | OK |
| Package: APAlyzer |
| Version: 1.0.0 |
| Command: rm -rf APAlyzer.buildbin-libdir && mkdir APAlyzer.buildbin-libdir && C:\Users\biocbuild\bbs-3.10-bioc\R\bin\R.exe CMD INSTALL --build --library=APAlyzer.buildbin-libdir APAlyzer_1.0.0.tar.gz |
| StartedAt: 2020-04-15 08:11:05 -0400 (Wed, 15 Apr 2020) |
| EndedAt: 2020-04-15 08:12:01 -0400 (Wed, 15 Apr 2020) |
| EllapsedTime: 56.6 seconds |
| RetCode: 0 |
| Status: OK |
| PackageFile: APAlyzer_1.0.0.zip |
| PackageFileSize: 4.127 MiB |
##############################################################################
##############################################################################
###
### Running command:
###
### rm -rf APAlyzer.buildbin-libdir && mkdir APAlyzer.buildbin-libdir && C:\Users\biocbuild\bbs-3.10-bioc\R\bin\R.exe CMD INSTALL --build --library=APAlyzer.buildbin-libdir APAlyzer_1.0.0.tar.gz
###
##############################################################################
##############################################################################
* installing *source* package 'APAlyzer' ...
** using staged installation
** R
** inst
** byte-compile and prepare package for lazy loading
** help
*** installing help indices
converting help for package 'APAlyzer'
finding HTML links ... done
APAdiff html
GENEXP_CDS html
PASEXP_3UTR html
PASEXP_IPA html
REF3UTR html
REFCDS html
** building package indices
** installing vignettes
** testing if installed package can be loaded from temporary location
*** arch - i386
*** arch - x64
** testing if installed package can be loaded from final location
*** arch - i386
*** arch - x64
** testing if installed package keeps a record of temporary installation path
* MD5 sums
packaged installation of 'APAlyzer' as APAlyzer_1.0.0.zip
* DONE (APAlyzer)