| Back to Multiple platform build/check report for BioC 3.10 |
|
This page was generated on 2020-04-15 12:23:45 -0400 (Wed, 15 Apr 2020).
| Package 41/1823 | Hostname | OS / Arch | INSTALL | BUILD | CHECK | BUILD BIN | ||||||
| ALDEx2 1.18.0 Greg Gloor
| malbec1 | Linux (Ubuntu 18.04.4 LTS) / x86_64 | OK | OK | OK | |||||||
| tokay1 | Windows Server 2012 R2 Standard / x64 | OK | OK | OK | [ OK ] | |||||||
| merida1 | OS X 10.11.6 El Capitan / x86_64 | OK | OK | OK | OK |
| Package: ALDEx2 |
| Version: 1.18.0 |
| Command: rm -rf ALDEx2.buildbin-libdir && mkdir ALDEx2.buildbin-libdir && C:\Users\biocbuild\bbs-3.10-bioc\R\bin\R.exe CMD INSTALL --merge-multiarch --build --library=ALDEx2.buildbin-libdir ALDEx2_1.18.0.tar.gz |
| StartedAt: 2020-04-15 08:09:03 -0400 (Wed, 15 Apr 2020) |
| EndedAt: 2020-04-15 08:09:30 -0400 (Wed, 15 Apr 2020) |
| EllapsedTime: 26.8 seconds |
| RetCode: 0 |
| Status: OK |
| PackageFile: ALDEx2_1.18.0.zip |
| PackageFileSize: 1.042 MiB |
##############################################################################
##############################################################################
###
### Running command:
###
### rm -rf ALDEx2.buildbin-libdir && mkdir ALDEx2.buildbin-libdir && C:\Users\biocbuild\bbs-3.10-bioc\R\bin\R.exe CMD INSTALL --merge-multiarch --build --library=ALDEx2.buildbin-libdir ALDEx2_1.18.0.tar.gz
###
##############################################################################
##############################################################################
install for i386
* installing *source* package 'ALDEx2' ...
** using staged installation
** R
** data
** inst
** byte-compile and prepare package for lazy loading
** help
*** installing help indices
converting help for package 'ALDEx2'
finding HTML links ... done
ALDEx2m-package html
aldex html
aldex.clr-class html
aldex.clr.function-methods html
aldex.corr html
aldex.effect html
aldex.glm html
aldex.kw html
aldex.set.mode html
aldex.ttest html
expectedDistance html
getDenom-method html
getFeatureNames-method html
getFeatures-method html
getMonteCarloInstances-method html
getMonteCarloReplicate-method html
getMonteCarloSample-method html
getReads-method html
getSampleIDs-method html
numConditions-method html
numFeatures-method html
numMCInstances-method html
plot.aldex html
plotFeature.aldex html
selex html
synth2 html
** building package indices
** installing vignettes
** testing if installed package can be loaded from temporary location
** testing if installed package can be loaded from final location
** testing if installed package keeps a record of temporary installation path
install for x64
* installing *source* package 'ALDEx2' ...
** testing if installed package can be loaded
* MD5 sums
packaged installation of 'ALDEx2' as ALDEx2_1.18.0.zip
* DONE (ALDEx2)