| Back to Multiple platform build/check report for BioC 3.10 |
|
This page was generated on 2020-04-15 12:22:49 -0400 (Wed, 15 Apr 2020).
| Package 10/1823 | Hostname | OS / Arch | INSTALL | BUILD | CHECK | BUILD BIN | ||||||
| ABSSeq 1.40.0 Wentao Yang
| malbec1 | Linux (Ubuntu 18.04.4 LTS) / x86_64 | OK | OK | OK | |||||||
| tokay1 | Windows Server 2012 R2 Standard / x64 | OK | OK | OK | [ OK ] | |||||||
| merida1 | OS X 10.11.6 El Capitan / x86_64 | OK | OK | OK | OK |
| Package: ABSSeq |
| Version: 1.40.0 |
| Command: rm -rf ABSSeq.buildbin-libdir && mkdir ABSSeq.buildbin-libdir && C:\Users\biocbuild\bbs-3.10-bioc\R\bin\R.exe CMD INSTALL --merge-multiarch --build --library=ABSSeq.buildbin-libdir ABSSeq_1.40.0.tar.gz |
| StartedAt: 2020-04-15 08:07:22 -0400 (Wed, 15 Apr 2020) |
| EndedAt: 2020-04-15 08:07:49 -0400 (Wed, 15 Apr 2020) |
| EllapsedTime: 27.5 seconds |
| RetCode: 0 |
| Status: OK |
| PackageFile: ABSSeq_1.40.0.zip |
| PackageFileSize: 658.2 KiB |
##############################################################################
##############################################################################
###
### Running command:
###
### rm -rf ABSSeq.buildbin-libdir && mkdir ABSSeq.buildbin-libdir && C:\Users\biocbuild\bbs-3.10-bioc\R\bin\R.exe CMD INSTALL --merge-multiarch --build --library=ABSSeq.buildbin-libdir ABSSeq_1.40.0.tar.gz
###
##############################################################################
##############################################################################
install for i386
* installing *source* package 'ABSSeq' ...
** using staged installation
** R
** data
** inst
** byte-compile and prepare package for lazy loading
** help
*** installing help indices
converting help for package 'ABSSeq'
finding HTML links ... done
ABSDataSet html
ABSSeq html
ABSSeqlm html
LevelstoNormFC html
ReplaceOutliersByMAD html
aFoldcomplexDesign html
callDEs html
callParameter html
callParameterwithoutReplicates html
counts html
estimateSizeFactorsForMatrix html
excounts html
genAFold html
groups html
maxRates html
minRates html
minimalDispersion html
normMethod html
normalFactors html
paired html
plotDifftoBase html
qtotalNormalized html
results html
sFactors html
simuN5 html
** building package indices
** installing vignettes
** testing if installed package can be loaded from temporary location
** testing if installed package can be loaded from final location
** testing if installed package keeps a record of temporary installation path
install for x64
* installing *source* package 'ABSSeq' ...
** testing if installed package can be loaded
* MD5 sums
packaged installation of 'ABSSeq' as ABSSeq_1.40.0.zip
* DONE (ABSSeq)