| Back to Multiple platform build/check report for BioC 3.10 |
|
This page was generated on 2020-04-15 12:19:14 -0400 (Wed, 15 Apr 2020).
| Package 1721/1823 | Hostname | OS / Arch | INSTALL | BUILD | CHECK | BUILD BIN | ||||||
| tigre 1.40.0 Antti Honkela
| malbec1 | Linux (Ubuntu 18.04.4 LTS) / x86_64 | OK | OK | OK | |||||||
| tokay1 | Windows Server 2012 R2 Standard / x64 | OK | OK | OK | [ OK ] | |||||||
| merida1 | OS X 10.11.6 El Capitan / x86_64 | OK | OK | OK | OK |
| Package: tigre |
| Version: 1.40.0 |
| Command: rm -rf tigre.buildbin-libdir && mkdir tigre.buildbin-libdir && C:\Users\biocbuild\bbs-3.10-bioc\R\bin\R.exe CMD INSTALL --merge-multiarch --build --library=tigre.buildbin-libdir tigre_1.40.0.tar.gz |
| StartedAt: 2020-04-15 09:49:01 -0400 (Wed, 15 Apr 2020) |
| EndedAt: 2020-04-15 09:49:47 -0400 (Wed, 15 Apr 2020) |
| EllapsedTime: 46.0 seconds |
| RetCode: 0 |
| Status: OK |
| PackageFile: tigre_1.40.0.zip |
| PackageFileSize: 1.134 MiB |
##############################################################################
##############################################################################
###
### Running command:
###
### rm -rf tigre.buildbin-libdir && mkdir tigre.buildbin-libdir && C:\Users\biocbuild\bbs-3.10-bioc\R\bin\R.exe CMD INSTALL --merge-multiarch --build --library=tigre.buildbin-libdir tigre_1.40.0.tar.gz
###
##############################################################################
##############################################################################
install for i386
* installing *source* package 'tigre' ...
** using staged installation
** libs
C:/Rtools/mingw_32/bin/gcc -I"C:/Users/BIOCBU~1/BBS-3~1.10-/R/include" -DNDEBUG -I"C:/extsoft/include" -O3 -Wall -std=gnu99 -mtune=core2 -c miscCFunctions.c -o miscCFunctions.o
C:/Rtools/mingw_32/bin/gcc -shared -s -static-libgcc -o tigre.dll tmp.def miscCFunctions.o -LC:/extsoft/lib/i386 -LC:/extsoft/lib -LC:/Users/BIOCBU~1/BBS-3~1.10-/R/bin/i386 -lR
installing to C:/Users/biocbuild/bbs-3.10-bioc/meat/tigre.buildbin-libdir/00LOCK-tigre/00new/tigre/libs/i386
** R
** data
** inst
** byte-compile and prepare package for lazy loading
** help
*** installing help indices
converting help for package 'tigre'
finding HTML links ... done
ExpressionTimeSeries-class html
finding level-2 HTML links ... done
GPLearn html
GPModel-class html
GPPlot html
GPRankTargets html
SCGoptim html
drosophila_gpsim_fragment html
drosophila_mmgmos_fragment html
expTransform html
export html
generateModels html
gpsimCreate html
kernCompute html
kernCreate html
kernDiagGradX html
kernGradient html
lnDiffErfs html
modelDisplay html
modelExpandParam html
modelExtractParam html
modelGradient html
modelTieParam html
optimiDefaultConstraint html
plotTimeseries html
processData html
scoreList-class html
tigre-package html
** building package indices
** installing vignettes
** testing if installed package can be loaded from temporary location
** testing if installed package can be loaded from final location
** testing if installed package keeps a record of temporary installation path
install for x64
* installing *source* package 'tigre' ...
** libs
C:/Rtools/mingw_64/bin/gcc -I"C:/Users/BIOCBU~1/BBS-3~1.10-/R/include" -DNDEBUG -I"C:/extsoft/include" -O2 -Wall -std=gnu99 -mtune=core2 -c miscCFunctions.c -o miscCFunctions.o
C:/Rtools/mingw_64/bin/gcc -shared -s -static-libgcc -o tigre.dll tmp.def miscCFunctions.o -LC:/extsoft/lib/x64 -LC:/extsoft/lib -LC:/Users/BIOCBU~1/BBS-3~1.10-/R/bin/x64 -lR
installing to C:/Users/biocbuild/bbs-3.10-bioc/meat/tigre.buildbin-libdir/tigre/libs/x64
** testing if installed package can be loaded
* MD5 sums
packaged installation of 'tigre' as tigre_1.40.0.zip
* DONE (tigre)