| Back to Multiple platform build/check report for BioC 3.10 |
|
This page was generated on 2020-04-15 12:24:29 -0400 (Wed, 15 Apr 2020).
| Package 1611/1823 | Hostname | OS / Arch | INSTALL | BUILD | CHECK | BUILD BIN | ||||||
| skewr 1.18.0 Ryan Putney
| malbec1 | Linux (Ubuntu 18.04.4 LTS) / x86_64 | OK | OK | OK | |||||||
| tokay1 | Windows Server 2012 R2 Standard / x64 | [ OK ] | OK | OK | OK | |||||||
| merida1 | OS X 10.11.6 El Capitan / x86_64 | OK | OK | OK | OK |
| Package: skewr |
| Version: 1.18.0 |
| Command: C:\cygwin\bin\curl.exe -O https://malbec1.bioconductor.org/BBS/3.10/bioc/src/contrib/skewr_1.18.0.tar.gz && rm -rf skewr.buildbin-libdir && mkdir skewr.buildbin-libdir && C:\Users\biocbuild\bbs-3.10-bioc\R\bin\R.exe CMD INSTALL --merge-multiarch --build --library=skewr.buildbin-libdir skewr_1.18.0.tar.gz && C:\Users\biocbuild\bbs-3.10-bioc\R\bin\R.exe CMD INSTALL skewr_1.18.0.zip && rm skewr_1.18.0.tar.gz skewr_1.18.0.zip |
| StartedAt: 2020-04-14 20:38:59 -0400 (Tue, 14 Apr 2020) |
| EndedAt: 2020-04-14 20:39:59 -0400 (Tue, 14 Apr 2020) |
| EllapsedTime: 60.3 seconds |
| RetCode: 0 |
| Status: OK |
##############################################################################
##############################################################################
###
### Running command:
###
### C:\cygwin\bin\curl.exe -O https://malbec1.bioconductor.org/BBS/3.10/bioc/src/contrib/skewr_1.18.0.tar.gz && rm -rf skewr.buildbin-libdir && mkdir skewr.buildbin-libdir && C:\Users\biocbuild\bbs-3.10-bioc\R\bin\R.exe CMD INSTALL --merge-multiarch --build --library=skewr.buildbin-libdir skewr_1.18.0.tar.gz && C:\Users\biocbuild\bbs-3.10-bioc\R\bin\R.exe CMD INSTALL skewr_1.18.0.zip && rm skewr_1.18.0.tar.gz skewr_1.18.0.zip
###
##############################################################################
##############################################################################
% Total % Received % Xferd Average Speed Time Time Time Current
Dload Upload Total Spent Left Speed
0 0 0 0 0 0 0 0 --:--:-- --:--:-- --:--:-- 0
0 0 0 0 0 0 0 0 --:--:-- --:--:-- --:--:-- 0
100 69039 100 69039 0 0 138k 0 --:--:-- --:--:-- --:--:-- 139k
install for i386
* installing *source* package 'skewr' ...
** using staged installation
** R
** byte-compile and prepare package for lazy loading
No methods found in package 'RSQLite' for request: 'dbListFields' when loading 'lumi'
** help
*** installing help indices
converting help for package 'skewr'
finding HTML links ... done
getBarcodes html
getMethyLumiSet html
getSNparams html
panelPlots html
preprocess html
subsetProbes html
** building package indices
** installing vignettes
** testing if installed package can be loaded from temporary location
No methods found in package 'RSQLite' for request: 'dbListFields' when loading 'lumi'
** testing if installed package can be loaded from final location
No methods found in package 'RSQLite' for request: 'dbListFields' when loading 'lumi'
** testing if installed package keeps a record of temporary installation path
install for x64
* installing *source* package 'skewr' ...
** testing if installed package can be loaded
No methods found in package 'RSQLite' for request: 'dbListFields' when loading 'lumi'
* MD5 sums
packaged installation of 'skewr' as skewr_1.18.0.zip
* DONE (skewr)
* installing to library 'C:/Users/biocbuild/bbs-3.10-bioc/R/library'
package 'skewr' successfully unpacked and MD5 sums checked