| Back to Multiple platform build/check report for BioC 3.10 |
|
This page was generated on 2020-04-15 12:13:15 -0400 (Wed, 15 Apr 2020).
| Package 1532/1823 | Hostname | OS / Arch | INSTALL | BUILD | CHECK | BUILD BIN | ||||||
| scfind 1.8.0 Vladimir Kiselev
| malbec1 | Linux (Ubuntu 18.04.4 LTS) / x86_64 | [ OK ] | ERROR | skipped | |||||||
| tokay1 | Windows Server 2012 R2 Standard / x64 | OK | ERROR | skipped | skipped | |||||||
| merida1 | OS X 10.11.6 El Capitan / x86_64 | OK | ERROR | skipped | skipped |
| Package: scfind |
| Version: 1.8.0 |
| Command: /home/biocbuild/bbs-3.10-bioc/R/bin/R CMD INSTALL scfind |
| StartedAt: 2020-04-14 18:55:11 -0400 (Tue, 14 Apr 2020) |
| EndedAt: 2020-04-14 18:55:46 -0400 (Tue, 14 Apr 2020) |
| EllapsedTime: 34.4 seconds |
| RetCode: 0 |
| Status: OK |
##############################################################################
##############################################################################
###
### Running command:
###
### /home/biocbuild/bbs-3.10-bioc/R/bin/R CMD INSTALL scfind
###
##############################################################################
##############################################################################
* installing to library ‘/home/biocbuild/bbs-3.10-bioc/R/library’
* installing *source* package ‘scfind’ ...
** using staged installation
** libs
g++ -std=gnu++11 -I"/home/biocbuild/bbs-3.10-bioc/R/include" -DNDEBUG -I"/home/biocbuild/bbs-3.10-bioc/R/library/Rcpp/include" -I/usr/local/include -fpic -g -O2 -Wall -c RcppExports.cpp -o RcppExports.o
g++ -std=gnu++11 -I"/home/biocbuild/bbs-3.10-bioc/R/include" -DNDEBUG -I"/home/biocbuild/bbs-3.10-bioc/R/library/Rcpp/include" -I/usr/local/include -fpic -g -O2 -Wall -c eliasFano.cpp -o eliasFano.o
eliasFano.cpp: In function ‘std::vector<bool> int2bin(int)’:
eliasFano.cpp:8:9: warning: unused variable ‘rem’ [-Wunused-variable]
int rem;
^~~
eliasFano.cpp: In function ‘Rcpp::NumericVector eliasFanoDecoding(Rcpp::LogicalVector, Rcpp::LogicalVector, int)’:
eliasFano.cpp:83:31: warning: comparison between signed and unsigned integer expressions [-Wsign-compare]
for (int k = 0; k < h.size(); k++) {
~~^~~~~~~~~~
g++ -std=gnu++11 -shared -L/home/biocbuild/bbs-3.10-bioc/R/lib -L/usr/local/lib -o scfind.so RcppExports.o eliasFano.o -L/home/biocbuild/bbs-3.10-bioc/R/lib -lRlapack -L/home/biocbuild/bbs-3.10-bioc/R/lib -lRblas -lgfortran -lm -lquadmath -L/home/biocbuild/bbs-3.10-bioc/R/lib -lR
installing to /home/biocbuild/bbs-3.10-bioc/R/library/00LOCK-scfind/00new/scfind/libs
** R
** data
*** moving datasets to lazyload DB
** inst
** byte-compile and prepare package for lazy loading
** help
*** installing help indices
** building package indices
** installing vignettes
** testing if installed package can be loaded from temporary location
** checking absolute paths in shared objects and dynamic libraries
** testing if installed package can be loaded from final location
** testing if installed package keeps a record of temporary installation path
* DONE (scfind)