| Back to Multiple platform build/check report for BioC 3.10 |
|
This page was generated on 2020-04-15 12:33:33 -0400 (Wed, 15 Apr 2020).
| Package 1197/1823 | Hostname | OS / Arch | INSTALL | BUILD | CHECK | BUILD BIN | ||||||
| oppti 1.0.0 Abdulkadir Elmas
| malbec1 | Linux (Ubuntu 18.04.4 LTS) / x86_64 | OK | OK | OK | |||||||
| tokay1 | Windows Server 2012 R2 Standard / x64 | OK | OK | OK | [ OK ] | |||||||
| merida1 | OS X 10.11.6 El Capitan / x86_64 | OK | OK | OK | OK |
| Package: oppti |
| Version: 1.0.0 |
| Command: rm -rf oppti.buildbin-libdir && mkdir oppti.buildbin-libdir && C:\Users\biocbuild\bbs-3.10-bioc\R\bin\R.exe CMD INSTALL --merge-multiarch --build --library=oppti.buildbin-libdir oppti_1.0.0.tar.gz |
| StartedAt: 2020-04-15 09:19:06 -0400 (Wed, 15 Apr 2020) |
| EndedAt: 2020-04-15 09:19:38 -0400 (Wed, 15 Apr 2020) |
| EllapsedTime: 32.3 seconds |
| RetCode: 0 |
| Status: OK |
| PackageFile: oppti_1.0.0.zip |
| PackageFileSize: 111.8 KiB |
##############################################################################
##############################################################################
###
### Running command:
###
### rm -rf oppti.buildbin-libdir && mkdir oppti.buildbin-libdir && C:\Users\biocbuild\bbs-3.10-bioc\R\bin\R.exe CMD INSTALL --merge-multiarch --build --library=oppti.buildbin-libdir oppti_1.0.0.tar.gz
###
##############################################################################
##############################################################################
install for i386
* installing *source* package 'oppti' ...
** using staged installation
** R
** inst
** byte-compile and prepare package for lazy loading
** help
*** installing help indices
converting help for package 'oppti'
finding HTML links ... done
artImpute html
clusterData html
dropMarkers html
dysReg html
markOut html
oppti html
outScores html
plotDen html
rankPerOut html
statTest html
** building package indices
** installing vignettes
** testing if installed package can be loaded from temporary location
** testing if installed package can be loaded from final location
** testing if installed package keeps a record of temporary installation path
install for x64
* installing *source* package 'oppti' ...
** testing if installed package can be loaded
* MD5 sums
packaged installation of 'oppti' as oppti_1.0.0.zip
* DONE (oppti)