| Back to Multiple platform build/check report for BioC 3.10 |
|
This page was generated on 2020-04-15 12:17:53 -0400 (Wed, 15 Apr 2020).
| Package 1167/1823 | Hostname | OS / Arch | INSTALL | BUILD | CHECK | BUILD BIN | ||||||
| occugene 1.46.0 Oliver Will
| malbec1 | Linux (Ubuntu 18.04.4 LTS) / x86_64 | OK | OK | OK | |||||||
| tokay1 | Windows Server 2012 R2 Standard / x64 | [ OK ] | OK | OK | OK | |||||||
| merida1 | OS X 10.11.6 El Capitan / x86_64 | OK | OK | OK | OK |
| Package: occugene |
| Version: 1.46.0 |
| Command: C:\cygwin\bin\curl.exe -O https://malbec1.bioconductor.org/BBS/3.10/bioc/src/contrib/occugene_1.46.0.tar.gz && rm -rf occugene.buildbin-libdir && mkdir occugene.buildbin-libdir && C:\Users\biocbuild\bbs-3.10-bioc\R\bin\R.exe CMD INSTALL --merge-multiarch --build --library=occugene.buildbin-libdir occugene_1.46.0.tar.gz && C:\Users\biocbuild\bbs-3.10-bioc\R\bin\R.exe CMD INSTALL occugene_1.46.0.zip && rm occugene_1.46.0.tar.gz occugene_1.46.0.zip |
| StartedAt: 2020-04-14 18:30:33 -0400 (Tue, 14 Apr 2020) |
| EndedAt: 2020-04-14 18:30:59 -0400 (Tue, 14 Apr 2020) |
| EllapsedTime: 26.3 seconds |
| RetCode: 0 |
| Status: OK |
##############################################################################
##############################################################################
###
### Running command:
###
### C:\cygwin\bin\curl.exe -O https://malbec1.bioconductor.org/BBS/3.10/bioc/src/contrib/occugene_1.46.0.tar.gz && rm -rf occugene.buildbin-libdir && mkdir occugene.buildbin-libdir && C:\Users\biocbuild\bbs-3.10-bioc\R\bin\R.exe CMD INSTALL --merge-multiarch --build --library=occugene.buildbin-libdir occugene_1.46.0.tar.gz && C:\Users\biocbuild\bbs-3.10-bioc\R\bin\R.exe CMD INSTALL occugene_1.46.0.zip && rm occugene_1.46.0.tar.gz occugene_1.46.0.zip
###
##############################################################################
##############################################################################
% Total % Received % Xferd Average Speed Time Time Time Current
Dload Upload Total Spent Left Speed
0 0 0 0 0 0 0 0 --:--:-- --:--:-- --:--:-- 0
100 12093 100 12093 0 0 50472 0 --:--:-- --:--:-- --:--:-- 51241
install for i386
* installing *source* package 'occugene' ...
** using staged installation
** R
** data
** byte-compile and prepare package for lazy loading
** help
*** installing help indices
converting help for package 'occugene'
finding HTML links ... done
binHist html
binInsert html
binInsertHist html
checkFormat html
delta0 html
eMult html
etDelta html
fCumul html
fFit html
loadAnnotation html
loadInsertions html
occup2Negenes html
sampleAnnotation html
sampleInsertions html
unbiasB0 html
unbiasDelta0 html
varMult html
** building package indices
** installing vignettes
** testing if installed package can be loaded from temporary location
** testing if installed package can be loaded from final location
** testing if installed package keeps a record of temporary installation path
install for x64
* installing *source* package 'occugene' ...
** testing if installed package can be loaded
* MD5 sums
packaged installation of 'occugene' as occugene_1.46.0.zip
* DONE (occugene)
* installing to library 'C:/Users/biocbuild/bbs-3.10-bioc/R/library'
package 'occugene' successfully unpacked and MD5 sums checked