| Back to Multiple platform build/check report for BioC 3.10 |
|
This page was generated on 2020-04-15 12:45:30 -0400 (Wed, 15 Apr 2020).
| Package 1052/1823 | Hostname | OS / Arch | INSTALL | BUILD | CHECK | BUILD BIN | ||||||
| miRBaseConverter 1.10.1 Taosheng Xu
| malbec1 | Linux (Ubuntu 18.04.4 LTS) / x86_64 | OK | OK | OK | |||||||
| tokay1 | Windows Server 2012 R2 Standard / x64 | OK | OK | OK | OK | |||||||
| merida1 | OS X 10.11.6 El Capitan / x86_64 | OK | OK | [ OK ] | OK |
| Package: miRBaseConverter |
| Version: 1.10.1 |
| Command: /Library/Frameworks/R.framework/Versions/Current/Resources/bin/R CMD check --install=check:miRBaseConverter.install-out.txt --library=/Library/Frameworks/R.framework/Versions/Current/Resources/library --no-vignettes --timings miRBaseConverter_1.10.1.tar.gz |
| StartedAt: 2020-04-15 03:55:41 -0400 (Wed, 15 Apr 2020) |
| EndedAt: 2020-04-15 03:56:35 -0400 (Wed, 15 Apr 2020) |
| EllapsedTime: 54.2 seconds |
| RetCode: 0 |
| Status: OK |
| CheckDir: miRBaseConverter.Rcheck |
| Warnings: 0 |
##############################################################################
##############################################################################
###
### Running command:
###
### /Library/Frameworks/R.framework/Versions/Current/Resources/bin/R CMD check --install=check:miRBaseConverter.install-out.txt --library=/Library/Frameworks/R.framework/Versions/Current/Resources/library --no-vignettes --timings miRBaseConverter_1.10.1.tar.gz
###
##############################################################################
##############################################################################
* using log directory ‘/Users/biocbuild/bbs-3.10-bioc/meat/miRBaseConverter.Rcheck’
* using R version 3.6.3 (2020-02-29)
* using platform: x86_64-apple-darwin15.6.0 (64-bit)
* using session charset: UTF-8
* using option ‘--no-vignettes’
* checking for file ‘miRBaseConverter/DESCRIPTION’ ... OK
* checking extension type ... Package
* this is package ‘miRBaseConverter’ version ‘1.10.1’
* checking package namespace information ... OK
* checking package dependencies ... OK
* checking if this is a source package ... OK
* checking if there is a namespace ... OK
* checking for hidden files and directories ... OK
* checking for portable file names ... OK
* checking for sufficient/correct file permissions ... OK
* checking whether package ‘miRBaseConverter’ can be installed ... OK
* checking installed package size ... OK
* checking package directory ... OK
* checking ‘build’ directory ... OK
* checking DESCRIPTION meta-information ... OK
* checking top-level files ... OK
* checking for left-over files ... OK
* checking index information ... OK
* checking package subdirectories ... OK
* checking R files for non-ASCII characters ... OK
* checking R files for syntax errors ... OK
* checking whether the package can be loaded ... OK
* checking whether the package can be loaded with stated dependencies ... OK
* checking whether the package can be unloaded cleanly ... OK
* checking whether the namespace can be loaded with stated dependencies ... OK
* checking whether the namespace can be unloaded cleanly ... OK
* checking dependencies in R code ... OK
* checking S3 generic/method consistency ... OK
* checking replacement functions ... OK
* checking foreign function calls ... OK
* checking R code for possible problems ... OK
* checking Rd files ... OK
* checking Rd metadata ... OK
* checking Rd cross-references ... OK
* checking for missing documentation entries ... OK
* checking for code/documentation mismatches ... OK
* checking Rd \usage sections ... OK
* checking Rd contents ... OK
* checking for unstated dependencies in examples ... OK
* checking contents of ‘data’ directory ... OK
* checking data for non-ASCII characters ... OK
* checking data for ASCII and uncompressed saves ... OK
* checking R/sysdata.rda ... OK
* checking installed files from ‘inst/doc’ ... OK
* checking files in ‘vignettes’ ... OK
* checking examples ... OK
Examples with CPU or elapsed time > 5s
user system elapsed
miRNAVersionConvert 4.478 0.095 5.173
* checking for unstated dependencies in ‘tests’ ... OK
* checking tests ...
Running ‘runTests.R’
OK
* checking for unstated dependencies in vignettes ... OK
* checking package vignettes in ‘inst/doc’ ... OK
* checking running R code from vignettes ... SKIPPED
* checking re-building of vignette outputs ... SKIPPED
* checking PDF version of manual ... OK
* DONE
Status: OK
miRBaseConverter.Rcheck/00install.out
############################################################################## ############################################################################## ### ### Running command: ### ### /Library/Frameworks/R.framework/Versions/Current/Resources/bin/R CMD INSTALL miRBaseConverter ### ############################################################################## ############################################################################## * installing to library ‘/Library/Frameworks/R.framework/Versions/3.6/Resources/library’ * installing *source* package ‘miRBaseConverter’ ... ** using staged installation ** R ** data *** moving datasets to lazyload DB ** inst ** byte-compile and prepare package for lazy loading ** help *** installing help indices ** building package indices ** installing vignettes ** testing if installed package can be loaded from temporary location ** testing if installed package can be loaded from final location ** testing if installed package keeps a record of temporary installation path * DONE (miRBaseConverter)
miRBaseConverter.Rcheck/tests/runTests.Rout
R version 3.6.3 (2020-02-29) -- "Holding the Windsock"
Copyright (C) 2020 The R Foundation for Statistical Computing
Platform: x86_64-apple-darwin15.6.0 (64-bit)
R is free software and comes with ABSOLUTELY NO WARRANTY.
You are welcome to redistribute it under certain conditions.
Type 'license()' or 'licence()' for distribution details.
R is a collaborative project with many contributors.
Type 'contributors()' for more information and
'citation()' on how to cite R or R packages in publications.
Type 'demo()' for some demos, 'help()' for on-line help, or
'help.start()' for an HTML browser interface to help.
Type 'q()' to quit R.
> BiocGenerics:::testPackage("miRBaseConverter")
RUNIT TEST PROTOCOL -- Wed Apr 15 03:56:30 2020
***********************************************
Number of test functions: 1
Number of errors: 0
Number of failures: 0
1 Test Suite :
miRBaseConverter RUnit Tests - 1 test function, 0 errors, 0 failures
Number of test functions: 1
Number of errors: 0
Number of failures: 0
>
> proc.time()
user system elapsed
0.521 0.095 0.591
miRBaseConverter.Rcheck/miRBaseConverter-Ex.timings
| name | user | system | elapsed | |
| checkMiRNAAlive | 2.557 | 0.154 | 2.728 | |
| checkMiRNAFamily | 2.746 | 0.105 | 2.910 | |
| checkMiRNAVersion | 0.070 | 0.020 | 0.089 | |
| getAllMiRNAs | 0.228 | 0.012 | 0.241 | |
| getAllSpecies | 0.000 | 0.000 | 0.001 | |
| getAllVersionInfo | 0.006 | 0.001 | 0.007 | |
| getMiRNAHistory | 1.507 | 0.032 | 1.563 | |
| getMiRNASequence | 3.868 | 0.080 | 4.012 | |
| getMiRNATable | 0.003 | 0.000 | 0.002 | |
| goTo_miRBase | 3.215 | 0.091 | 3.346 | |
| goTo_miRNAFamily | 1.394 | 0.065 | 1.587 | |
| miRNATest | 0.002 | 0.001 | 0.004 | |
| miRNAVersionConvert | 4.478 | 0.095 | 5.173 | |
| miRNA_AccessionToName | 1.781 | 0.030 | 2.047 | |
| miRNA_MatureToPrecursor | 0.072 | 0.018 | 0.091 | |
| miRNA_NameToAccession | 2.528 | 0.072 | 2.620 | |
| miRNA_PrecursorToMature | 0.099 | 0.020 | 0.121 | |