| Back to Multiple platform build/check report for BioC 3.10 |
|
This page was generated on 2020-04-15 12:30:47 -0400 (Wed, 15 Apr 2020).
| Package 1022/1823 | Hostname | OS / Arch | INSTALL | BUILD | CHECK | BUILD BIN | ||||||
| methylGSA 1.4.9 Xu Ren
| malbec1 | Linux (Ubuntu 18.04.4 LTS) / x86_64 | OK | OK | OK | |||||||
| tokay1 | Windows Server 2012 R2 Standard / x64 | [ OK ] | OK | OK | OK | |||||||
| merida1 | OS X 10.11.6 El Capitan / x86_64 | OK | OK | OK | OK |
| Package: methylGSA |
| Version: 1.4.9 |
| Command: C:\cygwin\bin\curl.exe -O https://malbec1.bioconductor.org/BBS/3.10/bioc/src/contrib/methylGSA_1.4.9.tar.gz && rm -rf methylGSA.buildbin-libdir && mkdir methylGSA.buildbin-libdir && C:\Users\biocbuild\bbs-3.10-bioc\R\bin\R.exe CMD INSTALL --merge-multiarch --build --library=methylGSA.buildbin-libdir methylGSA_1.4.9.tar.gz && C:\Users\biocbuild\bbs-3.10-bioc\R\bin\R.exe CMD INSTALL methylGSA_1.4.9.zip && rm methylGSA_1.4.9.tar.gz methylGSA_1.4.9.zip |
| StartedAt: 2020-04-14 20:37:12 -0400 (Tue, 14 Apr 2020) |
| EndedAt: 2020-04-14 20:38:16 -0400 (Tue, 14 Apr 2020) |
| EllapsedTime: 64.0 seconds |
| RetCode: 0 |
| Status: OK |
##############################################################################
##############################################################################
###
### Running command:
###
### C:\cygwin\bin\curl.exe -O https://malbec1.bioconductor.org/BBS/3.10/bioc/src/contrib/methylGSA_1.4.9.tar.gz && rm -rf methylGSA.buildbin-libdir && mkdir methylGSA.buildbin-libdir && C:\Users\biocbuild\bbs-3.10-bioc\R\bin\R.exe CMD INSTALL --merge-multiarch --build --library=methylGSA.buildbin-libdir methylGSA_1.4.9.tar.gz && C:\Users\biocbuild\bbs-3.10-bioc\R\bin\R.exe CMD INSTALL methylGSA_1.4.9.zip && rm methylGSA_1.4.9.tar.gz methylGSA_1.4.9.zip
###
##############################################################################
##############################################################################
% Total % Received % Xferd Average Speed Time Time Time Current
Dload Upload Total Spent Left Speed
0 0 0 0 0 0 0 0 --:--:-- --:--:-- --:--:-- 0
100 2957k 100 2957k 0 0 21.0M 0 --:--:-- --:--:-- --:--:-- 21.7M
install for i386
* installing *source* package 'methylGSA' ...
** using staged installation
** R
** data
** inst
** byte-compile and prepare package for lazy loading
** help
*** installing help indices
converting help for package 'methylGSA'
finding HTML links ... done
CpG2Gene html
GS.list html
barplot html
cpg.pval html
getAnnot html
getDescription html
getGS html
methylRRA html
methylglm html
finding level-2 HTML links ... done
methylgometh html
prepareAnnot html
runExample html
** building package indices
** installing vignettes
** testing if installed package can be loaded from temporary location
** testing if installed package can be loaded from final location
** testing if installed package keeps a record of temporary installation path
install for x64
* installing *source* package 'methylGSA' ...
** testing if installed package can be loaded
* MD5 sums
packaged installation of 'methylGSA' as methylGSA_1.4.9.zip
* DONE (methylGSA)
* installing to library 'C:/Users/biocbuild/bbs-3.10-bioc/R/library'
package 'methylGSA' successfully unpacked and MD5 sums checked