| Back to Multiple platform build/check report for BioC 3.10 |
|
This page was generated on 2020-04-15 12:30:35 -0400 (Wed, 15 Apr 2020).
| Package 955/1823 | Hostname | OS / Arch | INSTALL | BUILD | CHECK | BUILD BIN | ||||||
| maser 1.4.0 Diogo F.T. Veiga
| malbec1 | Linux (Ubuntu 18.04.4 LTS) / x86_64 | OK | OK | ERROR | |||||||
| tokay1 | Windows Server 2012 R2 Standard / x64 | [ OK ] | OK | ERROR | OK | |||||||
| merida1 | OS X 10.11.6 El Capitan / x86_64 | OK | OK | ERROR | OK |
| Package: maser |
| Version: 1.4.0 |
| Command: C:\cygwin\bin\curl.exe -O https://malbec1.bioconductor.org/BBS/3.10/bioc/src/contrib/maser_1.4.0.tar.gz && rm -rf maser.buildbin-libdir && mkdir maser.buildbin-libdir && C:\Users\biocbuild\bbs-3.10-bioc\R\bin\R.exe CMD INSTALL --merge-multiarch --build --library=maser.buildbin-libdir maser_1.4.0.tar.gz && C:\Users\biocbuild\bbs-3.10-bioc\R\bin\R.exe CMD INSTALL maser_1.4.0.zip && rm maser_1.4.0.tar.gz maser_1.4.0.zip |
| StartedAt: 2020-04-14 20:17:03 -0400 (Tue, 14 Apr 2020) |
| EndedAt: 2020-04-14 20:18:28 -0400 (Tue, 14 Apr 2020) |
| EllapsedTime: 85.7 seconds |
| RetCode: 0 |
| Status: OK |
##############################################################################
##############################################################################
###
### Running command:
###
### C:\cygwin\bin\curl.exe -O https://malbec1.bioconductor.org/BBS/3.10/bioc/src/contrib/maser_1.4.0.tar.gz && rm -rf maser.buildbin-libdir && mkdir maser.buildbin-libdir && C:\Users\biocbuild\bbs-3.10-bioc\R\bin\R.exe CMD INSTALL --merge-multiarch --build --library=maser.buildbin-libdir maser_1.4.0.tar.gz && C:\Users\biocbuild\bbs-3.10-bioc\R\bin\R.exe CMD INSTALL maser_1.4.0.zip && rm maser_1.4.0.tar.gz maser_1.4.0.zip
###
##############################################################################
##############################################################################
% Total % Received % Xferd Average Speed Time Time Time Current
Dload Upload Total Spent Left Speed
0 0 0 0 0 0 0 0 --:--:-- --:--:-- --:--:-- 0
0 0 0 0 0 0 0 0 --:--:-- --:--:-- --:--:-- 0
100 1487k 100 1487k 0 0 4947k 0 --:--:-- --:--:-- --:--:-- 4992k
install for i386
* installing *source* package 'maser' ...
** using staged installation
** R
** inst
** byte-compile and prepare package for lazy loading
** help
*** installing help indices
converting help for package 'maser'
finding HTML links ... done
Maser-class html
PSI-Maser-character-method html
PSI html
annotation-Maser-method html
availableFeaturesUniprotKB html
boxplot_PSI_levels html
counts-Maser-method html
display html
dotplot html
filterByCoverage html
filterByEventId html
geneEvents html
granges-Maser-method html
mapProteinFeaturesToEvents html
mapTranscriptsToEvents html
maser html
pca html
plotGenePSI html
plotTranscripts html
plotUniprotKBFeatures html
splicingDistribution html
summary-Maser-method html
topEvents html
volcano html
** building package indices
** installing vignettes
** testing if installed package can be loaded from temporary location
** testing if installed package can be loaded from final location
** testing if installed package keeps a record of temporary installation path
install for x64
* installing *source* package 'maser' ...
** testing if installed package can be loaded
* MD5 sums
packaged installation of 'maser' as maser_1.4.0.zip
* DONE (maser)
* installing to library 'C:/Users/biocbuild/bbs-3.10-bioc/R/library'
package 'maser' successfully unpacked and MD5 sums checked