| Back to Multiple platform build/check report for BioC 3.10 |
|
This page was generated on 2020-04-15 12:15:38 -0400 (Wed, 15 Apr 2020).
| Package 910/1823 | Hostname | OS / Arch | INSTALL | BUILD | CHECK | BUILD BIN | ||||||
| lipidr 2.0.0 Ahmed Mohamed
| malbec1 | Linux (Ubuntu 18.04.4 LTS) / x86_64 | OK | OK | [ OK ] | |||||||
| tokay1 | Windows Server 2012 R2 Standard / x64 | OK | OK | OK | OK | |||||||
| merida1 | OS X 10.11.6 El Capitan / x86_64 | OK | OK | OK | OK |
| Package: lipidr |
| Version: 2.0.0 |
| Command: /home/biocbuild/bbs-3.10-bioc/R/bin/R CMD check --install=check:lipidr.install-out.txt --library=/home/biocbuild/bbs-3.10-bioc/R/library --no-vignettes --timings lipidr_2.0.0.tar.gz |
| StartedAt: 2020-04-15 06:30:42 -0400 (Wed, 15 Apr 2020) |
| EndedAt: 2020-04-15 06:35:13 -0400 (Wed, 15 Apr 2020) |
| EllapsedTime: 270.6 seconds |
| RetCode: 0 |
| Status: OK |
| CheckDir: lipidr.Rcheck |
| Warnings: 0 |
##############################################################################
##############################################################################
###
### Running command:
###
### /home/biocbuild/bbs-3.10-bioc/R/bin/R CMD check --install=check:lipidr.install-out.txt --library=/home/biocbuild/bbs-3.10-bioc/R/library --no-vignettes --timings lipidr_2.0.0.tar.gz
###
##############################################################################
##############################################################################
* using log directory ‘/home/biocbuild/bbs-3.10-bioc/meat/lipidr.Rcheck’
* using R version 3.6.3 (2020-02-29)
* using platform: x86_64-pc-linux-gnu (64-bit)
* using session charset: UTF-8
* using option ‘--no-vignettes’
* checking for file ‘lipidr/DESCRIPTION’ ... OK
* this is package ‘lipidr’ version ‘2.0.0’
* checking package namespace information ... OK
* checking package dependencies ... OK
* checking if this is a source package ... OK
* checking if there is a namespace ... OK
* checking for hidden files and directories ... OK
* checking for portable file names ... OK
* checking for sufficient/correct file permissions ... OK
* checking whether package ‘lipidr’ can be installed ... OK
* checking installed package size ... OK
* checking package directory ... OK
* checking ‘build’ directory ... OK
* checking DESCRIPTION meta-information ... OK
* checking top-level files ... OK
* checking for left-over files ... OK
* checking index information ... OK
* checking package subdirectories ... OK
* checking R files for non-ASCII characters ... OK
* checking R files for syntax errors ... OK
* checking whether the package can be loaded ... OK
* checking whether the package can be loaded with stated dependencies ... OK
* checking whether the package can be unloaded cleanly ... OK
* checking whether the namespace can be loaded with stated dependencies ... OK
* checking whether the namespace can be unloaded cleanly ... OK
* checking dependencies in R code ... OK
* checking S3 generic/method consistency ... OK
* checking replacement functions ... OK
* checking foreign function calls ... OK
* checking R code for possible problems ... OK
* checking Rd files ... OK
* checking Rd metadata ... OK
* checking Rd cross-references ... OK
* checking for missing documentation entries ... OK
* checking for code/documentation mismatches ... OK
* checking Rd \usage sections ... OK
* checking Rd contents ... OK
* checking for unstated dependencies in examples ... OK
* checking contents of ‘data’ directory ... OK
* checking data for non-ASCII characters ... OK
* checking data for ASCII and uncompressed saves ... OK
* checking files in ‘vignettes’ ... OK
* checking examples ... OK
Examples with CPU or elapsed time > 5s
user system elapsed
plot_molecules 7.256 0.024 7.295
plot_heatmap 6.008 0.052 6.356
* checking for unstated dependencies in ‘tests’ ... OK
* checking tests ...
Running ‘spelling.R’
Running ‘testthat.R’
OK
* checking for unstated dependencies in vignettes ... OK
* checking package vignettes in ‘inst/doc’ ... OK
* checking running R code from vignettes ... SKIPPED
* checking re-building of vignette outputs ... SKIPPED
* checking PDF version of manual ... OK
* DONE
Status: OK
lipidr.Rcheck/00install.out
############################################################################## ############################################################################## ### ### Running command: ### ### /home/biocbuild/bbs-3.10-bioc/R/bin/R CMD INSTALL lipidr ### ############################################################################## ############################################################################## * installing to library ‘/home/biocbuild/bbs-3.10-bioc/R/library’ * installing *source* package ‘lipidr’ ... ** using staged installation ** R ** data ** inst ** byte-compile and prepare package for lazy loading ** help *** installing help indices *** copying figures ** building package indices ** installing vignettes ** testing if installed package can be loaded from temporary location ** testing if installed package can be loaded from final location ** testing if installed package keeps a record of temporary installation path * DONE (lipidr)
lipidr.Rcheck/tests/spelling.Rout
R version 3.6.3 (2020-02-29) -- "Holding the Windsock"
Copyright (C) 2020 The R Foundation for Statistical Computing
Platform: x86_64-pc-linux-gnu (64-bit)
R is free software and comes with ABSOLUTELY NO WARRANTY.
You are welcome to redistribute it under certain conditions.
Type 'license()' or 'licence()' for distribution details.
R is a collaborative project with many contributors.
Type 'contributors()' for more information and
'citation()' on how to cite R or R packages in publications.
Type 'demo()' for some demos, 'help()' for on-line help, or
'help.start()' for an HTML browser interface to help.
Type 'q()' to quit R.
> if (requireNamespace("spelling", quietly = TRUE)) {
+ spelling::spell_check_test(
+ vignettes = TRUE, error = FALSE,
+ skip_on_cran = TRUE
+ )
+ }
NULL
>
> proc.time()
user system elapsed
0.240 0.024 0.263
lipidr.Rcheck/tests/testthat.Rout
R version 3.6.3 (2020-02-29) -- "Holding the Windsock"
Copyright (C) 2020 The R Foundation for Statistical Computing
Platform: x86_64-pc-linux-gnu (64-bit)
R is free software and comes with ABSOLUTELY NO WARRANTY.
You are welcome to redistribute it under certain conditions.
Type 'license()' or 'licence()' for distribution details.
R is a collaborative project with many contributors.
Type 'contributors()' for more information and
'citation()' on how to cite R or R packages in publications.
Type 'demo()' for some demos, 'help()' for on-line help, or
'help.start()' for an HTML browser interface to help.
Type 'q()' to quit R.
> library(testthat)
> library(lipidr)
Loading required package: SummarizedExperiment
Loading required package: GenomicRanges
Loading required package: stats4
Loading required package: BiocGenerics
Loading required package: parallel
Attaching package: 'BiocGenerics'
The following objects are masked from 'package:parallel':
clusterApply, clusterApplyLB, clusterCall, clusterEvalQ,
clusterExport, clusterMap, parApply, parCapply, parLapply,
parLapplyLB, parRapply, parSapply, parSapplyLB
The following objects are masked from 'package:stats':
IQR, mad, sd, var, xtabs
The following objects are masked from 'package:base':
Filter, Find, Map, Position, Reduce, anyDuplicated, append,
as.data.frame, basename, cbind, colnames, dirname, do.call,
duplicated, eval, evalq, get, grep, grepl, intersect, is.unsorted,
lapply, mapply, match, mget, order, paste, pmax, pmax.int, pmin,
pmin.int, rank, rbind, rownames, sapply, setdiff, sort, table,
tapply, union, unique, unsplit, which, which.max, which.min
Loading required package: S4Vectors
Attaching package: 'S4Vectors'
The following object is masked from 'package:base':
expand.grid
Loading required package: IRanges
Loading required package: GenomeInfoDb
Loading required package: Biobase
Welcome to Bioconductor
Vignettes contain introductory material; view with
'browseVignettes()'. To cite Bioconductor, see
'citation("Biobase")', and for packages 'citation("pkgname")'.
Loading required package: DelayedArray
Loading required package: matrixStats
Attaching package: 'matrixStats'
The following objects are masked from 'package:Biobase':
anyMissing, rowMedians
Loading required package: BiocParallel
Attaching package: 'DelayedArray'
The following objects are masked from 'package:matrixStats':
colMaxs, colMins, colRanges, rowMaxs, rowMins, rowRanges
The following objects are masked from 'package:base':
aperm, apply, rowsum
> test_check("lipidr")
══ testthat results ═══════════════════════════════════════════════════════════
[ OK: 346 | SKIPPED: 15 | WARNINGS: 0 | FAILED: 0 ]
>
> proc.time()
user system elapsed
51.472 3.420 42.500
lipidr.Rcheck/lipidr-Ex.timings
| name | user | system | elapsed | |
| add_sample_annotation | 1.296 | 0.020 | 1.398 | |
| annotate_lipids | 0.100 | 0.000 | 0.101 | |
| data_normalized | 0.080 | 0.012 | 0.093 | |
| de_analysis | 0.768 | 0.028 | 0.798 | |
| filter_by_cv | 0.168 | 0.024 | 0.191 | |
| gen_lipidsets | 0.164 | 0.024 | 0.188 | |
| lipidDefaults | 0.012 | 0.004 | 0.016 | |
| lipidnames_pattern | 0.000 | 0.000 | 0.002 | |
| lipidr-data | 0.088 | 0.020 | 0.107 | |
| lsea | 3.124 | 0.264 | 2.682 | |
| mva | 3.512 | 0.112 | 3.643 | |
| mw | 0 | 0 | 0 | |
| non_parsed_molecules | 0.104 | 0.016 | 0.120 | |
| normalize_istd | 1.168 | 0.000 | 1.171 | |
| normalize_pqn | 0.912 | 0.008 | 0.922 | |
| pipe | 0.124 | 0.020 | 0.145 | |
| plot_chain_distribution | 1.064 | 0.020 | 1.088 | |
| plot_heatmap | 6.008 | 0.052 | 6.356 | |
| plot_lipidclass | 3.712 | 0.016 | 3.758 | |
| plot_molecules | 7.256 | 0.024 | 7.295 | |
| plot_samples | 2.388 | 0.036 | 2.424 | |
| plot_trend | 0.592 | 0.020 | 0.612 | |
| read_skyline | 0.512 | 0.000 | 0.510 | |
| remove_non_parsed_molecules | 0.100 | 0.012 | 0.111 | |
| set_attr | 0.076 | 0.012 | 0.088 | |
| summarize_transitions | 0.544 | 0.004 | 0.548 | |
| update_molecule_names | 0.144 | 0.016 | 0.162 | |
| use_interactive_graphics | 0.108 | 0.020 | 0.131 | |