| Back to Multiple platform build/check report for BioC 3.10 |
|
This page was generated on 2020-04-15 12:33:11 -0400 (Wed, 15 Apr 2020).
| Package 909/1823 | Hostname | OS / Arch | INSTALL | BUILD | CHECK | BUILD BIN | ||||||
| lionessR 1.0.0 Ping-Han Hsieh
| malbec1 | Linux (Ubuntu 18.04.4 LTS) / x86_64 | OK | OK | OK | |||||||
| tokay1 | Windows Server 2012 R2 Standard / x64 | [ OK ] | OK | OK | OK | |||||||
| merida1 | OS X 10.11.6 El Capitan / x86_64 | OK | OK | OK | OK |
| Package: lionessR |
| Version: 1.0.0 |
| Command: C:\cygwin\bin\curl.exe -O https://malbec1.bioconductor.org/BBS/3.10/bioc/src/contrib/lionessR_1.0.0.tar.gz && rm -rf lionessR.buildbin-libdir && mkdir lionessR.buildbin-libdir && C:\Users\biocbuild\bbs-3.10-bioc\R\bin\R.exe CMD INSTALL --merge-multiarch --build --library=lionessR.buildbin-libdir lionessR_1.0.0.tar.gz && C:\Users\biocbuild\bbs-3.10-bioc\R\bin\R.exe CMD INSTALL lionessR_1.0.0.zip && rm lionessR_1.0.0.tar.gz lionessR_1.0.0.zip |
| StartedAt: 2020-04-14 19:36:45 -0400 (Tue, 14 Apr 2020) |
| EndedAt: 2020-04-14 19:37:05 -0400 (Tue, 14 Apr 2020) |
| EllapsedTime: 20.5 seconds |
| RetCode: 0 |
| Status: OK |
##############################################################################
##############################################################################
###
### Running command:
###
### C:\cygwin\bin\curl.exe -O https://malbec1.bioconductor.org/BBS/3.10/bioc/src/contrib/lionessR_1.0.0.tar.gz && rm -rf lionessR.buildbin-libdir && mkdir lionessR.buildbin-libdir && C:\Users\biocbuild\bbs-3.10-bioc\R\bin\R.exe CMD INSTALL --merge-multiarch --build --library=lionessR.buildbin-libdir lionessR_1.0.0.tar.gz && C:\Users\biocbuild\bbs-3.10-bioc\R\bin\R.exe CMD INSTALL lionessR_1.0.0.zip && rm lionessR_1.0.0.tar.gz lionessR_1.0.0.zip
###
##############################################################################
##############################################################################
% Total % Received % Xferd Average Speed Time Time Time Current
Dload Upload Total Spent Left Speed
0 0 0 0 0 0 0 0 --:--:-- --:--:-- --:--:-- 0
100 2788k 100 2788k 0 0 33.4M 0 --:--:-- --:--:-- --:--:-- 35.3M
install for i386
* installing *source* package 'lionessR' ...
** using staged installation
** R
** data
*** moving datasets to lazyload DB
** inst
** byte-compile and prepare package for lazy loading
** help
*** installing help indices
converting help for package 'lionessR'
finding HTML links ... done
OSdata html
lioness html
netFun html
** building package indices
** installing vignettes
** testing if installed package can be loaded from temporary location
** testing if installed package can be loaded from final location
** testing if installed package keeps a record of temporary installation path
install for x64
* installing *source* package 'lionessR' ...
** testing if installed package can be loaded
* MD5 sums
packaged installation of 'lionessR' as lionessR_1.0.0.zip
* DONE (lionessR)
* installing to library 'C:/Users/biocbuild/bbs-3.10-bioc/R/library'
package 'lionessR' successfully unpacked and MD5 sums checked