| Back to Multiple platform build/check report for BioC 3.10 |
|
This page was generated on 2020-04-15 12:31:38 -0400 (Wed, 15 Apr 2020).
| Package 739/1823 | Hostname | OS / Arch | INSTALL | BUILD | CHECK | BUILD BIN | ||||||
| graper 1.2.0 Britta Velten
| malbec1 | Linux (Ubuntu 18.04.4 LTS) / x86_64 | OK | OK | OK | |||||||
| tokay1 | Windows Server 2012 R2 Standard / x64 | [ OK ] | OK | OK | OK | |||||||
| merida1 | OS X 10.11.6 El Capitan / x86_64 | OK | OK | OK | OK |
| Package: graper |
| Version: 1.2.0 |
| Command: C:\cygwin\bin\curl.exe -O https://malbec1.bioconductor.org/BBS/3.10/bioc/src/contrib/graper_1.2.0.tar.gz && rm -rf graper.buildbin-libdir && mkdir graper.buildbin-libdir && C:\Users\biocbuild\bbs-3.10-bioc\R\bin\R.exe CMD INSTALL --merge-multiarch --build --library=graper.buildbin-libdir graper_1.2.0.tar.gz && C:\Users\biocbuild\bbs-3.10-bioc\R\bin\R.exe CMD INSTALL graper_1.2.0.zip && rm graper_1.2.0.tar.gz graper_1.2.0.zip |
| StartedAt: 2020-04-14 19:03:15 -0400 (Tue, 14 Apr 2020) |
| EndedAt: 2020-04-14 19:04:30 -0400 (Tue, 14 Apr 2020) |
| EllapsedTime: 75.0 seconds |
| RetCode: 0 |
| Status: OK |
##############################################################################
##############################################################################
###
### Running command:
###
### C:\cygwin\bin\curl.exe -O https://malbec1.bioconductor.org/BBS/3.10/bioc/src/contrib/graper_1.2.0.tar.gz && rm -rf graper.buildbin-libdir && mkdir graper.buildbin-libdir && C:\Users\biocbuild\bbs-3.10-bioc\R\bin\R.exe CMD INSTALL --merge-multiarch --build --library=graper.buildbin-libdir graper_1.2.0.tar.gz && C:\Users\biocbuild\bbs-3.10-bioc\R\bin\R.exe CMD INSTALL graper_1.2.0.zip && rm graper_1.2.0.tar.gz graper_1.2.0.zip
###
##############################################################################
##############################################################################
% Total % Received % Xferd Average Speed Time Time Time Current
Dload Upload Total Spent Left Speed
0 0 0 0 0 0 0 0 --:--:-- --:--:-- --:--:-- 0
100 28911 100 28911 0 0 607k 0 --:--:-- --:--:-- --:--:-- 656k
install for i386
* installing *source* package 'graper' ...
** using staged installation
** libs
C:/Rtools/mingw_32/bin/g++ -std=gnu++11 -I"C:/Users/BIOCBU~1/BBS-3~1.10-/R/include" -DNDEBUG -I"C:/Users/biocbuild/bbs-3.10-bioc/R/library/Rcpp/include" -I"C:/Users/biocbuild/bbs-3.10-bioc/R/library/RcppArmadillo/include" -I"C:/Users/biocbuild/bbs-3.10-bioc/R/library/BH/include" -I"C:/extsoft/include" -O2 -Wall -mtune=core2 -c RcppExports.cpp -o RcppExports.o
C:/Rtools/mingw_32/bin/g++ -std=gnu++11 -I"C:/Users/BIOCBU~1/BBS-3~1.10-/R/include" -DNDEBUG -I"C:/Users/biocbuild/bbs-3.10-bioc/R/library/Rcpp/include" -I"C:/Users/biocbuild/bbs-3.10-bioc/R/library/RcppArmadillo/include" -I"C:/Users/biocbuild/bbs-3.10-bioc/R/library/BH/include" -I"C:/extsoft/include" -O2 -Wall -mtune=core2 -c fit_graper.cpp -o fit_graper.o
C:/Rtools/mingw_32/bin/g++ -shared -s -static-libgcc -o graper.dll tmp.def RcppExports.o fit_graper.o -LC:/Users/BIOCBU~1/BBS-3~1.10-/R/bin/i386 -lRlapack -LC:/Users/BIOCBU~1/BBS-3~1.10-/R/bin/i386 -lRblas -lgfortran -lm -lquadmath -LC:/extsoft/lib/i386 -LC:/extsoft/lib -LC:/Users/BIOCBU~1/BBS-3~1.10-/R/bin/i386 -lR
installing to C:/Users/biocbuild/bbs-3.10-bioc/meat/graper.buildbin-libdir/00LOCK-graper/00new/graper/libs/i386
** R
** byte-compile and prepare package for lazy loading
** help
*** installing help indices
converting help for package 'graper'
finding HTML links ... done
coef.graper html
getPIPs html
graper html
makeExampleData html
makeExampleDataWithUnequalGroups html
plotELBO html
plotGroupPenalties html
plotPosterior html
predict.graper html
print.graper html
** building package indices
** installing vignettes
** testing if installed package can be loaded from temporary location
** testing if installed package can be loaded from final location
** testing if installed package keeps a record of temporary installation path
install for x64
* installing *source* package 'graper' ...
** libs
C:/Rtools/mingw_64/bin/g++ -std=gnu++11 -I"C:/Users/BIOCBU~1/BBS-3~1.10-/R/include" -DNDEBUG -I"C:/Users/biocbuild/bbs-3.10-bioc/R/library/Rcpp/include" -I"C:/Users/biocbuild/bbs-3.10-bioc/R/library/RcppArmadillo/include" -I"C:/Users/biocbuild/bbs-3.10-bioc/R/library/BH/include" -I"C:/extsoft/include" -O2 -Wall -mtune=core2 -c RcppExports.cpp -o RcppExports.o
C:/Rtools/mingw_64/bin/g++ -std=gnu++11 -I"C:/Users/BIOCBU~1/BBS-3~1.10-/R/include" -DNDEBUG -I"C:/Users/biocbuild/bbs-3.10-bioc/R/library/Rcpp/include" -I"C:/Users/biocbuild/bbs-3.10-bioc/R/library/RcppArmadillo/include" -I"C:/Users/biocbuild/bbs-3.10-bioc/R/library/BH/include" -I"C:/extsoft/include" -O2 -Wall -mtune=core2 -c fit_graper.cpp -o fit_graper.o
C:/Rtools/mingw_64/bin/g++ -shared -s -static-libgcc -o graper.dll tmp.def RcppExports.o fit_graper.o -LC:/Users/BIOCBU~1/BBS-3~1.10-/R/bin/x64 -lRlapack -LC:/Users/BIOCBU~1/BBS-3~1.10-/R/bin/x64 -lRblas -lgfortran -lm -lquadmath -LC:/extsoft/lib/x64 -LC:/extsoft/lib -LC:/Users/BIOCBU~1/BBS-3~1.10-/R/bin/x64 -lR
installing to C:/Users/biocbuild/bbs-3.10-bioc/meat/graper.buildbin-libdir/graper/libs/x64
** testing if installed package can be loaded
* MD5 sums
packaged installation of 'graper' as graper_1.2.0.zip
* DONE (graper)
* installing to library 'C:/Users/biocbuild/bbs-3.10-bioc/R/library'
package 'graper' successfully unpacked and MD5 sums checked