| Back to Multiple platform build/check report for BioC 3.10 |
|
This page was generated on 2020-04-15 12:22:27 -0400 (Wed, 15 Apr 2020).
| Package 663/1823 | Hostname | OS / Arch | INSTALL | BUILD | CHECK | BUILD BIN | ||||||
| geneRxCluster 1.22.0 Charles Berry
| malbec1 | Linux (Ubuntu 18.04.4 LTS) / x86_64 | OK | OK | OK | |||||||
| tokay1 | Windows Server 2012 R2 Standard / x64 | [ OK ] | OK | OK | OK | |||||||
| merida1 | OS X 10.11.6 El Capitan / x86_64 | OK | OK | OK | OK |
| Package: geneRxCluster |
| Version: 1.22.0 |
| Command: C:\cygwin\bin\curl.exe -O https://malbec1.bioconductor.org/BBS/3.10/bioc/src/contrib/geneRxCluster_1.22.0.tar.gz && rm -rf geneRxCluster.buildbin-libdir && mkdir geneRxCluster.buildbin-libdir && C:\Users\biocbuild\bbs-3.10-bioc\R\bin\R.exe CMD INSTALL --merge-multiarch --build --library=geneRxCluster.buildbin-libdir geneRxCluster_1.22.0.tar.gz && C:\Users\biocbuild\bbs-3.10-bioc\R\bin\R.exe CMD INSTALL geneRxCluster_1.22.0.zip && rm geneRxCluster_1.22.0.tar.gz geneRxCluster_1.22.0.zip |
| StartedAt: 2020-04-14 19:31:01 -0400 (Tue, 14 Apr 2020) |
| EndedAt: 2020-04-14 19:31:29 -0400 (Tue, 14 Apr 2020) |
| EllapsedTime: 28.1 seconds |
| RetCode: 0 |
| Status: OK |
##############################################################################
##############################################################################
###
### Running command:
###
### C:\cygwin\bin\curl.exe -O https://malbec1.bioconductor.org/BBS/3.10/bioc/src/contrib/geneRxCluster_1.22.0.tar.gz && rm -rf geneRxCluster.buildbin-libdir && mkdir geneRxCluster.buildbin-libdir && C:\Users\biocbuild\bbs-3.10-bioc\R\bin\R.exe CMD INSTALL --merge-multiarch --build --library=geneRxCluster.buildbin-libdir geneRxCluster_1.22.0.tar.gz && C:\Users\biocbuild\bbs-3.10-bioc\R\bin\R.exe CMD INSTALL geneRxCluster_1.22.0.zip && rm geneRxCluster_1.22.0.tar.gz geneRxCluster_1.22.0.zip
###
##############################################################################
##############################################################################
% Total % Received % Xferd Average Speed Time Time Time Current
Dload Upload Total Spent Left Speed
0 0 0 0 0 0 0 0 --:--:-- --:--:-- --:--:-- 0
100 26570 100 26570 0 0 223k 0 --:--:-- --:--:-- --:--:-- 231k
install for i386
* installing *source* package 'geneRxCluster' ...
** using staged installation
** libs
C:/Rtools/mingw_32/bin/gcc -I"C:/Users/BIOCBU~1/BBS-3~1.10-/R/include" -DNDEBUG -I"C:/extsoft/include" -O3 -Wall -std=gnu99 -mtune=core2 -c cluster.c -o cluster.o
cluster.c: In function 'cutptClean_new_elt':
cluster.c:80:6: warning: suggest explicit braces to avoid ambiguous 'else' [-Wparentheses]
if (*pvj!=NOTAIL)
^
cluster.c: In function 'gRxC_cluster':
cluster.c:682:2: warning: 'cutptFunRes' may be used uninitialized in this function [-Wmaybe-uninitialized]
SET_VECTOR_ELT(final,2,cutptFunRes);
^
C:/Rtools/mingw_32/bin/gcc -shared -s -static-libgcc -o geneRxCluster.dll tmp.def cluster.o -LC:/extsoft/lib/i386 -LC:/extsoft/lib -LC:/Users/BIOCBU~1/BBS-3~1.10-/R/bin/i386 -lR
installing to C:/Users/biocbuild/bbs-3.10-bioc/meat/geneRxCluster.buildbin-libdir/00LOCK-geneRxCluster/00new/geneRxCluster/libs/i386
** R
** inst
** byte-compile and prepare package for lazy loading
** help
*** installing help indices
converting help for package 'geneRxCluster'
finding HTML links ... done
critVal.alpha html
critVal.power html
critVal.target html
gRxCluster-object html
finding level-2 HTML links ... done
gRxCluster html
gRxPlot html
gRxPlotClumps html
gRxSummary html
geneRxCluster html
noprune html
plot.cutpoints html
prune.loglik html
** building package indices
** installing vignettes
** testing if installed package can be loaded from temporary location
** testing if installed package can be loaded from final location
** testing if installed package keeps a record of temporary installation path
install for x64
* installing *source* package 'geneRxCluster' ...
** libs
C:/Rtools/mingw_64/bin/gcc -I"C:/Users/BIOCBU~1/BBS-3~1.10-/R/include" -DNDEBUG -I"C:/extsoft/include" -O2 -Wall -std=gnu99 -mtune=core2 -c cluster.c -o cluster.o
cluster.c: In function 'cutptClean_new_elt':
cluster.c:80:6: warning: suggest explicit braces to avoid ambiguous 'else' [-Wparentheses]
if (*pvj!=NOTAIL)
^
cluster.c: In function 'gRxC_cluster':
cluster.c:682:2: warning: 'cutptFunRes' may be used uninitialized in this function [-Wmaybe-uninitialized]
SET_VECTOR_ELT(final,2,cutptFunRes);
^
C:/Rtools/mingw_64/bin/gcc -shared -s -static-libgcc -o geneRxCluster.dll tmp.def cluster.o -LC:/extsoft/lib/x64 -LC:/extsoft/lib -LC:/Users/BIOCBU~1/BBS-3~1.10-/R/bin/x64 -lR
installing to C:/Users/biocbuild/bbs-3.10-bioc/meat/geneRxCluster.buildbin-libdir/geneRxCluster/libs/x64
** testing if installed package can be loaded
* MD5 sums
packaged installation of 'geneRxCluster' as geneRxCluster_1.22.0.zip
* DONE (geneRxCluster)
* installing to library 'C:/Users/biocbuild/bbs-3.10-bioc/R/library'
package 'geneRxCluster' successfully unpacked and MD5 sums checked