| Back to Multiple platform build/check report for BioC 3.10 |
|
This page was generated on 2020-04-15 12:19:29 -0400 (Wed, 15 Apr 2020).
| Package 623/1823 | Hostname | OS / Arch | INSTALL | BUILD | CHECK | BUILD BIN | ||||||
| gage 2.36.0 Weijun Luo
| malbec1 | Linux (Ubuntu 18.04.4 LTS) / x86_64 | OK | OK | WARNINGS | |||||||
| tokay1 | Windows Server 2012 R2 Standard / x64 | [ OK ] | OK | WARNINGS | OK | |||||||
| merida1 | OS X 10.11.6 El Capitan / x86_64 | OK | OK | WARNINGS | OK |
| Package: gage |
| Version: 2.36.0 |
| Command: C:\cygwin\bin\curl.exe -O https://malbec1.bioconductor.org/BBS/3.10/bioc/src/contrib/gage_2.36.0.tar.gz && rm -rf gage.buildbin-libdir && mkdir gage.buildbin-libdir && C:\Users\biocbuild\bbs-3.10-bioc\R\bin\R.exe CMD INSTALL --merge-multiarch --build --library=gage.buildbin-libdir gage_2.36.0.tar.gz && C:\Users\biocbuild\bbs-3.10-bioc\R\bin\R.exe CMD INSTALL gage_2.36.0.zip && rm gage_2.36.0.tar.gz gage_2.36.0.zip |
| StartedAt: 2020-04-14 19:19:32 -0400 (Tue, 14 Apr 2020) |
| EndedAt: 2020-04-14 19:20:09 -0400 (Tue, 14 Apr 2020) |
| EllapsedTime: 36.5 seconds |
| RetCode: 0 |
| Status: OK |
##############################################################################
##############################################################################
###
### Running command:
###
### C:\cygwin\bin\curl.exe -O https://malbec1.bioconductor.org/BBS/3.10/bioc/src/contrib/gage_2.36.0.tar.gz && rm -rf gage.buildbin-libdir && mkdir gage.buildbin-libdir && C:\Users\biocbuild\bbs-3.10-bioc\R\bin\R.exe CMD INSTALL --merge-multiarch --build --library=gage.buildbin-libdir gage_2.36.0.tar.gz && C:\Users\biocbuild\bbs-3.10-bioc\R\bin\R.exe CMD INSTALL gage_2.36.0.zip && rm gage_2.36.0.tar.gz gage_2.36.0.zip
###
##############################################################################
##############################################################################
% Total % Received % Xferd Average Speed Time Time Time Current
Dload Upload Total Spent Left Speed
0 0 0 0 0 0 0 0 --:--:-- --:--:-- --:--:-- 0
100 1644k 100 1644k 0 0 30.0M 0 --:--:-- --:--:-- --:--:-- 32.7M
install for i386
* installing *source* package 'gage' ...
** using staged installation
** R
** data
** inst
** byte-compile and prepare package for lazy loading
** help
*** installing help indices
converting help for package 'gage'
finding HTML links ... done
eg2sym html
egSymb html
essGene html
esset.grp html
gage-internal html
gage html
gageComp html
gagePipe html
geneData html
go.gsets html
gs.tTest html
gse16873 html
heter.gage html
kegg.gs html
kegg.gsets html
readExpData html
readList html
sigGeneSet html
** building package indices
** installing vignettes
** testing if installed package can be loaded from temporary location
** testing if installed package can be loaded from final location
** testing if installed package keeps a record of temporary installation path
install for x64
* installing *source* package 'gage' ...
** testing if installed package can be loaded
* MD5 sums
packaged installation of 'gage' as gage_2.36.0.zip
* DONE (gage)
* installing to library 'C:/Users/biocbuild/bbs-3.10-bioc/R/library'
package 'gage' successfully unpacked and MD5 sums checked