| Back to Multiple platform build/check report for BioC 3.10 | 
 | 
This page was generated on 2020-04-15 12:26:54 -0400 (Wed, 15 Apr 2020).
| Package 571/1823 | Hostname | OS / Arch | INSTALL | BUILD | CHECK | BUILD BIN | ||||||
| fgsea 1.12.0 Alexey Sergushichev 
 | malbec1 | Linux (Ubuntu 18.04.4 LTS) / x86_64 | OK | OK | OK |  | ||||||
| tokay1 | Windows Server 2012 R2 Standard / x64 | [ OK ] | OK | OK | OK |  | ||||||
| merida1 | OS X 10.11.6 El Capitan / x86_64 | OK | OK | OK | OK |  | 
| Package: fgsea | 
| Version: 1.12.0 | 
| Command: C:\cygwin\bin\curl.exe -O https://malbec1.bioconductor.org/BBS/3.10/bioc/src/contrib/fgsea_1.12.0.tar.gz && rm -rf fgsea.buildbin-libdir && mkdir fgsea.buildbin-libdir && C:\Users\biocbuild\bbs-3.10-bioc\R\bin\R.exe CMD INSTALL --merge-multiarch --build --library=fgsea.buildbin-libdir fgsea_1.12.0.tar.gz && C:\Users\biocbuild\bbs-3.10-bioc\R\bin\R.exe CMD INSTALL fgsea_1.12.0.zip && rm fgsea_1.12.0.tar.gz fgsea_1.12.0.zip | 
| StartedAt: 2020-04-14 19:11:01 -0400 (Tue, 14 Apr 2020) | 
| EndedAt: 2020-04-14 19:12:12 -0400 (Tue, 14 Apr 2020) | 
| EllapsedTime: 70.7 seconds | 
| RetCode: 0 | 
| Status: OK | 
##############################################################################
##############################################################################
###
### Running command:
###
###   C:\cygwin\bin\curl.exe -O https://malbec1.bioconductor.org/BBS/3.10/bioc/src/contrib/fgsea_1.12.0.tar.gz && rm -rf fgsea.buildbin-libdir && mkdir fgsea.buildbin-libdir && C:\Users\biocbuild\bbs-3.10-bioc\R\bin\R.exe CMD INSTALL --merge-multiarch --build --library=fgsea.buildbin-libdir fgsea_1.12.0.tar.gz && C:\Users\biocbuild\bbs-3.10-bioc\R\bin\R.exe CMD INSTALL fgsea_1.12.0.zip && rm fgsea_1.12.0.tar.gz fgsea_1.12.0.zip
###
##############################################################################
##############################################################################
  % Total    % Received % Xferd  Average Speed   Time    Time     Time  Current
                                 Dload  Upload   Total   Spent    Left  Speed
  0     0    0     0    0     0      0      0 --:--:-- --:--:-- --:--:--     0
100  529k  100  529k    0     0  13.6M      0 --:--:-- --:--:-- --:--:-- 15.2M
install for i386
* installing *source* package 'fgsea' ...
** using staged installation
** libs
C:/Rtools/mingw_32/bin/g++  -std=gnu++11 -I"C:/Users/BIOCBU~1/BBS-3~1.10-/R/include" -DNDEBUG  -I"C:/Users/biocbuild/bbs-3.10-bioc/R/library/Rcpp/include" -I"C:/Users/biocbuild/bbs-3.10-bioc/R/library/BH/include"   -I"C:/extsoft/include"     -O2 -Wall  -mtune=core2 -c RcppExports.cpp -o RcppExports.o
C:/Rtools/mingw_32/bin/g++  -std=gnu++11 -I"C:/Users/BIOCBU~1/BBS-3~1.10-/R/include" -DNDEBUG  -I"C:/Users/biocbuild/bbs-3.10-bioc/R/library/Rcpp/include" -I"C:/Users/biocbuild/bbs-3.10-bioc/R/library/BH/include"   -I"C:/extsoft/include"     -O2 -Wall  -mtune=core2 -c esCalculation.cpp -o esCalculation.o
C:/Rtools/mingw_32/bin/g++  -std=gnu++11 -I"C:/Users/BIOCBU~1/BBS-3~1.10-/R/include" -DNDEBUG  -I"C:/Users/biocbuild/bbs-3.10-bioc/R/library/Rcpp/include" -I"C:/Users/biocbuild/bbs-3.10-bioc/R/library/BH/include"   -I"C:/extsoft/include"     -O2 -Wall  -mtune=core2 -c fastGSEA.cpp -o fastGSEA.o
fastGSEA.cpp: In function 'Rcpp::NumericVector calcGseaStatBatchCpp(const NumericVector&, const List&, const IntegerVector&)':
fastGSEA.cpp:444:27: warning: comparison between signed and unsigned integer expressions [-Wsign-compare]
         for (int j = 0; j < S.size(); ++j) {
                           ^
C:/Rtools/mingw_32/bin/g++  -std=gnu++11 -I"C:/Users/BIOCBU~1/BBS-3~1.10-/R/include" -DNDEBUG  -I"C:/Users/biocbuild/bbs-3.10-bioc/R/library/Rcpp/include" -I"C:/Users/biocbuild/bbs-3.10-bioc/R/library/BH/include"   -I"C:/extsoft/include"     -O2 -Wall  -mtune=core2 -c fgseaMultilevel.cpp -o fgseaMultilevel.o
fgseaMultilevel.cpp: In function 'Rcpp::DataFrame fgseaMultilevelCpp(const NumericVector&, const NumericVector&, int, int, int, double, bool)':
fgseaMultilevel.cpp:10:23: warning: comparison between signed and unsigned integer expressions [-Wsign-compare]
     for (int i = 0; i < posRanks.size(); i++) {
                       ^
C:/Rtools/mingw_32/bin/g++  -std=gnu++11 -I"C:/Users/BIOCBU~1/BBS-3~1.10-/R/include" -DNDEBUG  -I"C:/Users/biocbuild/bbs-3.10-bioc/R/library/Rcpp/include" -I"C:/Users/biocbuild/bbs-3.10-bioc/R/library/BH/include"   -I"C:/extsoft/include"     -O2 -Wall  -mtune=core2 -c fgseaMultilevelSupplement.cpp -o fgseaMultilevelSupplement.o
fgseaMultilevelSupplement.cpp: In function 'void fillRandomSample(std::set<int>&, std::mt19937&, long unsigned int, unsigned int)':
fgseaMultilevelSupplement.cpp:31:50: warning: comparison between signed and unsigned integer expressions [-Wsign-compare]
     while (static_cast<int>(randomSample.size()) < pathwaySize) {
                                                  ^
fgseaMultilevelSupplement.cpp: In member function 'void EsRuler::duplicateSamples()':
fgseaMultilevelSupplement.cpp:56:37: warning: comparison between signed and unsigned integer expressions [-Wsign-compare]
     for (int sampleId = 0; sampleId < sampleSize; sampleId++) {
                                     ^
fgseaMultilevelSupplement.cpp:66:41: warning: comparison between signed and unsigned integer expressions [-Wsign-compare]
     for (int sampleId = 0; 2 * sampleId < sampleSize; sampleId++) {
                                         ^
fgseaMultilevelSupplement.cpp:75:41: warning: comparison between signed and unsigned integer expressions [-Wsign-compare]
     for (int sampleId = 0; 2 * sampleId < sampleSize - 2; sampleId++) {
                                         ^
fgseaMultilevelSupplement.cpp: In member function 'void EsRuler::extend(double, int, double)':
fgseaMultilevelSupplement.cpp:89:37: warning: comparison between signed and unsigned integer expressions [-Wsign-compare]
     for (int sampleId = 0; sampleId < sampleSize; sampleId++) {
                                     ^
fgseaMultilevelSupplement.cpp:107:35: warning: comparison between signed and unsigned integer expressions [-Wsign-compare]
         for (int moves = 0; moves < sampleSize * pathwaySize;) {
                                   ^
fgseaMultilevelSupplement.cpp:108:47: warning: comparison between signed and unsigned integer expressions [-Wsign-compare]
             for (int sample_id = 0; sample_id < sampleSize; sample_id++) {
                                               ^
C:/Rtools/mingw_32/bin/gcc  -I"C:/Users/BIOCBU~1/BBS-3~1.10-/R/include" -DNDEBUG  -I"C:/Users/biocbuild/bbs-3.10-bioc/R/library/Rcpp/include" -I"C:/Users/biocbuild/bbs-3.10-bioc/R/library/BH/include"   -I"C:/extsoft/include"     -O3 -Wall  -std=gnu99 -mtune=core2 -c fgsea_init.c -o fgsea_init.o
C:/Rtools/mingw_32/bin/g++ -shared -s -static-libgcc -o fgsea.dll tmp.def RcppExports.o esCalculation.o fastGSEA.o fgseaMultilevel.o fgseaMultilevelSupplement.o fgsea_init.o -LC:/extsoft/lib/i386 -LC:/extsoft/lib -LC:/Users/BIOCBU~1/BBS-3~1.10-/R/bin/i386 -lR
installing to C:/Users/biocbuild/bbs-3.10-bioc/meat/fgsea.buildbin-libdir/00LOCK-fgsea/00new/fgsea/libs/i386
** R
** data
*** moving datasets to lazyload DB
** inst
** byte-compile and prepare package for lazy loading
** help
*** installing help indices
  converting help for package 'fgsea'
    finding HTML links ... done
    calcGseaStat                            html  
    calcGseaStatBatchCpp                    html  
    collapsePathways                        html  
    examplePathways                         html  
    exampleRanks                            html  
    fgsea                                   html  
    fgseaLabel                              html  
    fgseaMultilevel                         html  
    fgseaSimpleImpl                         html  
    gmtPathways                             html  
    multilevelError                         html  
    multilevelImpl                          html  
    plotEnrichment                          html  
    plotGseaTable                           html  
    reactomePathways                        html  
** building package indices
** installing vignettes
** testing if installed package can be loaded from temporary location
** testing if installed package can be loaded from final location
** testing if installed package keeps a record of temporary installation path
install for x64
* installing *source* package 'fgsea' ...
** libs
C:/Rtools/mingw_64/bin/g++  -std=gnu++11 -I"C:/Users/BIOCBU~1/BBS-3~1.10-/R/include" -DNDEBUG  -I"C:/Users/biocbuild/bbs-3.10-bioc/R/library/Rcpp/include" -I"C:/Users/biocbuild/bbs-3.10-bioc/R/library/BH/include"   -I"C:/extsoft/include"     -O2 -Wall  -mtune=core2 -c RcppExports.cpp -o RcppExports.o
C:/Rtools/mingw_64/bin/g++  -std=gnu++11 -I"C:/Users/BIOCBU~1/BBS-3~1.10-/R/include" -DNDEBUG  -I"C:/Users/biocbuild/bbs-3.10-bioc/R/library/Rcpp/include" -I"C:/Users/biocbuild/bbs-3.10-bioc/R/library/BH/include"   -I"C:/extsoft/include"     -O2 -Wall  -mtune=core2 -c esCalculation.cpp -o esCalculation.o
C:/Rtools/mingw_64/bin/g++  -std=gnu++11 -I"C:/Users/BIOCBU~1/BBS-3~1.10-/R/include" -DNDEBUG  -I"C:/Users/biocbuild/bbs-3.10-bioc/R/library/Rcpp/include" -I"C:/Users/biocbuild/bbs-3.10-bioc/R/library/BH/include"   -I"C:/extsoft/include"     -O2 -Wall  -mtune=core2 -c fastGSEA.cpp -o fastGSEA.o
fastGSEA.cpp: In function 'Rcpp::NumericVector calcGseaStatBatchCpp(const NumericVector&, const List&, const IntegerVector&)':
fastGSEA.cpp:444:27: warning: comparison between signed and unsigned integer expressions [-Wsign-compare]
         for (int j = 0; j < S.size(); ++j) {
                           ^
C:/Rtools/mingw_64/bin/g++  -std=gnu++11 -I"C:/Users/BIOCBU~1/BBS-3~1.10-/R/include" -DNDEBUG  -I"C:/Users/biocbuild/bbs-3.10-bioc/R/library/Rcpp/include" -I"C:/Users/biocbuild/bbs-3.10-bioc/R/library/BH/include"   -I"C:/extsoft/include"     -O2 -Wall  -mtune=core2 -c fgseaMultilevel.cpp -o fgseaMultilevel.o
fgseaMultilevel.cpp: In function 'Rcpp::DataFrame fgseaMultilevelCpp(const NumericVector&, const NumericVector&, int, int, int, double, bool)':
fgseaMultilevel.cpp:10:23: warning: comparison between signed and unsigned integer expressions [-Wsign-compare]
     for (int i = 0; i < posRanks.size(); i++) {
                       ^
C:/Rtools/mingw_64/bin/g++  -std=gnu++11 -I"C:/Users/BIOCBU~1/BBS-3~1.10-/R/include" -DNDEBUG  -I"C:/Users/biocbuild/bbs-3.10-bioc/R/library/Rcpp/include" -I"C:/Users/biocbuild/bbs-3.10-bioc/R/library/BH/include"   -I"C:/extsoft/include"     -O2 -Wall  -mtune=core2 -c fgseaMultilevelSupplement.cpp -o fgseaMultilevelSupplement.o
fgseaMultilevelSupplement.cpp: In function 'void fillRandomSample(std::set<int>&, std::mt19937&, long unsigned int, unsigned int)':
fgseaMultilevelSupplement.cpp:31:50: warning: comparison between signed and unsigned integer expressions [-Wsign-compare]
     while (static_cast<int>(randomSample.size()) < pathwaySize) {
                                                  ^
fgseaMultilevelSupplement.cpp: In member function 'void EsRuler::duplicateSamples()':
fgseaMultilevelSupplement.cpp:56:37: warning: comparison between signed and unsigned integer expressions [-Wsign-compare]
     for (int sampleId = 0; sampleId < sampleSize; sampleId++) {
                                     ^
fgseaMultilevelSupplement.cpp:66:41: warning: comparison between signed and unsigned integer expressions [-Wsign-compare]
     for (int sampleId = 0; 2 * sampleId < sampleSize; sampleId++) {
                                         ^
fgseaMultilevelSupplement.cpp:75:41: warning: comparison between signed and unsigned integer expressions [-Wsign-compare]
     for (int sampleId = 0; 2 * sampleId < sampleSize - 2; sampleId++) {
                                         ^
fgseaMultilevelSupplement.cpp: In member function 'void EsRuler::extend(double, int, double)':
fgseaMultilevelSupplement.cpp:89:37: warning: comparison between signed and unsigned integer expressions [-Wsign-compare]
     for (int sampleId = 0; sampleId < sampleSize; sampleId++) {
                                     ^
fgseaMultilevelSupplement.cpp:107:35: warning: comparison between signed and unsigned integer expressions [-Wsign-compare]
         for (int moves = 0; moves < sampleSize * pathwaySize;) {
                                   ^
fgseaMultilevelSupplement.cpp:108:47: warning: comparison between signed and unsigned integer expressions [-Wsign-compare]
             for (int sample_id = 0; sample_id < sampleSize; sample_id++) {
                                               ^
C:/Rtools/mingw_64/bin/gcc  -I"C:/Users/BIOCBU~1/BBS-3~1.10-/R/include" -DNDEBUG  -I"C:/Users/biocbuild/bbs-3.10-bioc/R/library/Rcpp/include" -I"C:/Users/biocbuild/bbs-3.10-bioc/R/library/BH/include"   -I"C:/extsoft/include"     -O2 -Wall  -std=gnu99 -mtune=core2 -c fgsea_init.c -o fgsea_init.o
C:/Rtools/mingw_64/bin/g++ -shared -s -static-libgcc -o fgsea.dll tmp.def RcppExports.o esCalculation.o fastGSEA.o fgseaMultilevel.o fgseaMultilevelSupplement.o fgsea_init.o -LC:/extsoft/lib/x64 -LC:/extsoft/lib -LC:/Users/BIOCBU~1/BBS-3~1.10-/R/bin/x64 -lR
installing to C:/Users/biocbuild/bbs-3.10-bioc/meat/fgsea.buildbin-libdir/fgsea/libs/x64
** testing if installed package can be loaded
* MD5 sums
packaged installation of 'fgsea' as fgsea_1.12.0.zip
* DONE (fgsea)
* installing to library 'C:/Users/biocbuild/bbs-3.10-bioc/R/library'
package 'fgsea' successfully unpacked and MD5 sums checked